BEGIN:VCALENDAR
VERSION:2.0
PRODID:-//https://techplay.jp//JP
CALSCALE:GREGORIAN
METHOD:PUBLISH
X-WR-CALDESC:【人材育成担当者向け】デジタルマーケティ
 ング人材育成の3つのステップを解説！無料セミナー
X-WR-CALNAME:【人材育成担当者向け】デジタルマーケティ
 ング人材育成の3つのステップを解説！無料セミナー
X-WR-TIMEZONE:Asia/Tokyo
BEGIN:VTIMEZONE
TZID:Asia/Tokyo
BEGIN:STANDARD
DTSTART:19700101T000000
TZOFFSETFROM:+0900
TZOFFSETTO:+0900
TZNAME:JST
END:STANDARD
END:VTIMEZONE
BEGIN:VEVENT
UID:827275@techplay.jp
SUMMARY:【人材育成担当者向け】デジタルマーケティング
 人材育成の3つのステップを解説！無料セミナー
DTSTART;TZID=Asia/Tokyo:20210826T120000
DTEND;TZID=Asia/Tokyo:20210826T130000
DTSTAMP:20260422T205307Z
CREATED:20210806T051937Z
DESCRIPTION:イベント詳細はこちら\nhttps://techplay.jp/event/82727
 5?utm_medium=referral&utm_source=ics&utm_campaign=ics\n\n【人材育成
 担当者向け】デジタルマーケティング人材育成の3つの
 ステップを解説！　\n\n【概要】\n今回は企業の人材育
 成担当者向けに、、弊社DMUが行った消費財メーカー様
 の企業研修の事例を踏まえながらマーケティング人材
 育成について解説いたします。\n人事担当者様・教育
 担当者様は必見の内容となっておりますので是非ご参
 加くださいませ。※メーカーの担当者様は特に参考に
 なる内容かと思われます！\n【内容】\n今回は事例とし
 て大手消費財メーカー様で行った研修内容をあげて、
 解説していきます。\n消費財メーカーは、「小売向け
 の打ちての変化」「消費者ニーズの急激な変化」「競
 合の台頭」等、かつてないほどの不確実性に直面して
 います。そのため、多くの消費財メーカーでは戦略の
 見直しと人材育成が急務となっておりますが、ほとん
 どの企業で取り組みが停滞しています。\n大手消費財
 メーカー様の人材育成支援をはじめとして、多くのデ
 ジタルマーケティング人税育成支援をしてまいりまし
 た豊富な知見や経験から、「柔軟で強い」マーケティ
 ング人材育成の取り組みを進めるためのポイントや成
 功のコツをお話いたします。\n【日時】\n日時：2021年8
 月26日（木）12:00〜13:00\n【参加対象】\n・企業の人材育
 成担当者様\n・デジタルマーケティング人材育成につ
 いて検討している責任者様\n・大手メーカーの人材育
 成担当者で、他社のデジタルマーケティング人材育成
 について事例を知りたい方\n※ リクルーティング、勧
 誘など、採用目的でのイベント参加はお断りしており
 ます。※ 同業他社のご参加はご遠慮ください。\n【参
 加費】\n無料\n【注意事項】\n※ 参加を辞退する場合は
 、詳細ページより申込のキャンセルをお願い致します
 。※ 無断キャンセル・欠席が続く場合、次回以降の参
 加をお断りさせていただく場合がございますのでご了
 承ください。
LOCATION:オンライン
URL:https://techplay.jp/event/827275?utm_medium=referral&utm_source=ics&utm
 _campaign=ics
END:VEVENT
END:VCALENDAR
