BEGIN:VCALENDAR
VERSION:2.0
PRODID:-//https://techplay.jp//JP
CALSCALE:GREGORIAN
METHOD:PUBLISH
X-WR-CALDESC:ペパボエンジニアとメンターが語る、「エン
 ジニアとして働くということ」
X-WR-CALNAME:ペパボエンジニアとメンターが語る、「エン
 ジニアとして働くということ」
X-WR-TIMEZONE:Asia/Tokyo
BEGIN:VTIMEZONE
TZID:Asia/Tokyo
BEGIN:STANDARD
DTSTART:19700101T000000
TZOFFSETFROM:+0900
TZOFFSETTO:+0900
TZNAME:JST
END:STANDARD
END:VTIMEZONE
BEGIN:VEVENT
UID:827629@techplay.jp
SUMMARY:ペパボエンジニアとメンターが語る、「エンジニ
 アとして働くということ」
DTSTART;TZID=Asia/Tokyo:20210826T190000
DTEND;TZID=Asia/Tokyo:20210826T210000
DTSTAMP:20260423T164429Z
CREATED:20210810T061812Z
DESCRIPTION:イベント詳細はこちら\nhttps://techplay.jp/event/82762
 9?utm_medium=referral&utm_source=ics&utm_campaign=ics\n\nZoom視聴URL\nh
 ttps://pepabo.zoom.us/webinar/register/WN_mefb4e_rRJa2lSr9PZ8zUw\n概要\
 nGMOペパボについて\nGMOペパボ株式会社は、「もっとお
 もしろくできる」という企業理念を掲げ、「インター
 ネットで可能性をつなげる、ひろげる」というミッシ
 ョンのもと、レンタルサーバー「ロリポップ！」やネ
 ットショップ作成サービス「カラーミーショップ」、
 国内最大のハンドメイドマーケット「minne」、オリジ
 ナルグッズ作成・販売サービス「SUZURI」など、個人か
 ら法人まで幅広い層に向けたインターネットサービス
 を多数提供しています。場所や時間、背景にとらわれ
 ず、多くの人がインターネットで可能性を開花し、活
 躍できる環境の創造を目指しています。\n今回のイベ
 ント\n今回のイベントでは、これからエンジニアを目
 指している皆さんや、エンジニアとして働き始めた方
 などを対象に、異業種や未経験からペパボのエンジニ
 アになったメンバーと、育成に携わるメンターが登壇
 します。\nエンジニアメンバーは、エンジニアとして
 就活・転職秘話や、実際にエンジニアとして働き始め
 た後の話をお話させていただきます。\nまたメンター
 パートについては弊社エンジニアの他にも、研修付き
 採用「ペパボカレッジ」でも利用しているフィヨルド
 ブートキャンプを運営する、株式会社フィヨルドの駒
 形さまにもスペシャルゲストとして登壇していただき
 ます。\n皆様のご参加お待ちしております。\n日時\n2021
 年8月26日（木）19:00～21:00\n場所\nオンライン（Zoom）\n
 タイムスケジュール\n\n\n\n時間\n内容\n登壇者\n\n\n\n\n19:
 00\nオープニング\n\n\n\n19:05\n理学療法士としてrails newし
 たあの頃\n@k2_yoshikouki\n\n\n19:15\n異業種からエンジニア
 になった僕が憧れの会社に飛び込むまで\n@r_nakamine\n\n\n
 19:25\n学んだことに自信が持てなくて転職活動を始めら
 れなかった私の転職秘話\n@mochi5o_maki\n\n\n19:35\n一歩踏み
 出す\n@UsaMomokawa\n\n\n19:45\nSIerから転職してきて良かった
 こと・大変だったこと\n@takapi86\n\n\n19:55\n休憩\n-\n\n\n20:0
 0\nSpecial talk\n@komagata /株式会社フィヨルド\n\n\n20:20\n「
 いるだけで成長できる環境」とはどんな場所か？\n@june
 29\n\n\n20:40\nエンディング\n\n\n\n20:45\n質疑応答・相談会
 ※任意参加\n\n\n\n\n※発表順については変動の可能性が
 あります。\n発表者\n吉本 康貴\nコロナ禍真っ只中の202
 0年6月にGMOペパボへ入社、理学療法士からWebエンジニ
 アへ未経験転職する。入社日前日には第一子の愛娘が
 爆誕。娘の年齢=エンジニア経験年数。CTO室 鹿児島エ
 ンジニアリングチーム所属。\nTwitter: @k2_yoshikouki\nGitHub:
  @yoshikouki\n仲嶺 良\nWeb制作、サーターアンダギー屋さ
 ん等さまざまな業種を経てエンジニアに転職。\nSierや
 飲食店向けのスタートアップで働いた後、2021年7月ペ
 パボに入社。\n現在は技術部プラットフォームグルー
 プに所属し、主にSREとしてカラーミーショップの運用
 に携わっている。\nTwitter: @r_nakamine\nGitHub: @rnakamine\n望
 月 眞喜\n小売業界・販売→医療法人・広報→船舶代理
 店・貿易事務といろんな業界や職種を経て2019年11月ペ
 パボにエンジニアとして未経験で入社。\nエンジニア
 転職のきっかけは広報時代にWeb制作に興味を持ってプ
 ログラミングスクールに通ったことから。\nペパボに
 興味を持ったのはDAIMYOエンジニアカレッジでペパボの
 エンジニアさん達と接して憧れたから。\n現在ホステ
 ィング事業部CRチームでロリポップ！などのお問い合
 わせ調査や業務改善を行っている。\nTwitter: @mochi5o_maki\
 n小松 ももか\n2018年8月、大学在学中にフィヨルドブー
 トキャンプと出会い、2020年4月にペパボへ新卒入社。\n
 技術部コーポレートエンジニアリンググループに所属
 。\nTwitter: @UsaMomokawa \n髙橋 雄紀\nEC事業部ECグループDX
 チーム エンジニアリングリード\n公共事業を手がける
 メーカー系SIerを経て2016年10月にGMOペパボへ第一期ペパ
 カレ生として入社。\n現在はEC事業部のセキュリティ、
 レガシー環境の改善を担当しています。\nTwitter: @takapi8
 6\n大和田 純\nminne事業部シニアエンジニアリングリー
 ド。2015年6月入社にWebアプリケーション開発者として
 入社し、現在はエンジニアリング・マネージメント領
 域を担当している。趣味の活動として「おつかれシャ
 ワー」「キマグレエフエム」で動画や音声を継続的に
 配信中。\nScrapbox: https://scrapbox.io/june29/\nSpecial Guest: 株
 式会社フィヨルド\nフィヨルドブートキャンプは、プ
 ログラマーとして就職を目指せるだけのスキルを身に
 つけることを目標としたオンラインプログラミングス
 クールです。就職を目指せるスキルを弊社では「現場
 の人間にとって、戦力になるプログラマー」としてい
 ます。具体的には、一人でWebサービスを作ることをゴ
 ールとした課題をやるのですが、それだけでなくチー
 ム開発も経験できます。\n駒形 真幸\n株式会社フィヨ
 ルドの代表兼プログラマー。Rubyが大好きで怖話、フィ
 ヨルドブートキャンプなどを開発している。\nTwitter: @k
 omagata\nGitHub: @komagata\n【特典】抽選でRubyKaigi Takeout 2021
 のチケットを差し上げます\nGMOペパボでは、RubyやRails
 を採用した開発環境で「いるだけで成長できる環境」
 をコンセプトに、エンジニアの人材育成、勉強会の参
 加・開催支援、コミュニティへの支援等を積極的に行
 っています。今回の「RubyKaigi Takeout 2021」でもVideo Sponso
 rをさせていただき、弊社の @hsbt、 @udzura も登壇予定で
 す。\nイベントに参加いただいた方にも「いるだけで
 成長できる環境」を感じていただきたく、アンケート
 に回答いただいた方に抽選で9月9日〜11日に行われる「
 RubyKaigi Takeout 2021」のチケットを抽選で差し上げます。
 \nこんな方におすすめです\n\nこれからエンジニアとし
 て働きたい方\n学生の方も大歓迎です！\n異業種やSIer
 出身、第二新卒としてWebエンジニアの転職活動をされ
 ている方\nGMOペパボやペパボカレッジに興味ある方\nエ
 ンジニアの育成担当の方\n\nエンジニア採用目的フェス
 を開催しています\n現在ペパボでは、エンジニア採用
 目的フェスを開催しております。\nこちらのイベント
 の他にも Twitter Spaces でのトークや、座談会など開催し
 ております。ぜひ他イベントにもご参加ください！\n
 この夏、エンジニア #採用目的フェス を開催します!! |
  ペパボテックブログ\nまた、ペパボのWebエンジニアと
 ざっくばらんにお話したい人向けに、座談会「PEPA Talk
 」を開催しております！\nこちらもぜひお申し込みく
 ださい！\n\n9/2(木) PEPA Talk (Webアプリ)\n9/27(月)PEPA Talk (
 モバイル)\n9/30(木) PEPA Talk (Webアプリ)\n\nお知らせ・注
 意事項\n\n今後も定期的に勉強会やイベントを開催しま
 す。今回参加ができなかった方は、ぜひconnpassページ
 より、GMOペパボのグループのメンバーになると、技術
 イベントの開催情報をいち早く知ることができます。\
 n個人情報については、当社プライバシーポリシーに基
 づき、適正に取り扱いを致します。\n
LOCATION:オンライン
URL:https://techplay.jp/event/827629?utm_medium=referral&utm_source=ics&utm
 _campaign=ics
END:VEVENT
END:VCALENDAR
