BEGIN:VCALENDAR
VERSION:2.0
PRODID:-//https://techplay.jp//JP
CALSCALE:GREGORIAN
METHOD:PUBLISH
X-WR-CALDESC:【日本電子様 事例セミナー】フリーツールとT
 estRailを利用して見えたテスト管理のベストプラクティ
 ス！ 世界最高クラスの理化学機器開発を支えるテスト
 技術をご紹介(オンライン)
X-WR-CALNAME:【日本電子様 事例セミナー】フリーツールとT
 estRailを利用して見えたテスト管理のベストプラクティ
 ス！ 世界最高クラスの理化学機器開発を支えるテスト
 技術をご紹介(オンライン)
X-WR-TIMEZONE:Asia/Tokyo
BEGIN:VTIMEZONE
TZID:Asia/Tokyo
BEGIN:STANDARD
DTSTART:19700101T000000
TZOFFSETFROM:+0900
TZOFFSETTO:+0900
TZNAME:JST
END:STANDARD
END:VTIMEZONE
BEGIN:VEVENT
UID:827829@techplay.jp
SUMMARY:【日本電子様 事例セミナー】フリーツールとTestRa
 ilを利用して見えたテスト管理のベストプラクティス
 ！ 世界最高クラスの理化学機器開発を支えるテスト技
 術をご紹介(オンライン)
DTSTART;TZID=Asia/Tokyo:20210910T140000
DTEND;TZID=Asia/Tokyo:20210910T160000
DTSTAMP:20260420T185310Z
CREATED:20210812T053040Z
DESCRIPTION:イベント詳細はこちら\nhttps://techplay.jp/event/82782
 9?utm_medium=referral&utm_source=ics&utm_campaign=ics\n\n【日本電子
 様 事例セミナー】フリーツールとTestRailを利用して見
 えたテスト管理のベストプラクティス！ 世界最高クラ
 スの理化学機器開発を支えるテスト技術をご紹介(オン
 ライン)| テクマトリックス株式会社\n⇒セミナーの申
 し込みは、主催者のサイトから申し込みとなります。 
 こちらクリック\n概要\nリモートワークでの開発やテス
 トが続く昨今、「テスト管理に着目」した対策を講じ
 、テスト活動の生産性を向上させませんか？\nこのた
 び、日本電子株式会社において、ソフトウェアの開発
 ・設計分野で多くの実績を残しておられる中村 奈津子
 氏に、システムテストにおけるテスト管理ツールの選
 定について、TestRailを利用したテスト管理に変更する
 に至った経緯をご講演いただくことになりました。\n
 日本電子株式会社は、高い技術を有する機器メーカー
 として知られていますが、機器の制御やデータの取得
 ・分析のためのソフトウェアを多数開発しています。
 精密機器の制御ソフトウェアの品質を維持するため、
 リリース前に膨大なテストを実施されており、テスト
 管理について豊富なノウハウを蓄積されています。ご
 講演いただく中村氏は、それまでのテスト管理の課題
 を解消するため、ツール選定から環境構築、導入、運
 用に主要メンバーとしてかかわり成功に導かれました
 。本講演では、他製品との比較を含め、なぜTestRailを
 選択されたのか、詳しくお話しいただきます。テクマ
 トリックスからは、まもなくリリースされるTestRailの
 最新バージョンをデモンストレーションを交えて紹介
 します。\nExcelやフリーツールでテスト管理が不便とお
 感じの方はもちろん、テスト活動の生産性を向上させ
 たい方にも、大変参考になるテーマかと存じます。ど
 うぞふるってお申込みください。\n※ 内容は、変更す
 る場合がございます。あらかじめご了承ください。\n\n
 会場\n\nZoomを利用したWEBセミナーとなります。\n\n\nア
 ジェンダ\n1. テスト管理ツール「TestRail」の概要紹介\n2
 . [事例] 世界最高クラスの理化学機器開発を支えるテ
 スト技術\n3. 最新版TestRailのデモンストレーション\n4. 
 テクマトリックスが提供するテストサービスのご紹介\
 n\n\n受講料\n\n無料\n\nお問い合わせ\n\nテクマトリック
 ス株式会社　ソフトウェアエンジニアリング事業部\n\n
 「TestRail」公式サイト
LOCATION:WEBセミナー
URL:https://techplay.jp/event/827829?utm_medium=referral&utm_source=ics&utm
 _campaign=ics
END:VEVENT
END:VCALENDAR
