BEGIN:VCALENDAR
VERSION:2.0
PRODID:-//https://techplay.jp//JP
CALSCALE:GREGORIAN
METHOD:PUBLISH
X-WR-CALDESC:【営業・マーケター向けPIM入門セミナー】営
 業・マーケティングの成果につながるPIM活用の基本を
 わかりやすく解説
X-WR-CALNAME:【営業・マーケター向けPIM入門セミナー】営
 業・マーケティングの成果につながるPIM活用の基本を
 わかりやすく解説
X-WR-TIMEZONE:Asia/Tokyo
BEGIN:VTIMEZONE
TZID:Asia/Tokyo
BEGIN:STANDARD
DTSTART:19700101T000000
TZOFFSETFROM:+0900
TZOFFSETTO:+0900
TZNAME:JST
END:STANDARD
END:VTIMEZONE
BEGIN:VEVENT
UID:828458@techplay.jp
SUMMARY:【営業・マーケター向けPIM入門セミナー】営業・
 マーケティングの成果につながるPIM活用の基本をわか
 りやすく解説
DTSTART;TZID=Asia/Tokyo:20210907T140000
DTEND;TZID=Asia/Tokyo:20210907T143000
DTSTAMP:20260424T183349Z
CREATED:20210818T105559Z
DESCRIPTION:イベント詳細はこちら\nhttps://techplay.jp/event/82845
 8?utm_medium=referral&utm_source=ics&utm_campaign=ics\n\n【営業・マ
 ーケター向けPIM入門セミナー】営業・マーケティング
 の成果につながるPIM活用の基本をわかりやすく解説\n
 ●概要\n増え続ける販売チャネル、営業やマーケティ
 ングのニーズに応えるために、膨大な商品データ、関
 連するマーケティングアセットを統合的に管理し、デ
 ジタル接点で優れた体験をお届けする上で不可欠なソ
 リューションとしてPIMソリューションが注目を集めて
 います。\n本セミナーでは、PIM（商品情報管理）ソリ
 ューションについて、イラストなどを使って、初めて
 の方もご理解いただけるよう解説します。マーケティ
 ングデータの効率的な管理、活用に課題を抱える方は
 、ぜひお気軽にご参加ください。\n※質疑応答の時間
 を設けていません。ご質問等がある方は、お問い合わ
 せ、または担当者とオンラインミーティングを設定い
 ただけます。\n●プログラム\n★ゼロからわかる「PIM」
 - PIMとは何か？・なぜPIMが必要とされているのか・PIM
 がフィットする組織の特徴・どの部門がPIMを使うのか
 ？・PIMのポジション\n★Contentserv PIMの概要・PIMとDAM（
 デジタルアセット管理）を1つのプラットフォームで提
 供・商品データの収集・コラボレーション・連携機能\
 n★Contentserv PIMの活用事例・チャイルドシートのMaxiCosi
 で知られるDorel社の事例・導入効果・PIM導入・活用に
 おけるおすすめロードマップ\n●こんな方におすすめ
 ・営業・マーケティング活動においてコンテンツや資
 料の管理が非効率的だが、具体的に何をしたらいいの
 か分からない・PIMという言葉を聞いたことがあるが、
 詳しく分からない・社内の商品データを統合して、一
 元管理、活用したい\n●開催概要・日時：2021年9月7日(
 火) 14:00 – 14:30・配信形式：GotoWebinarによる動画配信※
 当日の質問は受け付けておりません。予めご了承くだ
 さい。・費用：無料・申込方法：申込フォームを登録
 後、Contentserv Webinar より視聴URLを連絡します。\n●登壇
 者大友 寿宜株式会社Contentserv　セールス＆ビジネスデ
 ベロップメントマネジャー\n外資系メーカーにてイン
 サイドセールスマネージャー、オペレーションマネー
 ジャーを経験。アジア太平洋地域のセールス・イネー
 ブルメントとデータマネジメントプロジェクトに従事
 したのち、Contentservに入社、インサイドセールス・ビ
 ジネスデベロップメントを担当している。\n●参加費
 無料\n●ハッシュタグ#techplayjp注意事項※ リクルーテ
 ィング、勧誘など、採用目的でのイベント参加はお断
 りしております。※ キャンセル待ち・補欠・落選の方
 はご参加いただくことが出来ませんのでご了承くださ
 い。※ 参加を辞退する場合は、詳細ページより申込の
 キャンセルをお願い致します。※ 無断キャンセル・欠
 席が続く場合、次回以降の参加をお断りさせていただ
 く場合がございますのでご了承ください。
LOCATION:オンライン
URL:https://techplay.jp/event/828458?utm_medium=referral&utm_source=ics&utm
 _campaign=ics
END:VEVENT
END:VCALENDAR
