BEGIN:VCALENDAR
VERSION:2.0
PRODID:-//https://techplay.jp//JP
CALSCALE:GREGORIAN
METHOD:PUBLISH
X-WR-CALDESC:【9/9ウェビナー】データは会社の財産！~AI活
 用でデータの価値を倍増するための事例紹介~
X-WR-CALNAME:【9/9ウェビナー】データは会社の財産！~AI活
 用でデータの価値を倍増するための事例紹介~
X-WR-TIMEZONE:Asia/Tokyo
BEGIN:VTIMEZONE
TZID:Asia/Tokyo
BEGIN:STANDARD
DTSTART:19700101T000000
TZOFFSETFROM:+0900
TZOFFSETTO:+0900
TZNAME:JST
END:STANDARD
END:VTIMEZONE
BEGIN:VEVENT
UID:828622@techplay.jp
SUMMARY:【9/9ウェビナー】データは会社の財産！~AI活用で
 データの価値を倍増するための事例紹介~
DTSTART;TZID=Asia/Tokyo:20210909T160000
DTEND;TZID=Asia/Tokyo:20210909T180000
DTSTAMP:20260420T123504Z
CREATED:20210820T021342Z
DESCRIPTION:イベント詳細はこちら\nhttps://techplay.jp/event/82862
 2?utm_medium=referral&utm_source=ics&utm_campaign=ics\n\n【9/9ウェビ
 ナー】データは会社の財産！~AI活用でデータの価値を
 倍増するための事例紹介~\nAIポータルメディアAIsmileyは
 、9月9日(木)16時から、データは会社の財産！AI活用で
 データの価値を倍増するための事例紹介をテーマにウ
 ェビナーを開催いたします。\n昨今、AIによるデータ分
 析やデータ解析は、マーケティングから小売や流通、
 製造など様々なビジネスシーンで活用されています。\
 n今回のウェビナーでは、データ活用・分析に強みを持
 つAI企業3社がデータを有効に活用する上での勘所やデ
 ータを活用することで出来るビジネス事例をご紹介い
 たします。社内データを活かすためにもぜひご参加く
 ださい！\nウェビナー概要\n「データは会社の財産！~AI
 活用でデータの価値を倍増するための事例紹介~」1．
 株式会社トライエッティング2．株式会社APTO3．株式会
 社 DataCurrent\n・主催：株式会社アイスマイリー・日程
 ：9月9日（木）16:00～17:30・場所：ウェビナー専用のZoom
 URL　＊申し込みいただいた方にZoomURLをお送りいたしま
 す。・費用：無料・特典：ご希望の「選べるAI資料」
 をプレゼントします！・申込締切：9月9日（木）15:00ま
 で\n登壇者\n■株式会社トライエッティング代表取締役
 社長 CEO 兼 CRO   長江祐樹 氏\n■株式会社APTO代表取締
 役CEO    高品 良 氏\n■株式会社 DataCurrentデータサイエ
 ンスエンジニア　岩浅 祥平 氏\n■ファシリテーター　
 株式会社アイスマイリー 　山田　瞳\n参加対象\n\n社内
 データを元に成果に繋がる予測を行いたい方\nマーケ
 ティング、販促、小売り、流通、製造などの分野で積
 極的にデータ活用を行いたい方\nLTVの高い顧客を獲得
 したい方\nデータ活用のためAI教師データの作り方を知
 りたい方\n社内のデータで何かビジネスを起こせない
 か考えている方\nDX推進を検討されている方\n\n参加費\n
 無料\n注意事項\n\nお申込みは1名様毎にお願いいたしま
 す。一度のお申込みで複数名のご参加はできませんの
 でご了承ください。\n事業が競合する企業様、または
 個人事業主の方のお申込みについては、ご参加をお断
 りさせて頂く場合がございます。予めご了承ください
 。\n
LOCATION:オンライン
URL:https://techplay.jp/event/828622?utm_medium=referral&utm_source=ics&utm
 _campaign=ics
END:VEVENT
END:VCALENDAR
