BEGIN:VCALENDAR
VERSION:2.0
PRODID:-//https://techplay.jp//JP
CALSCALE:GREGORIAN
METHOD:PUBLISH
X-WR-CALDESC:【コスモ女子イベント】サラリーマンも宇宙
 旅行に！世界初の宇宙旅行者100人に選ばれた稲波紀明
 氏と語ろう♪
X-WR-CALNAME:【コスモ女子イベント】サラリーマンも宇宙
 旅行に！世界初の宇宙旅行者100人に選ばれた稲波紀明
 氏と語ろう♪
X-WR-TIMEZONE:Asia/Tokyo
BEGIN:VTIMEZONE
TZID:Asia/Tokyo
BEGIN:STANDARD
DTSTART:19700101T000000
TZOFFSETFROM:+0900
TZOFFSETTO:+0900
TZNAME:JST
END:STANDARD
END:VTIMEZONE
BEGIN:VEVENT
UID:828820@techplay.jp
SUMMARY:【コスモ女子イベント】サラリーマンも宇宙旅行
 に！世界初の宇宙旅行者100人に選ばれた稲波紀明氏と
 語ろう♪
DTSTART;TZID=Asia/Tokyo:20210927T200000
DTEND;TZID=Asia/Tokyo:20210927T210000
DTSTAMP:20260421T044918Z
CREATED:20210822T070655Z
DESCRIPTION:イベント詳細はこちら\nhttps://techplay.jp/event/82882
 0?utm_medium=referral&utm_source=ics&utm_campaign=ics\n\n【コスモ女
 子イベント】サラリーマンも宇宙旅行に！世界初の宇
 宙旅行者100人に選ばれた稲波紀明氏と語ろう♪\n概要\n
 「宇宙を体験する」ことは宇宙飛行士だけのものでは
 なくなってきています。\nAmazonの創業者ジェフ・ベゾ
 ス氏が、自身が保有する宇宙開発企業「ブルー・オリ
 ジン」が開発したロケットに搭乗し、同社初の有人飛
 行に成功したのが2021年7月20日。\nそれに先立ち2021年7
 月11日に創業者のリチャード・ブランソン氏らを乗せ
 た有人飛行を成功させたのがヴァージン・ギャラクテ
 ィック社です。\nヴァージン・ギャラクティック社は
 世界に先駆けて2005年に宇宙旅行の販売をスタートさせ
 ました。宇宙旅行の販売と同時に申し込み、世界初の
 宇宙旅行者100人（ファウンダー）に選ばれた、稲波 紀
 明氏を講師にお迎えします。\n当時28歳という世界のフ
 ァウンダーの中で最年少であり、唯一のサラリーマン
 だった稲波氏。まだまだ宇宙旅行が想像もできなかっ
 た時代に、宇宙旅行に申し込んだきっかけや今までの
 心境、訓練の様子、選ばれてからの変化、今後の展望
 などたっぷりとお話しいただきます。\n宇宙旅行をよ
 り身近に感じ、宇宙旅行をするには？がより明確にな
 ること間違いなし！\nぜひ、ふるってご参加ください
 。\nタイムスケジュール\n19:55 Zoom入室開始20:00 イベン
 ト開始20:40 質疑応答　20:50 記念写真撮影　21:00 イベ
 ント終了\n登壇者\n\n稲波 紀明\n株式会社 船井総合研究
 所\n超大手国内コンサル企業【船井総研】のシニアプ
 ロフェッショナル。\n士業、飲食業、製造業のコンサ
 ルティングに従事。\n現在は宇宙ビジネスコンサルタ
 ントとして、マーケティング、業績アップを行ってい
 る。\n2005年にヴァージン・ギャラクティック社の宇宙
 旅行に申し込み20万ドル支払い、世界で最初の宇宙旅
 行者100人に選ばれる。\n\n\nこんな方にオススメ\n\n宇宙
 旅行に興味がある方\n宇宙ビジネスに興味がある方\n宇
 宙はちょっと遠い世界だと感じている方\nなんとなく
 宇宙に興味のある方（初心者大歓迎！）\n旅行が好き
 な方\n宇宙好きの女性との繋がりが欲しい方 \n\n参加
 費\n一般：1000円コスモ女子サポート会員：無料コスモ
 女子会員（通常・学生・親子）：無料\nハッシュタグ\n
 #techplayjp 　#コスモ女子　 #コスモ女子イベント 　#コ
 スモ女子勉強会 　#宇宙　 #人工衛星　 #宇宙旅行　 
 #世界初\n注意事項\n\n本講演はオンラインでのライブ配
 信となります。\nZoomでの配信を行いますので、Zoomアプ
 リのインストールと無料登録をお願い致します。\nZoom
 入場時にご本人様確認をするために、必ずチケット購
 入時と同じ名前でログインください。\nチケットをご
 購入いただいた後に視聴用のURLをお送り致します。\n
 キャンセルによるチケットの返金は応じかねますので
 、あらかじめご了承下さい。\n\n\nコスモ女子について\
 n「宇宙を身近な存在に」をテーマに発足した女性コミ
 ュニティ。宇宙に関する専門的な勉強会から、宇宙が
 ちょっぴり気になる初心者でも楽しめるイベントなど
 を定期的に開催しております。宇宙に興味のある女性
 のキャリア形成、ビジョン実現を応援し、たくさんの
 女性が宇宙業界で活躍できる場を増やすことを目指し
 ています。世界初の女性中心のチームで人工衛星を打
 ち上げるプロジェクトも進行中です。※2022年度打ち上
 げ予定\n◆ご相談・ご質問などはこちらから！　コス
 モ女子公式LINE\n◆コスモ女子公式SNS　Instagram　Twitter　
 Facebook
LOCATION:オンライン
URL:https://techplay.jp/event/828820?utm_medium=referral&utm_source=ics&utm
 _campaign=ics
END:VEVENT
END:VCALENDAR
