BEGIN:VCALENDAR
VERSION:2.0
PRODID:-//https://techplay.jp//JP
CALSCALE:GREGORIAN
METHOD:PUBLISH
X-WR-CALDESC:Java開発での静的解析運用のコツ！ - 意外とつ
 まずく3つの課題とその解決
X-WR-CALNAME:Java開発での静的解析運用のコツ！ - 意外とつ
 まずく3つの課題とその解決
X-WR-TIMEZONE:Asia/Tokyo
BEGIN:VTIMEZONE
TZID:Asia/Tokyo
BEGIN:STANDARD
DTSTART:19700101T000000
TZOFFSETFROM:+0900
TZOFFSETTO:+0900
TZNAME:JST
END:STANDARD
END:VTIMEZONE
BEGIN:VEVENT
UID:829140@techplay.jp
SUMMARY:Java開発での静的解析運用のコツ！ - 意外とつまず
 く3つの課題とその解決
DTSTART;TZID=Asia/Tokyo:20210901T170000
DTEND;TZID=Asia/Tokyo:20210901T180000
DTSTAMP:20260420T143753Z
CREATED:20210825T081102Z
DESCRIPTION:イベント詳細はこちら\nhttps://techplay.jp/event/82914
 0?utm_medium=referral&utm_source=ics&utm_campaign=ics\n\nSpotBugsやSonar
 Qube、CheckStyleなどJava対応の静的解析ツールは数多くあ
 ります。静的解析は面倒な準備が必要なく、実行する
 だけで結果が出てくるため、手軽に導入することがで
 きます。その一方で、運用に苦労している、運用に乗
 らなかったという話も聞こえてきます。\nなぜ、静的
 解析ツールの運用に失敗するのでしょう？たとえば、
 こんな失敗の経験はないでしょうか？\n\n思ったほどバ
 グが検出されない\nエラーが多すぎて見る気がしない\n
 使っているけど、エラーが修正されない\n\n本セミナー
 ではよくある静的解析運用の失敗例を元に、OSSツール
 などでも汎用的に使える静的解析ツール運用のコツを
 ご紹介します。さらに、進化を続ける静的解析の最前
 線、AIを使って開発者の負担を減らすJtestをご紹介しま
 す。\n開催概要\n主催テクマトリックス株式会社開催日
 程2021年9月1日(火) 17:00 ～ 18:00アジェンダ1 . 静的解析と
 は？2 . 静的解析運用の課題・課題1. 期待するバグが検
 出されない・課題2. 静的解析の違反が大量に検出され
 る・課題3. 実行しているだけで誰も修正しない3 . まと
 め4．Q&A\n※ 当日予告なく内容が変更になる可能性がご
 ざいます。 会場本セミナーでは、Zoom Video Communications
 社のZoomを使用したWEBセミナーです。WEBブラウザーより
 簡単にセミナーへご参加いただけます。\n参加方法１
 ．お申し込み後、Zoom参加用のURLをご登録いただいたメ
 ール宛に送付いたします。２．参加用URLへアクセスし
 、Zoomへご登録ください。３．ご登録後、Zoomから登録
 完了通知メール（Webinarへの参加方法）が届きます。４
 ．セミナー当日に、登録完了通知メールに記載されて
 いる「ここをクリックして参加」URLからご参加くださ
 い。 想定受講者・静的解析ツールの導入を考えてい
 る方・静的解析ツールの運用がうまくいかなかった経
 験のある方・静的解析の課題に心当たりのある方・Jtes
 t の導入をご検討の方\nお問い合わせ\n\nテクマトリッ
 クス株式会社　ソフトウェアエンジニアリング事業部\
 n\n「Jtest」公式サイト\nJavaは、Oracle Corporation 及びその
 子会社，関連会社の米国 及びその他の国における登録
 商標または商標です。
LOCATION:オンラインセミナー
URL:https://techplay.jp/event/829140?utm_medium=referral&utm_source=ics&utm
 _campaign=ics
END:VEVENT
END:VCALENDAR
