BEGIN:VCALENDAR
VERSION:2.0
PRODID:-//https://techplay.jp//JP
CALSCALE:GREGORIAN
METHOD:PUBLISH
X-WR-CALDESC:はじめての海外WEBマーケティング講座
X-WR-CALNAME:はじめての海外WEBマーケティング講座
X-WR-TIMEZONE:Asia/Tokyo
BEGIN:VTIMEZONE
TZID:Asia/Tokyo
BEGIN:STANDARD
DTSTART:19700101T000000
TZOFFSETFROM:+0900
TZOFFSETTO:+0900
TZNAME:JST
END:STANDARD
END:VTIMEZONE
BEGIN:VEVENT
UID:829566@techplay.jp
SUMMARY:はじめての海外WEBマーケティング講座
DTSTART;TZID=Asia/Tokyo:20210901T200000
DTEND;TZID=Asia/Tokyo:20210901T213000
DTSTAMP:20260421T210113Z
CREATED:20210829T142532Z
DESCRIPTION:イベント詳細はこちら\nhttps://techplay.jp/event/82956
 6?utm_medium=referral&utm_source=ics&utm_campaign=ics\n\nイベントの
 概要\n「Shopifyの越境ECってどうなんですか？って聞か
 れたけど何て答えればいいのか...」\n「越境ECでShopify
 を使う利点って何だろう」\n「海外マーケティングに
 強いEC会社で働くには、どんなスキルが必要？」\n今回
 はそんな1ランク上のShopifyデベロッパー・海外マーケ
 ターを目指す人のための越境ECに特化したウェビナー
 です！\nゲスト講師はShopify Experts、越境ECや海外マーケ
 ティングで有名な徳田祐希さんになります！\nhttps://twi
 tter.com/yukimeru0305\n徳田さんは、海外BtoBマーケティング
 ・越境EC専門の「世界ヘボカン」という会社の代表取
 締役でもあり、越境ECの第一人者ともいえる方です。\n
 越境ECで押さえるべきポイントやShopifyを使う利点など
 、説明できるよう学んでおきましょう！\n※イベント
 の参加リンクは、申し込み後にこのページで確認でき
 ます\n※人数制限があるウェビナーです。当日参加で
 きなくなった方はキャンセルをお願いいたします。\n\n
 9/1（水）20:00~\n「はじめての海外WEBマーケティング講
 座」\n-海外進出支援ってどんな仕事？\n-越境ECで抑え
 るべきポイント\n-Shopifyの利点と事例紹介\n-越境EC支援
 会社で働くのに必要な知識とは\n\n主催：デイトラ https
 ://www.daily-trial.com/\n登壇：\n■徳田　祐希　さん\n世界
 へボカン株式会社\n代表取締役　Shopifyマーケティング
 エキスパート\nイギリス留学を経て、海外Webマーケテ
 ィングを行う企業に入社。\n外国人マーケターと共に
 海外Webマーケティングチームを牽引する。\n特に英語
 サイトのSEOに精通し、東京だけでなく、新潟、京都、
 大阪、名古屋、福岡等、日本全国を飛び回り、クライ
 アントと膝を突き合わせ、Webコンサルティングを行う
 スタイルを得意とする。\n海外Webコンサルティングで
 、アフリカ向け中古車輸出企業の売上を30億円から500
 億円に導く等、中古車輸出、製造業、不動産関連のプ
 ロジェクトで数多くの実績を残す。\n2014年8月に世界へ
 ボカン株式会社を設立。
LOCATION:オンライン
URL:https://techplay.jp/event/829566?utm_medium=referral&utm_source=ics&utm
 _campaign=ics
END:VEVENT
END:VCALENDAR
