BEGIN:VCALENDAR
VERSION:2.0
PRODID:-//https://techplay.jp//JP
CALSCALE:GREGORIAN
METHOD:PUBLISH
X-WR-CALDESC:Japan Azure User Group 11周年イベント
X-WR-CALNAME:Japan Azure User Group 11周年イベント
X-WR-TIMEZONE:Asia/Tokyo
BEGIN:VTIMEZONE
TZID:Asia/Tokyo
BEGIN:STANDARD
DTSTART:19700101T000000
TZOFFSETFROM:+0900
TZOFFSETTO:+0900
TZNAME:JST
END:STANDARD
END:VTIMEZONE
BEGIN:VEVENT
UID:829946@techplay.jp
SUMMARY:Japan Azure User Group 11周年イベント
DTSTART;TZID=Asia/Tokyo:20210925T130000
DTEND;TZID=Asia/Tokyo:20210925T160000
DTSTAMP:20260422T024758Z
CREATED:20210901T061617Z
DESCRIPTION:イベント詳細はこちら\nhttps://techplay.jp/event/82994
 6?utm_medium=referral&utm_source=ics&utm_campaign=ics\n\n11周年もゆ
 るーくいきます\n2010年8月26日に結成されたJapan Azure User
  Group (JAZUG) もはやいもので11周年を迎えます。\n毎年こ
 の時期恒例となりました総会を今年もやります！\n今
 年の総会はテーマ別LT大会！！\n今年はテーマを決めて
 の10分間LT大会を行います！\n\n第一部：コンピューテ
 ィング (VM\, App Service\, Functions\, AKS\, etc...)\n第二部：デ
 ータプラットフォーム (SQL DB\, Synapse\, Storage\, Data Factory
 \, etc...)\n\nテーマに関連すればどんな内容でもOK\nみな
 さんのご参加お待ちしてまーす\nお品書き\n\n\n\n時間\n
 内容\nスピーカー\n\n\n\n\n13:00\nご挨拶 & 活動報告\nJAZUG\n
 \n\n13:15\n第一部 コンピューティング 10分LT大会\n\n\n\n\nA
 zure環境作ったら最初にやるべきこと（令和最新版）
 \nTomoaki Onoさん\n\n\n\nrclonefunction\nyaegashiさん\n\n\n\n実際
 に使ってみた FSLogix　結局のところより良い使い方っ
 てどうなの？\nDaiさん\n\n\n\nAzure VM をお得に使う方法。
 Azure spot instance 使ってみた\nnnasakiさん\n\n\n\nAKS and Bicep (
 仮)\nthanaiさん\n\n\n\nWindows Update を NSG で許可する\nkongou_
 aeさん\n\n\n\nAppServieな話(仮)\nkさん\n\n\n\n待望のApp Service
 ゾーン冗長を語りたい\npyorneさん\n\n\n14:30\n休憩\n\n\n\n14
 :40\n第二部 データプラットフォーム 10分LT大会\n\n\n\n\nA
 zure Synapse Analytics 入門\nTonyTonyKunさん\n\n\n\nbicep 入門 MySQ
 L編\nTakekazu Omiさん\n\n\n\n試してわかった Cosmos DB 部分ド
 キュメント更新のアレコレ\nまっぴぃさん\n\n\n15:55\nご
 挨拶 & お知らせ\nJAZUG\n\n\n
LOCATION:Online オンライン
URL:https://techplay.jp/event/829946?utm_medium=referral&utm_source=ics&utm
 _campaign=ics
END:VEVENT
END:VCALENDAR
