BEGIN:VCALENDAR
VERSION:2.0
PRODID:-//https://techplay.jp//JP
CALSCALE:GREGORIAN
METHOD:PUBLISH
X-WR-CALDESC:【9/21(火)17時-】DX・AI導入を成功に導く最新AWS
 サービスの活用法と人材の育成
X-WR-CALNAME:【9/21(火)17時-】DX・AI導入を成功に導く最新AWS
 サービスの活用法と人材の育成
X-WR-TIMEZONE:Asia/Tokyo
BEGIN:VTIMEZONE
TZID:Asia/Tokyo
BEGIN:STANDARD
DTSTART:19700101T000000
TZOFFSETFROM:+0900
TZOFFSETTO:+0900
TZNAME:JST
END:STANDARD
END:VTIMEZONE
BEGIN:VEVENT
UID:830078@techplay.jp
SUMMARY:【9/21(火)17時-】DX・AI導入を成功に導く最新AWSサー
 ビスの活用法と人材の育成
DTSTART;TZID=Asia/Tokyo:20210921T170000
DTEND;TZID=Asia/Tokyo:20210921T180000
DTSTAMP:20260422T092349Z
CREATED:20210902T030818Z
DESCRIPTION:イベント詳細はこちら\nhttps://techplay.jp/event/83007
 8?utm_medium=referral&utm_source=ics&utm_campaign=ics\n\nプログラム
 概要\n社会のデジタル化が急速に進む中、企業におけ
 るAI導入やデータ活用は緊急の課題となっています。\n
 そしてAI導入やデータ活用を推進するうえで必須条件
 となっているのがクラウドの活用であり、その中で最
 も利用されているサービスがAWSです。多くの企業のDX
 ・AI導入を支えるAWSですが、現在では様々な機能があ
 るがゆえに、最適なサービス構築・運用を実現するノ
 ウハウも高度化しています。\nそこで、本イベントで
 は、幅広い業種・業界で11.000プロジェクト以上のAWS導
 入実績を誇るサーバーワークス社の山中様にご登壇い
 ただき、事例にもとづきながら、AWSを最大限活用する
 ための秘訣や人材育成のポイントについてお話しいた
 だきます。\n\nこのような方におすすめ\n・AWSではどん
 なことができるのか知りたい方\n・DX推進やAI導入を行
 うためのAWSの活用方法を知りたい方\n・AWSを活用する
 ために何から学べば良いか分からない方\n\nタイムスケ
 ジュール\n17:00-17:05　冒頭挨拶\n17:05-17:30　講演\n17:30-17:
 45　パネルディスカッション\n17:45-17:55　質疑応答\n17:55
 -18:00　告知、アンケート\nスピーカー\n株式会社サーバ
 ーワークス アプリケーションサービス部 教育事業担
 当  / 山中 大志氏\n2017 年にサーバーワークスに入社。
 AWS を利用したインフラ構築やサーバーレス開発に従事
 しつつ「アジャイル」と「クラウド」をキーワードに
 大手企業様の内製化を支援。昨年から「より多くの人
 が AWS を使って自分たちで課題を解決するためのサポ
 ート」をすべく教育事業チームを立ち上げ、学習内容
 の企画、実施等を行っている。\nスキルアップAI株式会
 社 代表取締役 / 田原 眞一\n東京大学大学院新領域創成
 科学研究科修了。新卒でエンジニアとプロジェクトマ
 ネジャーを経験後、リクルートにて数多くのAI案件に
 携わる。2017年に『スキルアップAI』を開始し、企業へ
 のAI教育サービスの提供、コンサルティングを実施。
 著書に「徹底攻略 ディープラーニングG検定 ジェネラ
 リスト問題集」。JDLAの人材育成委員も務める。\n日時\
 n2021年9月21日（火）17:00～18:00　 ( 参加費：無料 )\n開催
 場所\nZoom　※参加者には開催前日までに、参加URLをご
 連絡します\n個人情報の取扱いについて\n申し込み時に
 ご提供いただいた情報は、イベント受付管理や各種ご
 案内（サービス・イベント等）に利用させていただき
 ます。https://www.skillupai.com/privacy/\n注意事項\n※本セミ
 ナーは企業様限定のセミナーとなります。\n※本セミ
 ナーの途中入退室は自由です。\n※一部プログラムに
 変更が生じる可能性が場合がございます。\n※競合他
 社様のご参加は、ご遠慮いただいておりますので、ご
 了承ください。\n【ご協力のお願い】\n・申込後のキャ
 ンセルについては、前日までにご連絡ください。\n運
 営団体\nスキルアップAI\nhttps://www.skillupai.com/
LOCATION:Zoom
URL:https://techplay.jp/event/830078?utm_medium=referral&utm_source=ics&utm
 _campaign=ics
END:VEVENT
END:VCALENDAR
