BEGIN:VCALENDAR
VERSION:2.0
PRODID:-//https://techplay.jp//JP
CALSCALE:GREGORIAN
METHOD:PUBLISH
X-WR-CALDESC:【受付中】オンラインArchiTwin製品説明会（無
 料）
X-WR-CALNAME:【受付中】オンラインArchiTwin製品説明会（無
 料）
X-WR-TIMEZONE:Asia/Tokyo
BEGIN:VTIMEZONE
TZID:Asia/Tokyo
BEGIN:STANDARD
DTSTART:19700101T000000
TZOFFSETFROM:+0900
TZOFFSETTO:+0900
TZNAME:JST
END:STANDARD
END:VTIMEZONE
BEGIN:VEVENT
UID:830088@techplay.jp
SUMMARY:【受付中】オンラインArchiTwin製品説明会（無料）
DTSTART;TZID=Asia/Tokyo:20210910T130000
DTEND;TZID=Asia/Tokyo:20210910T140000
DTSTAMP:20260421T102953Z
CREATED:20210902T054624Z
DESCRIPTION:イベント詳細はこちら\nhttps://techplay.jp/event/83008
 8?utm_medium=referral&utm_source=ics&utm_campaign=ics\n\n【受付中】
 オンラインArchiTwin製品説明会（無料）\n概要\n建設業界
 では、人材不足およびコロナ禍でのコミュニケーショ
 ン不足による低品質管理、遠隔管理など様々な課題を
 抱えている。そこで、デジタルツインとアバターロボ
 ットでリアルタイムに建築現場をスキャニングしなが
 ら今までにない遠隔現場管理を可能とするソリューシ
 ョンを提案します。\n概要\nArchiTwinBasic製品説明会をZoom
 ウェビナーにてオンラインで行います。ArchiTwinBasicの
 導入をお考えの方は是非ご参加下さい。\n・ArchiTwinBasic
 とはどのような製品なのか・ArchiTwinBasicの特徴、活用
 方法、重要事項・ArchiTwinBasic契約\n\n※ 当日予告なく時
 間配分・内容が変更になる可能性がございます。\n\n参
 照ウェブ\nインターネットにある参照先です。\nwebサイ
 トhttps://archi-twin.com/\nよくあるご質問https://archi-twin.com/s
 upport/\n「ArchiTwinBasic」のライセンス販売を開始！「Matte
 rport」と連携して建築現場などをサイバー空間で体系
 的に遠隔管理可能！https://prtimes.jp/main/html/rd/p/000000004.00
 0080328.html\nArchiTwin 解説動画https://youtu.be/eo9KKJp2sCU\n\nArchi
 Twin Introduction Movie\nhttps://youtu.be/gSFAqnGRoS4\n登壇者\n\n細
 谷 正広氏\nご参加をお待ちしております。\n\n参加対象
 \n\nエンジニア\n不動産開発計画\nVR店舗会場運営\n保険
 物損管理記録\nVRサイネージ\n\n参加費\n\n無料\n\n連絡先
 \nArchiTwin株式会社住所：〒104-0061東京都中央区銀座一丁
 目22番11号 銀座大竹ビジデンス2階電話番号：03-5404-3471
 設立年月日：2020年6月16日代表取締役：関　良平営業品
 目：デジタルツインに関する業務（データ収集、解析
 ほか）\nメールアドレス：contact@archi-twin.com\nハッシュ
 タグ\n#techplayjp\n注意事項\n\nリクルーティング、勧誘な
 ど、採用目的でのイベント参加はお断りしております
 。\nキャンセル待ち・補欠・落選の方はご参加いただ
 くことが出来ませんのでご了承ください。\n欠席され
 る場合は、お手数ですが速やかにキャンセル処理をお
 願い致します。\n無断キャンセルや欠席が続く場合、
 次回以降の参加をお断りさせていただく場合がござい
 ます。\n
LOCATION:オンライン
URL:https://techplay.jp/event/830088?utm_medium=referral&utm_source=ics&utm
 _campaign=ics
END:VEVENT
END:VCALENDAR
