BEGIN:VCALENDAR
VERSION:2.0
PRODID:-//https://techplay.jp//JP
CALSCALE:GREGORIAN
METHOD:PUBLISH
X-WR-CALDESC:大量にリードが獲得できるオウンドメディア
 構築～成功事例から学ぶ３つのポイント～
X-WR-CALNAME:大量にリードが獲得できるオウンドメディア
 構築～成功事例から学ぶ３つのポイント～
X-WR-TIMEZONE:Asia/Tokyo
BEGIN:VTIMEZONE
TZID:Asia/Tokyo
BEGIN:STANDARD
DTSTART:19700101T000000
TZOFFSETFROM:+0900
TZOFFSETTO:+0900
TZNAME:JST
END:STANDARD
END:VTIMEZONE
BEGIN:VEVENT
UID:830120@techplay.jp
SUMMARY:大量にリードが獲得できるオウンドメディア構築
 ～成功事例から学ぶ３つのポイント～
DTSTART;TZID=Asia/Tokyo:20210909T120000
DTEND;TZID=Asia/Tokyo:20210909T130000
DTSTAMP:20260421T141210Z
CREATED:20210902T075003Z
DESCRIPTION:イベント詳細はこちら\nhttps://techplay.jp/event/83012
 0?utm_medium=referral&utm_source=ics&utm_campaign=ics\n\n大量にリー
 ドが獲得できるオウンドメディア構築～成功事例から
 学ぶ３つのポイント～\n2021年9月9日（木）12:00～13:00\n
 ▼こんな方にオススメです！・これからオウンドメデ
 ィアを本格的開始、強化したいご担当者様・広告以外
 に問い合わせリード獲得を必要とする営業管理者・オ
 ウンドメディア運用者様・BtoB事業会社のwebマーケティ
 ング担当者様\n▼ウェビナー内容これからオウンドメ
 ディアの活用を強化していきたいという企業様向けに
 サイト構築・コンテンツ制作・運用分析についてそれ
 ぞれ重要なポイントを解説します！\n■これからオウ
 ンドメディアを始める人がサイト構築時に抑えておく
 べき項目　①基本的なルール　②どんな会社に依頼す
 るべきか　③どの程度の費用が掛かるか■メディア作
 成方法　①コンテンツの作成の基本　②問い合わせを
 増やすためのコンテンツ制作のポイント　③成果を最
 大化する運用組織体制■リード獲得を続けるためのコ
 ツ　①継続的な運用のポイント　②KPIとなる分析指標
 　③よくある改善箇所\n▼開催概要・開催日時：2021年9
 月9日（木）12:00～13:00・参加費：無料・開催方法：ウ
 ェビナー　※Zoomを利用します・参加方法：お申込後に
 、別途メールにてご案内致します\n▼タイムスケジュ
 ール11:58〜　視聴用URL開場12:00〜12:40　ウェビナー本編1
 2:40〜13:00　質疑応答・アンケート回答　※質問がなく
 なり次第終了※ 当日予告なく時間配分・内容が変更に
 なる可能性がございます。\n▼講師紹介間藤　大地株
 式会社CINC\n▼注意事項競合他社/同業者/企業にご所属
 でない個人の方からのお申込みなど、 当社の判断によ
 りセミナー参加をお断りする場合があります。予めご
 了承ください。
LOCATION:オンラインセミナー
URL:https://techplay.jp/event/830120?utm_medium=referral&utm_source=ics&utm
 _campaign=ics
END:VEVENT
END:VCALENDAR
