BEGIN:VCALENDAR
VERSION:2.0
PRODID:-//https://techplay.jp//JP
CALSCALE:GREGORIAN
METHOD:PUBLISH
X-WR-CALDESC:【出版記念】Google Cloud まるっとわかる座談会
 （電子版書籍プレゼント有！）
X-WR-CALNAME:【出版記念】Google Cloud まるっとわかる座談会
 （電子版書籍プレゼント有！）
X-WR-TIMEZONE:Asia/Tokyo
BEGIN:VTIMEZONE
TZID:Asia/Tokyo
BEGIN:STANDARD
DTSTART:19700101T000000
TZOFFSETFROM:+0900
TZOFFSETTO:+0900
TZNAME:JST
END:STANDARD
END:VTIMEZONE
BEGIN:VEVENT
UID:830256@techplay.jp
SUMMARY:【出版記念】Google Cloud まるっとわかる座談会（電
 子版書籍プレゼント有！）
DTSTART;TZID=Asia/Tokyo:20210929T190000
DTEND;TZID=Asia/Tokyo:20210929T200000
DTSTAMP:20260422T232313Z
CREATED:20210903T061955Z
DESCRIPTION:イベント詳細はこちら\nhttps://techplay.jp/event/83025
 6?utm_medium=referral&utm_source=ics&utm_campaign=ics\n\nイベント概
 要\n『クラウドインフラの専門家集団』grasysのエンジ
 ニアと、西岡典生氏・田丸司氏（Google Cloud）による『
 図解即戦力　Google Cloudのしくみと技術がこれ１冊でし
 っかりわかる教科書』の出版を記念し、執筆メンバー
 による座談会を開催します！\nファシリテーターにTECH.
 ASCII.jpの大谷イビサ編集長を迎え、Google Cloud に精通し
 た現役エンジニアたちが、Google Cloud の基本や最新のト
 レンドをはじめ、エンジニア視点での魅力や注目ポイ
 ント、現場での実体験、実践で役立つTipsなど、ざっく
 ばらんに語ります。Google Cloudを これから始めようと勉
 強中の方や、業務での活用ポイントを知りたい方に、
 特におすすめのイベントです。\nまた、本イベントに
 ご参加登録頂いた方で、当日イベントに参加し、アン
 ケートにお答えいただいた方にもれなく、書籍『図解
 即戦力　Google Cloudのしくみと技術がこれ１冊でしっか
 りわかる教科書（電子版）』をプレゼントします！　
 ぜひ奮ってご参加ください！\n登壇者\n・TECH.ASCII.jp編
 集長　大谷イビサ（座談会ファシリテーター）\n・株
 式会社grasys 代表取締役　長谷川祐介\n・株式会社grasys 
 Cloud Infrastructure Div Ops Team Group Leader　泉水朝匡\n・株式
 会社grasys Cloud Infrastructure Div Ops Team Engineer　清水貴寛\n
 ・グーグル・クラウド・ジャパン合同会社 パートナー
 エンジニア　西岡典生氏（ゲストスピーカー）\n・グ
 ーグル・クラウド・ジャパン合同会社 カスタマーエン
 ジニア　田丸司氏（ゲストスピーカー）  \nトークテー
 マ\n・Google Cloudってなに？  \n・Google Cloudの面白いとこ
 ろ、尖ったところ  \n・Google Cloudの学習法、実践で役立
 つTips  \n・書籍の紹介　など  \n※トークテーマは当日
 変更になる可能性があります。    \nこんな方にオスス
 メ\n・Google Cloud をこれから始めたいと勉強中のエンジ
 ニア・学生の方\n・クラウドインフラに携わり、スキ
 ルアップしたいエンジニアの方\n・Google Cloud/AWS/Azureな
 ど幅広くクラウドに関する情報取集をしている方\n・
 クラウドインフラに関わるプロジェクト管理者、関心
 がある企業の方  \n開催概要\n日時\n2021年9月29日(水) 19:0
 0～20:00\n※Google Meet™ でのオンライン開催を予定して
 います。\n→YouTubeでのライブストリーム配信に変更い
 たしました。\nタイムテーブル\n\n\n\n時間\n内容\n\n\n\n\n
 19:00-19:05\nオープニング\n\n\n19:05-19:55\n座談会\n\n\n19:55-20
 :00\nエンディング\n\n\n\n参加方法\n参加希望の方は、本
 イベントページより期日までに参加申し込みをお願い
 します。\nイベント前日までにお申し込みいただいた
 方へは、開催前日までにconnpassのイベントメッセージ
 にて視聴用URLをご連絡いたします。当日お申し込みい
 ただいた方へは、個別でご連絡させて頂きます。\n書
 籍プレゼント方法\n本イベントに参加登録頂いた方で
 、当日イベントにご参加いただき、アンケートにお答
 えいただいた方にもれなく、書籍『図解即戦力　Google 
 Cloudのしくみと技術がこれ１冊でしっかりわかる教科
 書（電子版）』をプレゼントします。\n対象者の方へ
 は、イベント開催後数日以内に、アンケートに記載い
 ただいたメールアドレス宛に送付させてきただきます
 。\n書籍のご紹介\n『図解即戦力　Google Cloudのしくみと
 技術がこれ１冊でしっかりわかる教科書』（2021年9月3
 日発売）\n【著者】株式会社grasys／Google Cloud 西岡典生
 、田丸司\n【発行】株式会社技術評論社\n【書籍URL】htt
 ps://gihyo.jp/book/2021/978-4-297-12301-7\nGoogle Cloud のしくみや
 関連技術を含めたサービス、機能について、具体的な
 事例を踏まえながらフルカラーで図解した解説書です
 。クラウドのしくみや「Google Cloudとは何か」といった
 基本から、Google Cloud の使い方、サーバーサービスやネ
 ットワークサービス、コンテナなど個々のサービスま
 で、幅広い知識について学べ、初心者でも無理なく読
 み進められる一冊です。\n株式会社grasys\nGoogle Cloud を
 はじめとするクラウドインフラやデータ分析基盤の設
 計・構築・運用を手がけるインフラの専門家集団です
 。「攻めのインフラ」を掲げ、独自のオーケストレー
 ション運用支援ツールなどを母体に、機動力のある運
 用を意識した設計構築を重視し、お客様が実現したい
 サービスに最適化したITインフラを構成・提供してい
 ます。全世界で数百万人のプレーヤーが利用するオン
 ラインゲーム基盤や1日兆単位のデータを処理するデー
 タ分析基盤などの実績が高く評価され、2021年7月に Goog
 le Cloud が優れたパートナー企業を選出する表彰制度で
 「2020 Google Cloud Services Partner of the Year for Japan」を受賞
 しました。\nリンク集\n・株式会社grasys  \n・grasysブロ
 グ  \n・twitter  \n・Facebook  \n・ASCII.jp「Google Cloudのヘビ
 ーユーザーが届けるGoogle Cloud Digest」    \n注意事項\n・
 イベント内容は当日変更となる可能性がございます。\
 n・当日のイベント内容は、後日Ascii.jpにてレポート記
 事として公開させていただく予定です。当日のWeb配信
 の様子を撮影し、記事に使用する場合がありますので
 、予めご了承ください。\n・イベントは、止むを得ず
 中止する場合がございます。 その際は、connpassのイベ
 ントメッセージよりご連絡させていただきますのでご
 確認をお願いいたします。\n・Google Cloud は Google LLC の
 商標です。
LOCATION:オンライン オンライン
URL:https://techplay.jp/event/830256?utm_medium=referral&utm_source=ics&utm
 _campaign=ics
END:VEVENT
END:VCALENDAR
