BEGIN:VCALENDAR
VERSION:2.0
PRODID:-//https://techplay.jp//JP
CALSCALE:GREGORIAN
METHOD:PUBLISH
X-WR-CALDESC:（増枠しました！）入門編！Pythonで位置デー
 タの分析を体験しよう！
X-WR-CALNAME:（増枠しました！）入門編！Pythonで位置デー
 タの分析を体験しよう！
X-WR-TIMEZONE:Asia/Tokyo
BEGIN:VTIMEZONE
TZID:Asia/Tokyo
BEGIN:STANDARD
DTSTART:19700101T000000
TZOFFSETFROM:+0900
TZOFFSETTO:+0900
TZNAME:JST
END:STANDARD
END:VTIMEZONE
BEGIN:VEVENT
UID:830696@techplay.jp
SUMMARY:（増枠しました！）入門編！Pythonで位置データの
 分析を体験しよう！
DTSTART;TZID=Asia/Tokyo:20211001T120000
DTEND;TZID=Asia/Tokyo:20211001T130000
DTSTAMP:20260421T102728Z
CREATED:20210907T073631Z
DESCRIPTION:イベント詳細はこちら\nhttps://techplay.jp/event/83069
 6?utm_medium=referral&utm_source=ics&utm_campaign=ics\n\nセミナー概
 要\nセミナー資料:当日の資料: https://docs.google.com/presenta
 tion/d/1p1CEwfxS4BMxx7bcvhYd6akV5kxQMjsNYZgJTx_9c80/edit?usp=sharing\nCol
 ab: https://colab.research.google.com/drive/16fsQRRV0Hrk2LdkRbRA9THdNkGqd
 AWpk?usp=sharing\nSlido: https://app.sli.do/event/gyunfwnp\n本セミナ
 ーでは、ビジネスで重要な位置情報を、Pythonを使って
 どのように扱えるのかを参加者のみなさまに体験して
 いただけます。\n「自社で位置情報を使ってやってみ
 たいことがあるのだけれどどうだろう？」と考えてお
 られる経営者の方から、「プログラミングでどのよう
 に位置データを扱ったら良いか分からない」というプ
 ログラミング初心者の方まで、幅広い層を対象として
 開催させていただきます。\n本セミナーでは、みなさ
 まにコードを実行していただけるよう、グーグル・コ
 ラボレーションというツールを用います。グーグル・
 コラボレーションを利用していただくには、グーグル
 ・アカウントが必要となりますので、アカウントご取
 得の上、ご参加ください。\nもちろん、見るだけの参
 加も大歓迎ですので、アカウントがなくてもご参加い
 ただけます。\n本セミナーでは、ある5日間の10人の動
 きを5分毎に持つデータを分析します。そのため、各自
 の動きがはっきりとわかるデータとなっております。\
 nイベントはZOOMにて開催させていただきます。URLはペ
 ージ上の表示されます。\n当日作成するマップの一例\n
 \nタイムスケジュール\n\n\n\n時間\n内容\n\n\n\n\n11:55〜\n
 開場\n\n\n12:05 〜12:10\nオープニング\n\n\n12:10〜12:20\nColab
 の使い方の解説\n\n\n12:20〜12:45\n位置データを分析する\
 n\n\n12:45〜13:00\n質疑応答\n\n\n\n※ 当日予告なく時間配
 分・内容が変更になる可能性がございます。\n登壇者\n
 \n小川　英幸\n合同会社 長目 代表社員https://chomoku.com/\n
 登壇者略歴\n\n滋賀大学経済学部卒。証券会社でトレー
 ダー・アナリストを経て、データテクノロジー企業合
 同会社長目を設立。証券アナリストの資格を持つ。\n\n
 経済、企業関連のデータ分析から、位置データを活用
 しての気象、衛星データの分析まで、幅広い分野のデ
 ータが分析できる。\n\n執筆:\n- Python インタラクティブ
 データビジュアライゼーション入門 -Plotly/Dashによるデ
 ータ可視化とWebアプリ構築- (朝倉書店)\n- WEB+DB PRESS VOL.
 118(特集2 Pythonデータ可視化入門)\n\n登壇:\n- PyConJP 2019、
 PyCon China 北京 2019、PyCon mini Hiroshima 2020 スピーカー。\n-
  PyConJP 2020 チュートリアル担当 「オープンデータを使
 って、Pythonでデータ分析」\n- PyConJP 2021 スピーカー　
 「位置データもPythonで！」\n\n参加対象\n\nデータ活用
 を考えている経営者\nプログラミングをしてみたいと
 考えているビジネスパーソン\nプログラミング初心者\n
 位置データを扱ってみたい人\n\n参加費\n無料\n合同会
 社長目に関して\n合同会社長目（ちょうもく）は「デ
 ータ分析で課題解決」を目指す、データテクノロジー
 企業です。創業者は、プログラミングができるととも
 に証券アナリストの資格も保有しており、テクノロジ
 ーから実ビジネスまで、幅広い知識を有しており、ビ
 ジネスデータの分析も得意としております。\n合同会
 社長目の主催する無料セミナーに是非ご参加ください
 。\n注意事項\n\nリクルーティング、勧誘など、採用目
 的でのイベント参加はお断りしております。\nキャン
 セル待ち・補欠・落選の方はご参加いただくことが出
 来ませんのでご了承ください。\n欠席される場合は、
 お手数ですが速やかにキャンセル処理をお願い致しま
 す。\n無断キャンセルや欠席が続く場合、次回以降の
 参加をお断りさせていただく場合がございます。\n
LOCATION:オンライン
URL:https://techplay.jp/event/830696?utm_medium=referral&utm_source=ics&utm
 _campaign=ics
END:VEVENT
END:VCALENDAR
