BEGIN:VCALENDAR
VERSION:2.0
PRODID:-//https://techplay.jp//JP
CALSCALE:GREGORIAN
METHOD:PUBLISH
X-WR-CALDESC:Qlik Replicateを基礎から学ぶ勉強会#4 - Oracle・Kafk
 a・Snowflakeエンドポイント設定編（無料Webセミナー）
X-WR-CALNAME:Qlik Replicateを基礎から学ぶ勉強会#4 - Oracle・Kafk
 a・Snowflakeエンドポイント設定編（無料Webセミナー）
X-WR-TIMEZONE:Asia/Tokyo
BEGIN:VTIMEZONE
TZID:Asia/Tokyo
BEGIN:STANDARD
DTSTART:19700101T000000
TZOFFSETFROM:+0900
TZOFFSETTO:+0900
TZNAME:JST
END:STANDARD
END:VTIMEZONE
BEGIN:VEVENT
UID:830785@techplay.jp
SUMMARY:Qlik Replicateを基礎から学ぶ勉強会#4 - Oracle・Kafka・S
 nowflakeエンドポイント設定編（無料Webセミナー）
DTSTART;TZID=Asia/Tokyo:20210916T140000
DTEND;TZID=Asia/Tokyo:20210916T150000
DTSTAMP:20260420T000917Z
CREATED:20210908T041030Z
DESCRIPTION:イベント詳細はこちら\nhttps://techplay.jp/event/83078
 5?utm_medium=referral&utm_source=ics&utm_campaign=ics\n\nQlik Replicate
 を基礎から学ぶ勉強会#4 - Oracle・Kafka・Snowflakeエンドポ
 イント設定編（無料Webセミナー）\n概要\nQlik Replicateを
 基礎から学ぶ勉強会の第4回目では、Oracle、Kafka、Snowfla
 keをエンドポイントとして利用するに当たり、必要な
 設定方法などを詳細に解説します。\nQlik Replicateは多種
 多様なデータベース、データウェアハウス、ビッグデ
 ータプラットフォーム間ででデータレプリケーション
 やストリーミング処理を簡単な操作で行うための製品
 です。エージェントレスの技術によりデータソースへ
 の負荷や影響を最小限にしながら、高速に異種システ
 ム間でデータ転送を行うことができます。\nこのウェ
 ブセミナーシリーズでは、体系的かつ全体的なQlik Repli
 cate製品に対するスキル習得を目的とし、複数回に分け
 て様々なトピックについて扱っていきます。\n\nまず、
 Qlik Replicateの基礎的な操作から始め、タスク設定や実
 行オプションの詳細、様々なエンドポイントの設定方
 法（Microsoft SQL、Oracle、DB2、Snowflake、Snowflake、Azure Synaps
 e、Hadoop、SAP、Kafkaなど）、ファイルチャネルやログス
 トリームといったより高度な内容を各セッションで扱
 っていく予定となっています。定期的に開催されるこ
 の勉強会に継続的にご参加頂くことで、網羅的にQlik Re
 plicateの知識を習得頂ける形の内容をご提供していく予
 定としています。\nタイムスケジュール\n\n\n\n時間\n内
 容\n\n\n\n\n14:00〜15:00\n* Oracleのソース・ターゲットエン
 ドポイントとしての利用* Kafkaのターゲットエンドポイ
 ントとしての利用* Snowflakeのターゲットエンドポイン
 トとしての利用\n\n\n\n※ 当日予告なく時間配分・内容
 が変更になる可能性がございます。\n登壇者\n\n濱野 正
 樹\nクリックテック・ジャパン株式会社ソリューショ
 ン技術部 部長\n2014年2月クリックテック・ジャパン入
 社。Qlik製品の大規模エンタープライズ提案やプロジェ
 クトを支援するとともに、各種カンファレンスやコミ
 ュニティサイトなどを通じて技術情報を発信している
 。日本IBM株式会社でハードウェア製品やデータ統合製
 品の技術を担当。プログレス・テクノロジーズ株式会
 社でのテクノロジー・センター長としての技術組織の
 マネジメントや、IMS Japan株式会社（現IQVIAソリューシ
 ョンズジャパン株式会社）での大手製薬企業向けグロ
 ーバルBI/DWHシステム構築のプロジェクトマネージャー
 などを歴任。筑波大学MBA（International Business）修了。\n\
 n\n高橋 智宏\nクリックテック・ジャパン株式会社テク
 ニカルエキスパート(&シニアOEMソリューションアーキ
 テクト)\n2015年4月クリックテック・ジャパン入社。建
 築・測量CADの開発や、複合機の組込みシステム開発な
 どに従事した後、Borland/CodeGear/Embarcadero TechnologiesのEvang
 elist(&Consultant&Trainer etc.)を経て、QlikTechのTechnical Expert(&S
 enior OEM SA)を担当。23年以上も続く「Java読書会BOF( http://
 www.javareading.com/bof/ )」の世話人でもある。\nFacebook: https
 ://www.facebook.com/tomohiro.takahashi.359/\nLinkedIn: https://www.linked
 in.com/in/tomohiro-takahashi-39608b10/\nTwitter:  https://twitter.com/ttd
 ummy\n\n\n中嶋　翔\nクリックテック・ジャパン株式会社
 ソリューション技術部 ソリューションアーキテクト\n
 コンサルティング企業にてBI導入、データ分析、機械
 学習モデル構築、AI活用支援などのプロジェクトを経
 て2018年11月にクリックテック・ジャパン株式会社に入
 社。小売・流通、製造、金融などのクライアントに対
 しQlik Senseの導入提案を支援しています。また、カンフ
 ァレンス、セミナーへの登壇やメディアでの技術情報
 発信を通じたマーケティング支援をしています。\n\n参
 加対象\nデータ統合、データ移行、データ分析にご興
 味がある方、Qlik製品をお取り扱い頂いているパートナ
 ー様など、どなたでもご参加いただけます。お気軽に
 ご参加ください。\n事前準備\nZoom（Web会議ツール）を
 使用します。あらかじめご利用のPCやタブレット、ス
 マートフォンにインストールをお願いします。当セミ
 ナーのURLはお申込みいただいた方に、セミナー開催日
 前日までにお知らせいたします。お申し込み後は当ペ
 ージからもご参加いただけます。\n参加費\n無料
LOCATION:オンライン
URL:https://techplay.jp/event/830785?utm_medium=referral&utm_source=ics&utm
 _campaign=ics
END:VEVENT
END:VCALENDAR
