BEGIN:VCALENDAR
VERSION:2.0
PRODID:-//https://techplay.jp//JP
CALSCALE:GREGORIAN
METHOD:PUBLISH
X-WR-CALDESC:ドコモ dポイント・d払いアプリで実現する人
 流解析 ＋販促ソリューション  ~アフターコロナのOMOマ
 ーケティング~
X-WR-CALNAME:ドコモ dポイント・d払いアプリで実現する人
 流解析 ＋販促ソリューション  ~アフターコロナのOMOマ
 ーケティング~
X-WR-TIMEZONE:Asia/Tokyo
BEGIN:VTIMEZONE
TZID:Asia/Tokyo
BEGIN:STANDARD
DTSTART:19700101T000000
TZOFFSETFROM:+0900
TZOFFSETTO:+0900
TZNAME:JST
END:STANDARD
END:VTIMEZONE
BEGIN:VEVENT
UID:830844@techplay.jp
SUMMARY:ドコモ dポイント・d払いアプリで実現する人流解
 析 ＋販促ソリューション  ~アフターコロナのOMOマーケ
 ティング~
DTSTART;TZID=Asia/Tokyo:20210929T130000
DTEND;TZID=Asia/Tokyo:20210929T140000
DTSTAMP:20260421T111603Z
CREATED:20210908T123821Z
DESCRIPTION:イベント詳細はこちら\nhttps://techplay.jp/event/83084
 4?utm_medium=referral&utm_source=ics&utm_campaign=ics\n\nドコモ dポ
 イント・d払いアプリで実現する人流解析 ＋販促ソリ
 ューション ~アフターコロナのOMOマーケティング~\n概
 要\n2021年9月29日（水）、ドコモGPS統計データ※を活用
 した人流分析サービス「Datawise Area Marketer」を開発する
 株式会社データワイズ（本社：東京都港区、代表取締
 役社長：今田 隆秀  https://www.datawise.co.jp/）は、株式会
 社NTTドコモ（以下「ドコモ」）をゲストに迎え、オン
 ラインセミナー「ドコモ dポイント・d払いアプリで実
 現する人流解析 ＋販促ソリューション ~アフターコロ
 ナのOMOマーケティング~」を開催いたします。\n開催の
 背景‍2020年以降、飲食・小売業界には大きな二つの変
 化がありました。一点目は、新型コロナウイルス感染
 拡大により人の流れが大きく変化し、人流データの重
 要性がこれまでになく高まったこと。二点目は、ポイ
 ント決済・スマホ決済の飛躍的な普及に伴い、あらゆ
 る年代・地域に対してアプリを介した集客手法がより
 効果を持つようになったことです。\nドコモグループ
 では、この大きな変化に対して、dポイントクラブ/「d
 払い®」アプリを活用した統合的なOMOソリューション
 を提案しています。すなわち、8\,300万以上の会員をも
 つｄポイントクラブの人流データ・購買データを通じ
 てお客様の行動を理解し、dポイントクラブアプリ/d払
 いアプリを通してお客様とのつながりを強化するため
 のソリューションを提供しています。\n本ウェビナー
 では、ドコモGPS統計データ※を活用した人流分析サー
 ビス「Datawise Area Marketer」のご紹介とドコモｄポイント
 クラブ/ｄ払いアプリを活用した「スーパー販促プログ
 ラムTM」を始めとするドコモが提供をするＯＭＯソリ
 ューションをご紹介いたします。\n開催概要\n・開催日
 時：2021年9月29日（水）13:00 – 14:00\n・このような方に
 おすすめ\n　人流データに興味のある方\n　アプリを活
 用した販促に興味のある方\n　スマホ決済導入を検討
 されている方\n講演内容\n第1部：スーパー販促プログ
 ラムが創り出す新しい“お客さまとのつながり”（仮
 ）講師：株式会社ＮＴＴドコモ　ウォレットビジネス
 部長　田原 務 氏\n第2部：ドコモ統計ＧＰＳデータが
 実現する人流解析～アフターコロナの商圏分析/交通量
 分析~講師：株式会社データワイズ　代表取締役　今田
  隆秀\n※プログラム内容は変更になる場合がございま
 す。あらかじめご了承ください。\n登壇者\n\n田原 務 
 氏\n株式会社ＮＴＴドコモウォレットビジネス部長\n199
 5年にNTTに入社。\n海外事業を手掛けていたNTTインター
 ナショナルで国際事業に従事した後、\n2003年にNTTドコ
 モへ転籍。\ni-mode Europeにて国際事業に従事した後、dポ
 イント、d払いの立ち上げ、パートナー様とのアライア
 ンスを担当。\n2019年にウォレットビジネス部に着任し
 、ペイメント事業、OMO事業、戦略アライアンスを担当
 。\n\n\n\n今田 隆秀\n株式会社データワイズ代表取締役\n
 株式会社データワイズ代表取締役。OSベンダーでの仮
 想化技術市場立上げ、戦略コンサルティングファーム
 での製造業向けコンサルティング、インターネットメ
 ディアの広告事業開発等を経て、2019年にデータワイズ
 設立に参画。ハーバード大学ビジネススクール卒（MBA
 ）。\n\n参加費\n無料\n注意事項\n・やむを得ない事情に
 より 、予告なく開催を中止させていただく場合がござ
 います。・同業他社および個人の方のお申込みはお断
 りします。・フリーメール（gmail等）でのお申込みは
 お断りします。・当社の判断によりウェビナーへのご
 参加を理由のご説明なくお断りする場合がございます
 。・お申込状況によって1社あたりのご参加人数を調整
 をさせていただく場合もございます。あらかじめご了
 承ください。・内容は変更されることがあります。*「
 スーパー販促プログラム」「d払い」は、株式会社NTTド
 コモの商標または登録商標です。*ドコモGPS統計データ
 とは、ドコモがアプリユーザー同意のもと取得し、個
 人を特定できない形式に加工、統計化したデータを指
 し、属性毎(性別・年齢層等)の統計データを用いた分
 析が可能となります。NTTドコモグループに属する株式
 会社オークローンマーケティングから提供を受け使用
 しています。\n株式会社データワイズについて\nデータ
 ワイズは、ドコモのGPS位置情報活用を担う戦略子会社
 として2019年1月に設立された、ドコモdポイントGPSデー
 タをはじめとする各種データを活用するコンサルティ
 ング・プロダクト開発企業です。都市開発における街
 づくり戦略、流通小売における新規出店戦略、地方自
 治体における観光行動調査、イベント開催時の交通量
 最適化等、様々な調査分析、戦略立案をサポートしま
 す。\n社名　： 株式会社データワイズ所在地： 東京都
 港区虎ノ門1-23-1 虎ノ門ヒルズ森タワー21F代表者： 代
 表取締役社長　今田 隆秀設立　： 2019年1月18日URL　 ：
  https://www.datawise.co.jp/
LOCATION:オンライン
URL:https://techplay.jp/event/830844?utm_medium=referral&utm_source=ics&utm
 _campaign=ics
END:VEVENT
END:VCALENDAR
