BEGIN:VCALENDAR
VERSION:2.0
PRODID:-//https://techplay.jp//JP
CALSCALE:GREGORIAN
METHOD:PUBLISH
X-WR-CALDESC:RPA勉強会 Power BI を学ぶ特別編！～BI使いへの
 第一歩～
X-WR-CALNAME:RPA勉強会 Power BI を学ぶ特別編！～BI使いへの
 第一歩～
X-WR-TIMEZONE:Asia/Tokyo
BEGIN:VTIMEZONE
TZID:Asia/Tokyo
BEGIN:STANDARD
DTSTART:19700101T000000
TZOFFSETFROM:+0900
TZOFFSETTO:+0900
TZNAME:JST
END:STANDARD
END:VTIMEZONE
BEGIN:VEVENT
UID:831093@techplay.jp
SUMMARY:RPA勉強会 Power BI を学ぶ特別編！～BI使いへの第一
 歩～
DTSTART;TZID=Asia/Tokyo:20210924T193000
DTEND;TZID=Asia/Tokyo:20210924T210000
DTSTAMP:20260423T172230Z
CREATED:20210910T061707Z
DESCRIPTION:イベント詳細はこちら\nhttps://techplay.jp/event/83109
 3?utm_medium=referral&utm_source=ics&utm_campaign=ics\n\n\n今回は\n\n\
 n特別企画！\n\n\n\nBI使いへの第一歩！データと賢く付
 き合う！\n\n\n▶ Power BIを学びましょう！ ◀\n\n\n\n匿名
 の質問フォームはこちら\n\n\n※「Open Q&A」で入ると他
 の質問も見れます\n\n\n\n\nPower BI王子こと清水 優吾さん
 に、時間の許す限り回答いただきます！何でもご質問
 ください！\n\n\n\nタイムテーブル\n\n\n\n時間\n内容（タ
 イトル）\n登壇者\n\n\n\n\n19:00\nZoom開放\nイベント前の交
 流／Power BIネタで雑談\n\n\n19:30\nイベント開始\n\n\n\n\nオ
 ープニング：RPACommunity最新情報\n運営\n\n\n\nセミナー１
 これから Power BI を始める人に概要\n清水 優吾さん\n\n\n
 \nセミナー２レポートを作成する様子（ライブデモ）\n
 清水 優吾さん\n\n\n\nなんでもＱＡタイム\n\n\n\n\nクロー
 ジング：イラレコ紹介＆集合写真\n\n\n\n21:00\n撤収\n\n\n\
 n\n\nSpeaker\n\n清水 優吾さん  ／ 株式会社セカンドファ
 クトリー CTO\n\n\nMicrosoft MVP for Data Platform\n\n \n\n1981年生
 まれ、神奈川県横浜市出身。\n大学在学中に塾講師、
 居酒屋、コンビニでアルバイトをし、卒業後も1年間フ
 リーターを続けた後、2005年ソフトハウスに入社。\n未
 経験から金融系システムのSEとしてITエンジニアのキャ
 リア開始。以降、ITコンサルティング会社、フリーラ
 ンス、メーカー系SIerを経て、現在は株式会社セカンド
 ファクトリーにてCTOとして活動中。\n2017年2月にMicrosoft
  MVP for Data PlatformをPower BIで初受賞し、2021年9月現在5回
 更新中。\n通り名はPower BI王子。Power PlatformをDataに着目
 してエンドユーザーへコンサルやレクチャー、DX支援
 を行っている。\n「Japan Power BI User Group」の発起人＆管
 理人。「Power BI勉強会」の運営もお手伝いしている。\n
 \n\nRPACommunityについて\n\nRPAユーザー同士で情報や悩み
 を共有しながらRPAを学び、各々が目指す業務改善・働
 き方改革の実現に繋げる事を目的にしているのがRPAComm
 unityです。\n\n\nすでにRPAに取り組んでいる方、これか
 ら学ぼうとしている方、ちょっと興味がある方、どん
 な方でも大歓迎です。\n\nRPAに関するネタ、悩みや、言
 いたい事を、狭くはRPAですが広くは自動化、業務改善
 、働き方改革に繋がるテーマでセミナーやライトニン
 グトーク（LT※）を楽しむコミュニティです！\n\n\n※ L
 Tとは「Lightning Talk(s)」の頭文字を取ったもので5分間程
 度の短い時間で行われる発表を連続して続けていく形
 式のプレゼンテーション。\n\n\n参加メリット\n\n\nユー
 ザー主体だからこそ、つまらない営業トークも宣伝ト
 ークもありません。RPAに関する情報を得ながら、拡く
 は業務改善・働き方改革に至る様々な情報を参加者同
 士で楽しく交換し合えるコミュニティです。\n\n\n\n参
 考\nRPACommunity YouTubeチャンネル\nイベントレポート web記
 事\n\n\n\n開催前後の交流ためのFBグループもあります！
 \n\n\nRPACommunity FBグループ \n\n\n是非ご参加下さい！\n\n\n
 \n参加費　無料\n\n\n\n企画・運営\nRPACommunity 主催 Mitz ＆
  あやや\n\n諸注意\n\nイベント内容は一部変更になる可
 能性がございます。\nイベント当日の様子は後日何ら
 かの媒体にて公開させていただくことがございます。\
 nお申込後運営都合によりご参加をキャンセルさせて頂
 く場合がございます。予めご了承頂けますようお願い
 いたします。\n当イベントでは全ての参加者がこのイ
 ベントを楽しめるよう、RPACommunity運営グループの管理
 のもと開催しています。そのため、以下のような行動
 を取られた方は退室いただく場合があります。また次
 回以降の参加をお断りしますのでご了承下さい。過去
 に以下のような行動を取られた方からのお申込につい
 てもお断りさせていただく場合がございます。\n\n　■
 他の参加者やLT登壇者に対しての迷惑行為と見られる
 言動や行動\n　■人材紹介、転職、マルチ商法、宗教
 など、本イベントとは関係のない勧誘\n
LOCATION:オンライン オンライン
URL:https://techplay.jp/event/831093?utm_medium=referral&utm_source=ics&utm
 _campaign=ics
END:VEVENT
END:VCALENDAR
