BEGIN:VCALENDAR
VERSION:2.0
PRODID:-//https://techplay.jp//JP
CALSCALE:GREGORIAN
METHOD:PUBLISH
X-WR-CALDESC:Lumion Competition 2021 トークセッション（オンラ
 イン）
X-WR-CALNAME:Lumion Competition 2021 トークセッション（オンラ
 イン）
X-WR-TIMEZONE:Asia/Tokyo
BEGIN:VTIMEZONE
TZID:Asia/Tokyo
BEGIN:STANDARD
DTSTART:19700101T000000
TZOFFSETFROM:+0900
TZOFFSETTO:+0900
TZNAME:JST
END:STANDARD
END:VTIMEZONE
BEGIN:VEVENT
UID:831430@techplay.jp
SUMMARY:Lumion Competition 2021 トークセッション（オンライン
 ）
DTSTART;TZID=Asia/Tokyo:20211006T180000
DTEND;TZID=Asia/Tokyo:20211006T200000
DTSTAMP:20260420T110618Z
CREATED:20210913T134245Z
DESCRIPTION:イベント詳細はこちら\nhttps://techplay.jp/event/83143
 0?utm_medium=referral&utm_source=ics&utm_campaign=ics\n\nLumion Competiti
 on 2021トークセッション（オンライン）\n動画 - LumionComp
 etition2021【PV】\nそのコンペ審査をオンラインで開催し
 ます。コンペにご参加の方は是非、ご覧くださいませ
 。\nYoutubeアーカイブ\nLumion Competition 2021 オンライント
 ークセッション①\n「アジール・フロッタンを取り巻
 く敷地周辺の環境について」登壇者：審査員⻑ 遠藤秀
 平⽒ （遠藤秀平建築研究所／神⼾⼤学名誉教授）https:
 //youtu.be/ufbaUqwxtVg\nLumion Competition 2021 オンライントーク
 セッション②\n「The Le Corbusier Fondation : origin and missions /
  ル・コルビュジエ財団：起源と使命」登壇者：コルビ
 ジェ財団　Brigitta氏   (翻訳　：クリス・クリストフ
 ァーズ氏)https://youtu.be/UWQXIQIcufE\nLumion Competition 2021 オン
 ライントークセッション③\nトークセッションhttps://you
 tu.be/p_52p4boBeA\nLumion Competition 2021 オンライントークセッ
 ション④\n日仏学生交流 「第⼀回︓シェルターデザイ
 ン」を終えて登壇者：竹口健太郎氏（株式会社アルフ
 ァヴィル⼀級建築士事務所）https://youtu.be/B-9dFhWwpSI\nLumi
 on Competition 2021 オンライントークセッション⑤\n質疑応
 答・スケジュール等https://youtu.be/PSvlJbiNLbc\n\nLumion Competi
 tion 2021とは\n\n1.テーマ　「モバイルアーキテクチャー
 」2.敷地　フランス・パリ市内　セーヌ川畔3.募集期間
  　　2021/9/6(月)〜2021/11/7(日)　4.募集対象　社会人部門/
 学生部門\n詳細は、https://lumion3d.jp/competition/2021/主催：
 有限会社リビングCG後援：ル・コルビジェ財団協力：
 一般社団法人 日本建築設計学会\nLumion Competition 2021 プ
 ロモーションビデオhttps://youtu.be/46Xj0WYbGTk\n登壇者\n審
 査員⻑ 遠藤秀平 （遠藤秀平建築研究所／神⼾⼤学名
 誉教授）審査員 ⽵⼝健太郎（株式会社アルファヴィル
 ⼀級建築⼠事務所）審査員 吉⽥哲（株式会社⽇建設計
 ）審査員 栗村実（株式会社ナインマイルズ）審査員 
 豊⽥啓介（東京大学生産技術研究所特任教授）\n司会
 ：クリス・クリストファーズ氏\n参加対象\n\n建築家\n
 建築設計者\nインテリアプランナー\n建築を学ぶ学生\n
 不動産広告担当者\n\n持ち物\nなし\n参加費\n無料\nハッ
 シュタグ\n#Lumion#建築ビジュアライゼーション\n注意事
 項\n\n※ 参加を辞退する場合は、詳細ページより申込
 のキャンセルをお願い致します。\n※ 無断キャンセル
 ・欠席が続く場合、次回以降の参加をお断りさせてい
 ただく場合がございますのでご了承ください。\n\n
LOCATION:オンライン
URL:https://techplay.jp/event/831430?utm_medium=referral&utm_source=ics&utm
 _campaign=ics
END:VEVENT
END:VCALENDAR
