BEGIN:VCALENDAR
VERSION:2.0
PRODID:-//https://techplay.jp//JP
CALSCALE:GREGORIAN
METHOD:PUBLISH
X-WR-CALDESC:【大学・学校関係者向け交流会】 どうしてる!
 ?学内合同採用説明会・オープンキャンパスのオンライ
 ン開催
X-WR-CALNAME:【大学・学校関係者向け交流会】 どうしてる!
 ?学内合同採用説明会・オープンキャンパスのオンライ
 ン開催
X-WR-TIMEZONE:Asia/Tokyo
BEGIN:VTIMEZONE
TZID:Asia/Tokyo
BEGIN:STANDARD
DTSTART:19700101T000000
TZOFFSETFROM:+0900
TZOFFSETTO:+0900
TZNAME:JST
END:STANDARD
END:VTIMEZONE
BEGIN:VEVENT
UID:831899@techplay.jp
SUMMARY:【大学・学校関係者向け交流会】 どうしてる!?学
 内合同採用説明会・オープンキャンパスのオンライン
 開催
DTSTART;TZID=Asia/Tokyo:20211005T133000
DTEND;TZID=Asia/Tokyo:20211005T140000
DTSTAMP:20260420T074834Z
CREATED:20210917T013701Z
DESCRIPTION:イベント詳細はこちら\nhttps://techplay.jp/event/83189
 9?utm_medium=referral&utm_source=ics&utm_campaign=ics\n\n【大学・学
 校関係者向け交流会】\nどうしてる!?学内合同採用説明
 会・オープンキャンパスのオンライン開催\nコロナウ
 イルスの感染拡大に伴い、会場での学内合同採用説明
 会（以下、学内合説）・オープンキャンパス実施が難
 しいが、学生との交流の場がほしいとよくお伺いしま
 す。\n他校では「どのようなツールで行っているのか
 」、「どのような運用で実施しているのか」を情報収
 集している方もいらっしゃるかと思います。\n本セミ
 ナーでは、コロナ禍における「オンライン学内合説・
 オンラインオープンキャンパス」を運用事例を交えご
 紹介いたします。\nこんな課題をお持ちのお客様必見\n
 \nコロナ禍で会場での学内合説、オープンキャンパス
 の実施が難しくなり、オンラインでの実施方法を模索
 している\n昨年、手探りで自分たちで就活イベント、
 学校説明会を実施したが、運営面で課題が生じた\n一
 方的なイベントだと、参加者（学生）の興味関心や反
 応がわかりづらく、どこまで積極的にイベントに参加
 しているのか把握したい\n出展者（企業・貴校）と参
 加者（学生）の交流の場を設けたい\nオンラインイベ
 ントの目新しさがなくなっているように感じる\n\nセミ
 ナーに参加して得られる知識・メリット例\n\n新しい切
 り口での学内合説・オープンキャンパス（オンライン
 イベント）の主催方法を知ることができる\n学内合説
 ・オープンキャンパスのオンライン化イメージを具体
 的に持てる\n学内合説・オープンキャンパスのオンラ
 イン化ならではの利点と会場型の利点を再認識するこ
 とができる\n学内合説・オープンキャンパスのオンラ
 イン化に関する知識を得られる\nブイキューブが提供
 するシステム（EventIn）の利用体験ができる\n\nタイム
 スケジュール\n\n\n\n時間\n内容\n\n\n\n\n13:30〜14:00\n講演
 ・質疑応答\n\n\n\n本編終了後、14:00から任意の方々がご
 参加いただける、オンライン交流会・相談会もご準備
 しております。説明で気になったことをすぐに聞くこ
 とができる機会になっていますので、ぜひこの機会に
 ご参加くださいませ！※ 当日予告なく時間配分・内容
 が変更になる可能性がございます。\n登壇者\n株式会社
 ブイキューブ\n営業本部 西日本営業グループ 第1チー
 ム チームリーダー　斉藤 航\n2016年に株式会社ブイキ
 ューブに入社。東京時代は主に既存のお客様への導入
 支援を担当。2017年より大阪営業所に異動し、インフラ
 ・金融・製造・小売・教育など、業種問わず、映像コ
 ミュニケーションサービスを幅広くご提案。今まで500
 社を超えるお客様を担当する。2021年より現役職に就任
 。西日本エリアを中心にイベントDX事業を推進してい
 る。\n※講師は、予告なく変更になる場合がございま
 す。\n《株式会社ブイキューブ》Webセミナーシステム
 、Web会議システムの開発・販売・サポート・運営支援
 を行っている東証一部上場企業。近年急増しているウ
 ェビナーやオンラインイベント領域では、国内最大規
 模の年間5\,000回のウェビナー配信支援を行っています
 。\nセミナー概要\n日時：2021年10月5日(火)13:30～14:00（
 接続開始 13:20）費用：無料\nプログラム：1．withコロナ
 時代における学内オンラインイベントの種類と課題2．
 お客様や弊社内における運用事例のご説明3．課題解決
 を実現する「EventIn」のデモンストレーション/体験　
 　※第一部（セミナー部分）のみご参加希望の場合は
 、イヤホンのみでご参加可能です。4．交流会（任意参
 加）・相談会(任意参加) 　　　※交流会は本編終了後1
 4：00からを予定しております。　　※交流会等への参
 加希望の場合Webカメラとヘッドセット（イヤホンマイ
 ク）のご準備をお願いします。※講演内容は、予告な
 く変更になる場合がございます。\n対象：大学・専門
 学校等教育機関のご担当者様　　　大学・専門学校等
 の就職支援のご担当者様　　　大学・専門学校等のオ
 ープンキャンパスのご担当者様※競合他社様・個人事
 業主様につきましては、お断りさせていただくことが
 ございますので、予めご了承ください。\n会場：オン
 ライン開催\n受講方法：本セミナーは、EventInで配信し
 ます（事前登録制インターネット視聴）\n-----------------
 -----------------------------------------------------------------視聴
 環境チェックはこちら視聴環境チェックサイトにて、
 正常に視聴できることをご確認ください。※セミナー
 前に、実際に参加する予定のパソコンでご確認くださ
 い。EventIn 動作環境はこちら
LOCATION:オンライン開催（いつものPC・スマホでインスト
 ール不要でどこからでも参加可能）
URL:https://techplay.jp/event/831899?utm_medium=referral&utm_source=ics&utm
 _campaign=ics
END:VEVENT
END:VCALENDAR
