BEGIN:VCALENDAR
VERSION:2.0
PRODID:-//https://techplay.jp//JP
CALSCALE:GREGORIAN
METHOD:PUBLISH
X-WR-CALDESC:【10/19無料】ビジネス・インテリジェンスなく
 してDXなし。  “DX成功企業”が明かす、 BIツール活用
 のススメ。
X-WR-CALNAME:【10/19無料】ビジネス・インテリジェンスなく
 してDXなし。  “DX成功企業”が明かす、 BIツール活用
 のススメ。
X-WR-TIMEZONE:Asia/Tokyo
BEGIN:VTIMEZONE
TZID:Asia/Tokyo
BEGIN:STANDARD
DTSTART:19700101T000000
TZOFFSETFROM:+0900
TZOFFSETTO:+0900
TZNAME:JST
END:STANDARD
END:VTIMEZONE
BEGIN:VEVENT
UID:832192@techplay.jp
SUMMARY:【10/19無料】ビジネス・インテリジェンスなくし
 てDXなし。  “DX成功企業”が明かす、 BIツール活用の
 ススメ。
DTSTART;TZID=Asia/Tokyo:20211019T160000
DTEND;TZID=Asia/Tokyo:20211019T170000
DTSTAMP:20260421T112854Z
CREATED:20210921T022815Z
DESCRIPTION:イベント詳細はこちら\nhttps://techplay.jp/event/83219
 2?utm_medium=referral&utm_source=ics&utm_campaign=ics\n\nビジネス・
 インテリジェンスなくしてDXなし。  “DX成功企業”が
 明かす、 BIツール活用のススメ。\n概要\n「DX推進」の
 掛け声のもとクラウドを導入したにもかかわらず、期
 待していたパフォーマンスが得られない。その原因は
 、ビジネス・インテリジェンス（以下BI）が実現でき
 ていないからにほかなりません。\nBIとは、「自社の現
 状を客観的なデータに基づいて把握したうえで、経営
 におけるさまざまな意思決定を行う」こと。つまり、
 クラウドによってデータを収集したところで、それを
 使いこなせなければ、絵に描いた餅。BIによってデー
 タを分析・加工し、役立つ指標として活用しないこと
 には、DXは道半ばなのです。\nでは、一体どうしたらBI
 を導入し、真のDX化を達成できるのでしょうか？BIによ
 って、業績のV字回復に成功した株式会社デジタル・ク
 リエイティブ・ネットの草間氏が、いますべての企業
 にとって本当に必要なBIツールと、その活用方法につ
 いて紹介します。\n\n登壇者\n\n草間 千恵\n株式会社デ
 ジタル・クリエイティブ・ネット\n登壇者略歴\n\n明治
 大学院　会計専門職研究科を卒業後、大手国内連結会
 計ベンダーに入社しカスタマーサポート業務/社内外講
 師に従事。同社を退社後、父親が代表を務める株式会
 社デジタル・クリエイティブ・ネットにて新規事業の
 立ち上げに奔走する傍ら、国内大手ECカートベンダー
 にてカスタマー部門を3年間統括。\nその後、株式会社
 デジタル・クリエイティブ・ネット内に自身の事業部
 であるDOA部門を立ち上げ独立。現在に至る。\nZohoとの
 関わりは古く、日本国内にてリリース当初に自社の管
 理部門に試験的に導入、本ツールを主軸に会社を再建
 したことに端を発する。会計の専門知識やECシステム
 の経験を生かし、Zoho CRMのみに留まらず会計システム
 や人事労務システム、RPAといったフロント業務からエ
 ンド業務まで一貫した導入・運用サポートを行えるこ
 とが強み。\n\n\n\n参加対象\n\nグラフをまずは作りたい
 、なのに何故か作れない\nZoho Analyticsはどこまで分析で
 きるのか、製品力を知りたい\n競合製品と比べたらど
 う違うのか\n何故BIが必要なのかを体感したい、社内に
 伝えたい　　など\n\n参加費\n無料\n詳細・お申し込み\n
 https://www.zoho.com/jp/analytics/webinars/how-to-success-dx-by-business-
 intelligence.html\n注意事項\n\n同業他社の方はお申し込み
 をお断りする場合がございます。あらかじめご了承く
 ださい。\n本ウェビナーへは「詳細・お申し込み」ペ
 ージよりお申し込みください。\n
LOCATION:オンライン
URL:https://techplay.jp/event/832192?utm_medium=referral&utm_source=ics&utm
 _campaign=ics
END:VEVENT
END:VCALENDAR
