BEGIN:VCALENDAR
VERSION:2.0
PRODID:-//https://techplay.jp//JP
CALSCALE:GREGORIAN
METHOD:PUBLISH
X-WR-CALDESC:【SNSマーケのプロフェッショナルも登壇】売
 り上げ100億円企業が実践した単品通販（D2C）のノウハ
 ウと仕組みを大公開！
X-WR-CALNAME:【SNSマーケのプロフェッショナルも登壇】売
 り上げ100億円企業が実践した単品通販（D2C）のノウハ
 ウと仕組みを大公開！
X-WR-TIMEZONE:Asia/Tokyo
BEGIN:VTIMEZONE
TZID:Asia/Tokyo
BEGIN:STANDARD
DTSTART:19700101T000000
TZOFFSETFROM:+0900
TZOFFSETTO:+0900
TZNAME:JST
END:STANDARD
END:VTIMEZONE
BEGIN:VEVENT
UID:832559@techplay.jp
SUMMARY:【SNSマーケのプロフェッショナルも登壇】売り上
 げ100億円企業が実践した単品通販（D2C）のノウハウと
 仕組みを大公開！
DTSTART;TZID=Asia/Tokyo:20211021T140000
DTEND;TZID=Asia/Tokyo:20211021T171500
DTSTAMP:20260420T080301Z
CREATED:20210924T081025Z
DESCRIPTION:イベント詳細はこちら\nhttps://techplay.jp/event/83255
 9?utm_medium=referral&utm_source=ics&utm_campaign=ics\n\n【SNSマーケ
 のプロフェッショナルも登壇】売り上げ100億円企業が
 実践した単品通販（D2C）のノウハウと仕組みを大公開
 ！\nセミナー概要\n第一部（14：00～16：00）：売れるネ
 ット広告社\n【ネット業界のキレイゴトは一切なし！
 “100％確実”に売上がアップする“最強の売れるノウ
 ハウ®️”を大公開】\n通販（D2C）王国といわれる九州
 で、 一貫してネットビジネスに従事し、 担当した“
 すべて”のクライアントを 大成功させてきた 売れる
 ネット広告社が、ネット広告で費用対効果と売上を劇
 的に上げる具体的な手法 を徹底的に“大公開”します
 。\n《このセミナーで学べること》\n\n・ネットで儲か
 る仕組みを作る方法・コンバージョン率の上がるサイ
 トを作る方法・アップセル率を上げる方法・クロスセ
 ル率を上げる方法・定期（サブスク）購入率を上げる
 方法・購入単価を上げる方法・レスポンスを半永久的
 に上げ続ける方法・引上率を上げる方法・リピート率
 を上げる方法・LTV（年間購入単価）を上げる方法・ROAS
 （費用対効果）を上げる方法\n\n第二部（16：05～16：35
 ）：株式会社BES\nSNS時代の新しい売上戦略　～Instagram
 やTwitter運用を起点にした新規販売チャネルの育成～\nI
 nstagramやFacebookを起点に売り上げを伸ばしている企業が
 近年急増しています。\n最近では単純にショッピング
 機能を使うだけでなくライブコマースをいち早く効果
 的に取り入れている企業も見られます。つまり既存の
 販売チャネルだけでなく新規の販売チャネルとしてSNS
 でファンを育成させることが重要になってきます。\n
 今回は自社SNSアカウントの正しい運用が出来ているか
 見直し、改善を図るための方法をご紹介いたします。\
 n\n第三部（16：40～17：10）：ｗ２ソリューション株式
 会社\n平均売上成長率354％！大幅な売上UPを実現させる
 その秘訣とは～成功事例から学ぶ売上向上策～\nECシス
 テム構築専業15年の中で関わってきたお客様の成功体
 験やお取組み事例などをもとに、売上成長の秘訣をご
 紹介します。\n《こんな方々におすすめです》\n・定期
 通販/ ECで実績を上げている企業の成功事例が知りたい
 方・ 現在のカートに不満があり解決したいと考えてい
 る方・売上を向上したいが、日々の業務で工数が避け
 なく悩んでいる方\n\nタイムスケジュール\n\n\n\n時間\n
 内容\n\n\n\n\n13:30〜\nアクセス開始\n\n\n14:00〜\nセミナー
 開始\n\n\n14:00〜16:00\n第一部：株式会社売れるネット広
 告社加藤公一レオ\n\n\n16:00〜16:05\n質疑応答・アンケー
 ト\n\n\n16:05〜16:35\n第二部：株式会社BES田中千晶\n\n\n16:3
 5〜16:40\n質疑応答・アンケート\n\n\n16:40〜17:10\n第三部
 ：ｗ２ソリューション株式会社桜沢 慎哉\n\n\n17:10〜17:1
 5\n質疑応答・アンケート\n\n\n\n※ 当日予告なく時間配
 分・内容が変更になる可能性がございます。\n登壇者\n
 \n▽加藤公一レオ▽\n株式会社売れるネット広告社　代
 表取締役社長CEO\n1975年ブラジル・サンパウロ生まれ、
 アメリカ・ロサンゼルス育ち。\n西南学院大学経済学
 部卒業後、三菱商事株式会社に入社。その後、Havas Worl
 dwide Tokyo、株式会社アサツーディ・ケイ（ADK）にて、 
 一貫してネットビジネスを軸としたダイレクトマーケ
 ティングに従事し、 担当した全てのクライアント（広
 告主）のネット広告を大成功させる。\nその実践経験
 とノウハウをもとに、ネット広告のレスポンスを確実
 にアップさせてしまうため、クライアント企業から『
 レスポンスの魔術師』との異名をとる。\nやずやベス
 トパートナー賞 受賞。 Webクリエーション・アウォー
 ド Web人貢献賞 受賞。\n「アドテック」「宣伝会議」「
 日経デジタルマーケティング」「通販新聞」など講演
 多数。\n広告・マーケティング業界のオリンピック「
 アドテック」で3年連続人気スピーカー“1位”。\n「全
 日本DM大賞最終審査員」や「米国 International ECHO Awards審
 査員」、 「九州インターネット広告協会の初代会長」
 も務めた。\n著書に『単品通販“売れる”インターネ
 ット広告』（日本文芸社）。\n『100%確実に売上がアッ
 プする最強の仕組み』（ダイヤモンド社） 『伝説のEC
 猫レオレオ 売れるネットショップ繁盛記』（impress Digi
 tal Books） 通販のネット広告の費用対効果を最大化する
 クラウドサービス『売れるネット広告つくーる』を監
 修。\n\n\n\n▽田中千晶▽\n株式会社BES　代表取締役社長
 \n2009年、大学在学中に会社を設立し、1年半で大手企業
 、中小企業50社と取引をする。\nWebプロモーション支援
 を得意とし、特にSNS活用支援で多くの実績をもつ。2012
 年から全国各地でセミナーを精力的に実施。シリコン
 バレーのFacebook本社やTwitter本社へ毎年出向いて直接SNS
 の最先端情報を仕入れてきている。角川出版社、マイ
 ナビ社、技術評論社、翔泳社、インプレス社でマーケ
 ティング支援の書籍を6冊出版。連載も7社で行う。自
 身のラジオ番組、パーソナリティとしても活動し、SNS
 の最新情報を届けている\n\n\n▽桜沢 慎哉▽\nｗ２ソリ
 ューション株式会社　マーケティングDiv. リーダー\n約
 10年間、美容業界を中心に広告代理店での営業および
 コンサルティング経験を経て、ｗ２ソリューション株
 式会社に入社。\n今年で6年目。\n新規立ち上げから数
 十億円規模まで、業種・業界問わず幅広い事業者様を
 担当に持つ。\n現在は、ｗ２ソリューションとECのフル
 フィルメント事業を手掛けるグループ会社の販売リー
 ダーを務める。\n\n\nセミナー日程\n10月21日(木)　14：00-
 17：15\n参加費\n無料\nハッシュタグ\n#techplayjp\n注意事項
 \n\nリクルーティング、勧誘など、採用目的でのイベン
 ト参加はお断りしております。\nキャンセル待ち・補
 欠・落選の方はご参加いただくことが出来ませんので
 ご了承ください。\n欠席される場合は、お手数ですが
 速やかにキャンセル処理をお願い致します。\n無断キ
 ャンセルや欠席が続く場合、次回以降の参加をお断り
 させていただく場合がございます\nWEBのみの開催とな
 りますので、ご了承ください。エントリーいただいた
 方に、前日までにWEBセミナー開催のURLをお送りします
 。※WEBツール：Zoom\n競合、同業社様（求人広告代理店
 、ウェブ広告代理店等）のご参加はお断りいたします
 。\nお申し込み後にやむを得ずご欠席される場合は、
 お手数ですが前日までに（info@bes-japan.jp　担当:須沢）
 宛にご連絡ください。。\n
LOCATION:オンライン
URL:https://techplay.jp/event/832559?utm_medium=referral&utm_source=ics&utm
 _campaign=ics
END:VEVENT
END:VCALENDAR
