BEGIN:VCALENDAR
VERSION:2.0
PRODID:-//https://techplay.jp//JP
CALSCALE:GREGORIAN
METHOD:PUBLISH
X-WR-CALDESC:大阪シニアプログラミングもくもく会2021年10
 月版
X-WR-CALNAME:大阪シニアプログラミングもくもく会2021年10
 月版
X-WR-TIMEZONE:Asia/Tokyo
BEGIN:VTIMEZONE
TZID:Asia/Tokyo
BEGIN:STANDARD
DTSTART:19700101T000000
TZOFFSETFROM:+0900
TZOFFSETTO:+0900
TZNAME:JST
END:STANDARD
END:VTIMEZONE
BEGIN:VEVENT
UID:832904@techplay.jp
SUMMARY:大阪シニアプログラミングもくもく会2021年10月版
DTSTART;TZID=Asia/Tokyo:20211015T200000
DTEND;TZID=Asia/Tokyo:20211015T213000
DTSTAMP:20260423T181328Z
CREATED:20210927T121346Z
DESCRIPTION:イベント詳細はこちら\nhttps://techplay.jp/event/83290
 4?utm_medium=referral&utm_source=ics&utm_campaign=ics\n\n大阪シニア
 プログラミングもくもく会2021年10月\n概要\nプログラミ
 ングを趣味として作品作りを楽しむシニアの会合です
 。\nオンラインにより開催しますので、大阪の名前が
 入っていますが、これにとらわれず遠くからのご参加
 も自由です。\n・自分で開発したscratchやアプリなどの
 作品を発表できる時間があります。(作品は途中でも結
 構です)作品発表を希望される方は、アンケートにその
 旨をご記入くださるようお願いいたします。また作品
 は自分で開発したもの以外でも、参考になるものがあ
 れがご紹介することも自由です。\n・また、毎月、ITに
 関わるテーマについて色々と参加者でおしゃべりをし
 ます。今月の話題はまだ未定です。\nZoomを使用します
 ので、事前にインストールしておいてください。\nタ
 イムスケジュール(案)\n\n\n\n時間\n内容\n\n\n\n\n20:00〜21:0
 0\n作品発表等\n\n\n21:00〜21:30\nテーマ等\n\n\n\n※ 当日20
 時から開始いたします。\n※ 当日参加人数などにより
 予告なく時間配分・内容が変更になる可能性がござい
 ます。\n参加方法\n申込者には開催2~3日前と当日の１８
 時頃にZoomの招待メールを送付いたします。\n当日の途
 中参加や退出は自由です。\n参加費\n無料\n注意事項\n\n
 欠席される場合は、お手数ですが速やかにキャンセル
 処理をお願い致します。\n
LOCATION:オンラインで開催します
URL:https://techplay.jp/event/832904?utm_medium=referral&utm_source=ics&utm
 _campaign=ics
END:VEVENT
END:VCALENDAR
