BEGIN:VCALENDAR
VERSION:2.0
PRODID:-//https://techplay.jp//JP
CALSCALE:GREGORIAN
METHOD:PUBLISH
X-WR-CALDESC:【知らないと損する】正しい理解が効果を高
 める！ 市場で認知されているCCPMと真のCCPMの違い
X-WR-CALNAME:【知らないと損する】正しい理解が効果を高
 める！ 市場で認知されているCCPMと真のCCPMの違い
X-WR-TIMEZONE:Asia/Tokyo
BEGIN:VTIMEZONE
TZID:Asia/Tokyo
BEGIN:STANDARD
DTSTART:19700101T000000
TZOFFSETFROM:+0900
TZOFFSETTO:+0900
TZNAME:JST
END:STANDARD
END:VTIMEZONE
BEGIN:VEVENT
UID:833390@techplay.jp
SUMMARY:【知らないと損する】正しい理解が効果を高める
 ！ 市場で認知されているCCPMと真のCCPMの違い
DTSTART;TZID=Asia/Tokyo:20211019T153000
DTEND;TZID=Asia/Tokyo:20211019T170000
DTSTAMP:20260420T084458Z
CREATED:20210930T121719Z
DESCRIPTION:イベント詳細はこちら\nhttps://techplay.jp/event/83339
 0?utm_medium=referral&utm_source=ics&utm_campaign=ics\n\nセミナーの
 詳細はこちらからご確認ください。【知らないと損す
 る】正しい理解が効果を高める！ 市場で認知されてい
 るCCPMと真のCCPMの違い\nCCPMは、プロジェクトにおける
 様々な問題を解決するために開発されたプロジェクト
 マネジメント手法であり、プロジェクト型組織の大幅
 な生産性向上が望めるソリューションです。弊社もCCPM
 導入支援を通じて、多くのお客様の生産性向上に貢献
 して参りました。\n一方で、独力で情報収集してCCPMを
 実践しているけれど、全然効果が上がらないというご
 相談を頂くことがしばしばあります。そのようなお客
 様は共通して、「改善すべきポイントの一部しか理解
 できていない」という状態でした。\n“市場で認知さ
 れているCCPM”では、改善に必要なポイントへの理解が
 不足してしまう傾向が強いです。ポイントを理解せず
 に、改善活動に取り組んでも、効果は限定的になって
 しまいます。\n本セミナーでは、数多くのお客様の生
 産性向上に貢献してきた経験豊富なコンサルタントがC
 CPMで大きな成果を上げるためのポイントをご説明いた
 します。\n様々な企業で大きな成果を上げてきた“真
 のCCPM”を理解し、改善に向けた取り組みを加速させま
 しょう。
LOCATION:オンライン
URL:https://techplay.jp/event/833390?utm_medium=referral&utm_source=ics&utm
 _campaign=ics
END:VEVENT
END:VCALENDAR
