BEGIN:VCALENDAR
VERSION:2.0
PRODID:-//https://techplay.jp//JP
CALSCALE:GREGORIAN
METHOD:PUBLISH
X-WR-CALDESC:[InterSystems IRIS ウェビナーシリーズ  第3回 ]  SQL
 から始める機械学習 – IntegratedMLのご紹介
X-WR-CALNAME:[InterSystems IRIS ウェビナーシリーズ  第3回 ]  SQL
 から始める機械学習 – IntegratedMLのご紹介
X-WR-TIMEZONE:Asia/Tokyo
BEGIN:VTIMEZONE
TZID:Asia/Tokyo
BEGIN:STANDARD
DTSTART:19700101T000000
TZOFFSETFROM:+0900
TZOFFSETTO:+0900
TZNAME:JST
END:STANDARD
END:VTIMEZONE
BEGIN:VEVENT
UID:833394@techplay.jp
SUMMARY:[InterSystems IRIS ウェビナーシリーズ  第3回 ]  SQLか
 ら始める機械学習 – IntegratedMLのご紹介
DTSTART;TZID=Asia/Tokyo:20211019T123000
DTEND;TZID=Asia/Tokyo:20211019T131000
DTSTAMP:20260423T180757Z
CREATED:20210930T131405Z
DESCRIPTION:イベント詳細はこちら\nhttps://techplay.jp/event/83339
 4?utm_medium=referral&utm_source=ics&utm_campaign=ics\n\n[InterSystems IR
 IS ウェビナーシリーズ  第3回]SQLから始める機械学習 
 – IntegratedMLのご紹介\n\n概要\nInterSystems IRIS data platform 
 は、エンタープライズクラスのアプリケーション構築
 を、開発者がこれまで以上に迅速、かつ容易に実現す
 る次世代のデータプラットフォームです。\nインター
 システムズでは、4回に渡り、InterSystems IRIS 2021.1の新機
 能や、開発を行う上で有用な機能をご紹介するウェビ
 ナーを開催致します。\n第３回目は、機械学習を促進
 する IntegratedML を取り上げます。\nデータサイエンティ
 ストと呼ばれる高度なスキルを持った人材が不足する
 など、実際に機械学習を活用したシステムを開発し、
 ビジネスに生かすところに到達するまでには様々な課
 題があります。\nインターシステムズは、アプリケー
 ション開発者の方々が、IRIS data platformに保存されてい
 るデータとSQLを用いて、機械学習を容易に利用できる
 仕組み – IntegratedML – を開発しました。IntegratedMLの概
 要について、ぜひご覧ください。\nタイムスケジュー
 ル\n\n\n\n時間\n内容\n\n\n\n\n12:30～12:35\nON24 の使い方\n\n\n
 12:35～13:10\nSQLから始める機械学習 – IntegratedMLのご紹
 介\n\n\n\n※ 当日予告なく時間配分・内容が変更になる
 可能性がございます。\n登壇者\nインターシステムズジ
 ャパン株式会社SE マネージャー堀田 稔\n参加対象\n\n機
 械学習をこれから始めてみたいとお考えの方\n新しい
 データプラットフォームを使ってみたい方\nデータプ
 ラットフォームを活用して何ができるのかお知りにな
 りたい方\n\n参加費\n\n無料（事前登録制）\n本ウェビナ
 ーは ON24 にて行います。お申し込み後、配信URLをご入
 力頂いたメールアドレス宛にお送り致します。\n\nInterS
 ystems IRIS data platform について\nInterSystems IRIS data platform 
 は、拡張性に優れ、相互運用性、分析機能を備えたア
 プリケーション開発のためのデータプラットフォーム
 です。\n企業にとって最も価値のある資産(データ)の取
 得、共有、理解、そしてデータに基づく行動のために
 必要なすべてのものを提供します。\n完全なプラット
 フォームである InterSystems IRIS は、複数の開発技術を統
 合する必要がありません。より少ないコードで開発が
 可能で、そのアプリケーションは、システムリソース
 、メンテナンスなども少なくて済みます。\n\nInterSystems
  IRIS の概要を紹介した動画を公開しています。こちら
 も合わせてご覧ください(YouTubeヘリンク)。\n\n昨年リリ
 ースされたバージョン2020.1から、新バージョン2021.1の
 間で追加／改善／強化された機能についてご紹介して
 いるビデオもこちらから公開しています(YouTubeへリン
 ク）。\n\n
LOCATION:オンライン (ON24)
URL:https://techplay.jp/event/833394?utm_medium=referral&utm_source=ics&utm
 _campaign=ics
END:VEVENT
END:VCALENDAR
