BEGIN:VCALENDAR
VERSION:2.0
PRODID:-//https://techplay.jp//JP
CALSCALE:GREGORIAN
METHOD:PUBLISH
X-WR-CALDESC:[InterSystems IRIS ウェビナーシリーズ  第４回 ]  
 医療情報交換フレームワーク FHIR 新機能
X-WR-CALNAME:[InterSystems IRIS ウェビナーシリーズ  第４回 ]  
 医療情報交換フレームワーク FHIR 新機能
X-WR-TIMEZONE:Asia/Tokyo
BEGIN:VTIMEZONE
TZID:Asia/Tokyo
BEGIN:STANDARD
DTSTART:19700101T000000
TZOFFSETFROM:+0900
TZOFFSETTO:+0900
TZNAME:JST
END:STANDARD
END:VTIMEZONE
BEGIN:VEVENT
UID:833395@techplay.jp
SUMMARY:[InterSystems IRIS ウェビナーシリーズ  第４回 ]  医療
 情報交換フレームワーク FHIR 新機能
DTSTART;TZID=Asia/Tokyo:20211021T123000
DTEND;TZID=Asia/Tokyo:20211021T131000
DTSTAMP:20260425T022216Z
CREATED:20210930T132850Z
DESCRIPTION:イベント詳細はこちら\nhttps://techplay.jp/event/83339
 5?utm_medium=referral&utm_source=ics&utm_campaign=ics\n\n[InterSystems IR
 IS ウェビナーシリーズ  第４回]医療情報交換フレーム
 ワーク FHIR 新機能\n\n概要\nInterSystems IRIS data platform は
 、エンタープライズクラスのアプリケーション構築を
 、開発者がこれまで以上に迅速、かつ容易に実現する
 次世代のデータプラットフォームです。\nインターシ
 ステムズでは、4回に渡り、InterSystems IRIS 2021.1の新機能
 や、開発を行う上で有用な機能をご紹介するウェビナ
 ーを開催致します。\n第４回目は、医療に特化したデ
 ータプラットフォーム InterSystems IRIS for Health の FHIR の
 新機能を取り上げます。\n次世代の医療情報交換フレ
 ームワークといわれるFHIRですが、IRIS for HealthではFHIR
 リポジトリ、データを規格に合わせる変換処理等のFHIR
 規格の実装・利用のための機能を提供しております。\
 n最新バージョンの2021.1ではFHIRアプリケーションの実
 装をさらに楽にするための開発を支援する様々な新機
 能が追加されましたのでご紹介させていただきます。
 ぜひご参加ください。\n＊今回の内容にFHIR規格の概要
 は含まれません。FHIR規格につきましては　FHIR+IRIS for H
 ealth 101 – YouTube（動画）をご参照ください。\nタイム
 スケジュール\n\n\n\n時間\n内容\n\n\n\n\n12:30～12:35\nON24 の
 使い方\n\n\n12:35～13:10\nFHIR 新機能\n\n\n\n※ 当日予告な
 く時間配分・内容が変更になる可能性がございます。\
 n登壇者\nインターシステムズジャパン株式会社セール
 スエンジニア小野 奈海\n参加対象\n\nFHIR を使って新し
 い医療アプリケーションを効率よく構築したい方\nFHIR 
 に関する最新情報をお知りになりたい方\n医療に特化
 した新しいデータプラットフォームを使ってみたい方\
 nデータプラットフォームを活用して何ができるのかお
 知りになりたい方\n\n参加費\n\n無料（事前登録制）\n本
 ウェビナーは ON24 にて行います。お申し込み後、配信U
 RLをご入力頂いたメールアドレス宛にお送り致します
 。\n\nInterSystems IRIS data platform について\nInterSystems IRIS da
 ta platform は、拡張性に優れ、相互運用性、分析機能を
 備えたアプリケーション開発のためのデータプラット
 フォームです。\n企業にとって最も価値のある資産(デ
 ータ)の取得、共有、理解、そしてデータに基づく行動
 のために必要なすべてのものを提供します。\n完全な
 プラットフォームである InterSystems IRIS は、複数の開発
 技術を統合する必要がありません。より少ないコード
 で開発が可能で、そのアプリケーションは、システム
 リソース、メンテナンスなども少なくて済みます。\n\n
 InterSystems IRIS の概要を紹介した動画を公開しています
 。こちらも合わせてご覧ください(YouTubeヘリンク)。\n\n
 昨年リリースされたバージョン2020.1から、新バージョ
 ン2021.1の間で追加／改善／強化された機能についてご
 紹介しているビデオもこちらから公開しています(YouTub
 eへリンク）。\n\n
LOCATION:オンライン (ON24)
URL:https://techplay.jp/event/833395?utm_medium=referral&utm_source=ics&utm
 _campaign=ics
END:VEVENT
END:VCALENDAR
