BEGIN:VCALENDAR
VERSION:2.0
PRODID:-//https://techplay.jp//JP
CALSCALE:GREGORIAN
METHOD:PUBLISH
X-WR-CALDESC:【無料・オンライン】WEB集客するサイトを作
 る7つのポイントセミナー
X-WR-CALNAME:【無料・オンライン】WEB集客するサイトを作
 る7つのポイントセミナー
X-WR-TIMEZONE:Asia/Tokyo
BEGIN:VTIMEZONE
TZID:Asia/Tokyo
BEGIN:STANDARD
DTSTART:19700101T000000
TZOFFSETFROM:+0900
TZOFFSETTO:+0900
TZNAME:JST
END:STANDARD
END:VTIMEZONE
BEGIN:VEVENT
UID:833510@techplay.jp
SUMMARY:【無料・オンライン】WEB集客するサイトを作る7つ
 のポイントセミナー
DTSTART;TZID=Asia/Tokyo:20211011T183000
DTEND;TZID=Asia/Tokyo:20211011T193000
DTSTAMP:20260424T100246Z
CREATED:20211001T033936Z
DESCRIPTION:イベント詳細はこちら\nhttps://techplay.jp/event/83351
 0?utm_medium=referral&utm_source=ics&utm_campaign=ics\n\n【無料・オ
 ンライン】WEB集客するサイトを作る7つのポイントセミ
 ナー\n概要\nこのセミナーではサイトから問い合わせを
 増やす方法をお伝えします！\n\nホームページからの集
 客が増えない…\n今のホームページのSEO対策に自信が
 ない…\n何から始めたら良いのか分からない…\n\nとお
 悩みのWeb担当者様、必見です。\n売れるサイト制作の
 ポイント、押さえられていますか？\nほとんどの企業
 やお店は制作会社にホームページの制作をお願いしま
 す。そして、売上の上げ方をホームページ制作会社に
 尋ねます。それは、お店をオープンする際に内装を工
 務店に頼んで、お店に人を呼ぶ方法を工務店にきくよ
 うなものです。\nもちろん、センスがあるデザイナー
 さんもいると思いますが、ほとんどのホームページは
 、新規客にほぼ見られることもない場合も多いでしょ
 う。\n見込み客の高いお客様を集め、反響が多いサイ
 トは、「売れるサイト制作のポイント」をしっかりと
 押さえています。\n今回のホームページ集客セミナー
 で学ぶこと\n今回のセミナーでは、ホームページから
 集客するためにあなたが押さえておく７つのポイント
 を中心にお話します。\n\n1.目的を明確にする\n問い合
 わせを行ってもらうのか？見積り依頼なのか？資料請
 求なのか？販売なのか？まずは目的を明確にすること
 を考えます。\n2.目標を明確にする\nホームページを作
 る際の目標を考えます。どんな目標が適切なのか？自
 分に合った目標の設定方法は？\n3.誰が見るのか考える
 (ターゲティング)\nあなたのホームページを誰が見るの
 か一緒に考えましょう。どうやってターゲットリサー
 チするのか？何をリサーチすれば良いのか？\n4.あなた
 を選ぶ理由を考える\n競合の多いインターネットの世
 界で、他社でなくあなたのホームページが選ばれるに
 はどうすればいいのでしょうか？\n5.お客様の心に届く
 文章を作る(ベネフィットを作る)\nどうすれば顧客心理
 をつかめるのか考えてみましょう。心に届く文章の書
 き方をご紹介します。\n6.競合他社と比べる\n競合の何
 を比べたら良いのか？競合に勝てるホームページを作
 るにはどうすれば良いのかをお伝えします。\n7.ファー
 ストビューで大切な情報を伝える\n何を伝えたら良い
 のか？ポイントはどこにあるのか？ここでは訪問者に
 とって大切な情報を見出す方法を学びます。\n今回の
 ホームページ集客セミナーに参加すれば\nこんな事が
 手に入ります。\n\nホームページからの問い合わせを2
 倍や3倍にする方法を手に入れる事が出来ます。\n何か
 ら始めたら良いのか、ホームページ集客の考え方基本
 ステップである7つのポイントが分かります。\n自分の
 ホームページの問題点や課題点が分かるようになりま
 す。\n\n過去ホームページ集客セミナー参加者の声in大
 阪\n\n\n鋼材販売業　東大阪市・専務取締役Ｈ様.U様当
 社の業種は商圏が狭く、お客様となる業種も限られて
 いるのでホームページは会社案内程度に考えておりま
 したが、セミナーに参加してまだまだ改善をすれば新
 規開拓に使えると感じました。 過去の実績の紹介も多
 く、まさに「本物のノウハウ」だと感じました。あり
 がとうございました。\n\n株式会社大澤印刷　大阪市・
 大澤様非常に分かりやすかったです。なんとなく分か
 っていた事が具体的に分かるようになりました。\n\n株
 式会社アースシステム　大阪市・松下様集客に力を入
 れて、サイトの改善を行いたいという目的を達成する
 事が出来ました。セミナーの内容も役に立つものでし
 た。\n\n運輸倉庫業　貝塚市・専務取締役F様改善点は
 いくらでもあることを感じた。分析や運用に力を入れ
 ているという御社の強みに納得出来た。\n\nホームペー
 ジの運用で喜んでおられる当社の実績\n\n\n植木屋成約
 数が10倍、リピーターも付きました実施施策：コンテ
 ンツＳＥＯと内部ＳＥＯ、サイト改善\n\n映像制作会社
 リスティング広告運用を自社から弊社に変更して、新
 規問い合わせ数5件→20件に増加実施施策：リスティン
 グ広告運用、サイト改善\n\n人材紹介会社求人サイト応
 募登録単価が19\,476円に実施施策：ランディングページ
 制作、リスティング広告運用、サイトの運用改善\n\nハ
 ウスクリーニング業サイト制作から3ヵ月で反響97件　
 成約80件実施施策：新規サイト制作+リスティング広告
 運用\n\n飲食業数か月に1件しかない問合せが、コンバ
 ージョン6.4件/月・電話で平均38.3件/月に！実施施策：
 サイトリニューアル＋SEO対策\n\n今お持ちのホームペー
 ジの集客でお悩みの方、これからホームページで集客
 を成功させたい方は、ぜひご参加下さい。\nタイムス
 ケジュール\n\n\n\n時間\n内容\n\n\n\n\n18:15〜\n開場\n\n\n18:3
 0〜19:15\nセミナー開始\n\n\n19:15〜19:30\n質疑応答\n\n\n\n登
 壇者\n\n上野山 光雄\n株式会社バリューエージェント 
 代表取締役\n（WEBマーケター/WEBコンサルタント）\n専
 門学校を卒業後　店頭公開のITシステム会社にSEとして
 就職、その後建築会社の営業で活躍　売上げ100億円超
 の企業で取締役を3年間経験。2005年に株式会社バリュ
 ーエージェント設立　マーケティングシステム、店舗
 集客、WEBマーケティング事業で中小企業を中心に500社
 を超える集客サービスの導入実績。\n\n過去のセミナー
 ・研修実績\n\nGoogleアナリティクスの使い方・分析方法
 研修\nWebマーケティングの基礎とSEO対策講座\n売れるホ
 ームページの作り方 12のポイント　吹田商工会議所\n
 集客と成約するホームページ作成セミナー　北大阪商
 工会議所主催\nＷeb販路開拓セミナー「有効なＷeb広告
 の出し方」豊中商工会議所\nWebで販路開拓を目指すセ
 ミナー　和歌山商工会議所\n自社開催＆クライアント
 先での研修\n売れるホームページ12のポイントセミナー
 \n売れるランディングページ作成研修\nSEOに強いライテ
 ィング研修\nGoogleアナリティクスを使って改善点を見
 つけ出す方法研修\n有効なツイッター運用研修\n\n参加
 対象\n\n経営者\nWebご担当者様\nSEO対策について詳しく
 知りたい方\n\n※今回のセミナーは同業者（Web制作会社
 ・Webコンサルティング会社・広告代理店等）はお断り
 する場合がございます。\n参加費\n無料\nハッシュタグ\
 n#バリューエージェント #WEB集客するサイトを作る7つ
 のポイントセミナー #無料ウェビナー
LOCATION:オンライン
URL:https://techplay.jp/event/833510?utm_medium=referral&utm_source=ics&utm
 _campaign=ics
END:VEVENT
END:VCALENDAR
