BEGIN:VCALENDAR
VERSION:2.0
PRODID:-//https://techplay.jp//JP
CALSCALE:GREGORIAN
METHOD:PUBLISH
X-WR-CALDESC:無料ヒートマップでコンテンツを改善する方
 法
X-WR-CALNAME:無料ヒートマップでコンテンツを改善する方
 法
X-WR-TIMEZONE:Asia/Tokyo
BEGIN:VTIMEZONE
TZID:Asia/Tokyo
BEGIN:STANDARD
DTSTART:19700101T000000
TZOFFSETFROM:+0900
TZOFFSETTO:+0900
TZNAME:JST
END:STANDARD
END:VTIMEZONE
BEGIN:VEVENT
UID:833568@techplay.jp
SUMMARY:無料ヒートマップでコンテンツを改善する方法
DTSTART;TZID=Asia/Tokyo:20211019T120000
DTEND;TZID=Asia/Tokyo:20211019T130000
DTSTAMP:20260421T223809Z
CREATED:20211001T085223Z
DESCRIPTION:イベント詳細はこちら\nhttps://techplay.jp/event/83356
 8?utm_medium=referral&utm_source=ics&utm_campaign=ics\n\n無料ヒート
 マップでコンテンツを改善する方法\n2021年10月19日（火
 ）12:00～13:00\nウェビナー後のアンケートにて希望され
 た方限定で、弊社保有のビッグデータに基づいた競合
 調査や貴社サイト課題点・改善点を用いた面談も行っ
 ております。お時間のある方はぜひご参加ください。\
 n▼ウェビナー内容・スクロール率から検索意図のアン
 サー度を解析・コンバージョン導線へのリンククリッ
 ク率の解析・サーチコンソールを使った検索ユーザー
 の意図解析\n▼ウェビナー開催概要・開催日時：10月19
 日（火）12:00～13:00・参加費：無料・開催方法：ウェビ
 ナー　※Zoomを利用します・参加方法：お申込後に、別
 途メールにてご案内致します。\n▼タイムスケジュー
 ル11:58〜　視聴用URL開場12:00〜12:40　ウェビナー本編12:4
 0〜13:00　質疑応答・アンケート回答　※質問がなくな
 り次第終了※ 当日予告なく時間配分・内容が変更にな
 る可能性がございます。\n▼講師紹介尾崎　篤志株式
 会社CINCコンサルタント\n▼注意事項競合他社/同業者/
 企業にご所属でない個人の方からのお申込みなど、 当
 社の判断によりセミナー参加をお断りする場合があり
 ます。予めご了承ください。
LOCATION:オンラインセミナー
URL:https://techplay.jp/event/833568?utm_medium=referral&utm_source=ics&utm
 _campaign=ics
END:VEVENT
END:VCALENDAR
