BEGIN:VCALENDAR
VERSION:2.0
PRODID:-//https://techplay.jp//JP
CALSCALE:GREGORIAN
METHOD:PUBLISH
X-WR-CALDESC:業務の可視化と連携で「ムリ」「ムダ」「ム
 ラ」からの脱却！ワークスタイルの変革を効率的に進
 める方法
X-WR-CALNAME:業務の可視化と連携で「ムリ」「ムダ」「ム
 ラ」からの脱却！ワークスタイルの変革を効率的に進
 める方法
X-WR-TIMEZONE:Asia/Tokyo
BEGIN:VTIMEZONE
TZID:Asia/Tokyo
BEGIN:STANDARD
DTSTART:19700101T000000
TZOFFSETFROM:+0900
TZOFFSETTO:+0900
TZNAME:JST
END:STANDARD
END:VTIMEZONE
BEGIN:VEVENT
UID:833900@techplay.jp
SUMMARY:業務の可視化と連携で「ムリ」「ムダ」「ムラ」
 からの脱却！ワークスタイルの変革を効率的に進める
 方法
DTSTART;TZID=Asia/Tokyo:20211013T150000
DTEND;TZID=Asia/Tokyo:20211013T160000
DTSTAMP:20260420T222258Z
CREATED:20211004T080407Z
DESCRIPTION:イベント詳細はこちら\nhttps://techplay.jp/event/83390
 0?utm_medium=referral&utm_source=ics&utm_campaign=ics\n\nIT、情報系
 部門の方必見！今まで見えていなかった業務課題を効
 率よく解決する方法！\n昨今の社会情勢の影響もあり
 、DXに取り組む企業様が増えてきている一方で、DX推進
 のために社内の業務整理や棚卸の必要性を感じながら
 も\n「何から手を付けたら良いかわからない」「業務
 内容が細かく可視化が難しい」「各部門からの情報集
 約に時間がかかる」\nなどお悩みのIT部門、情報システ
 ムのご担当者様も多いのではないでしょうか。\n本セ
 ミナーではワークスタイル変革ソリューションをご提
 供されている株式会社テンダ様と、プログラミング不
 要の業務自動化ソリューションを提供するBixteX株式会
 社で、全社の業務を可視化し、効率化・自動化を加速
 させる方法を事例を交えてご紹介いたします。\n■プ
 ログラム\n１部　株式会社テンダ「業務の可視化によ
 る効率的な業務改善方法とは」\n２部　BixteX株式会社
 「クラウドサービスの連携をノーコードで実現！業務
 の可視化と効率化の両立」※講演内容は変更となる場
 合がございます。\n■対象者\n下記のようなお悩み・課
 題をお持ちの方にお勧めです！・IT部門、情報システ
 ムのご担当者様・業務整理や棚卸はしたいが、何から
 始めたら良いかお悩みの方・業務の属人化を解消した
 い方・全社のシステム利用における効率化、自動化を
 したい方\n■日程\n2021年10月13日（水）15：00～16：00\n■
 ご参加方法\nzoomオンライン開催（PC、スマホ、タブレ
 ット）\n※お申し込み後にご視聴URLをお送りいたしま
 す。\n■ご確認事項\n・お申込みいただいた方は、弊社
 プライバシーポリシーに同意いただいたものとさせて
 いただきます。・弊社サービスと類似、または競合す
 るサービスの運営企業様のご参加はご遠慮いただいて
 おります。あらかじめご了承ください。
LOCATION:オンライン
URL:https://techplay.jp/event/833900?utm_medium=referral&utm_source=ics&utm
 _campaign=ics
END:VEVENT
END:VCALENDAR
