BEGIN:VCALENDAR
VERSION:2.0
PRODID:-//https://techplay.jp//JP
CALSCALE:GREGORIAN
METHOD:PUBLISH
X-WR-CALDESC:台湾発SNS企業に聞く！スタートアップ、外資
 系企業とは？
X-WR-CALNAME:台湾発SNS企業に聞く！スタートアップ、外資
 系企業とは？
X-WR-TIMEZONE:Asia/Tokyo
BEGIN:VTIMEZONE
TZID:Asia/Tokyo
BEGIN:STANDARD
DTSTART:19700101T000000
TZOFFSETFROM:+0900
TZOFFSETTO:+0900
TZNAME:JST
END:STANDARD
END:VTIMEZONE
BEGIN:VEVENT
UID:833969@techplay.jp
SUMMARY:台湾発SNS企業に聞く！スタートアップ、外資系企
 業とは？
DTSTART;TZID=Asia/Tokyo:20211020T190000
DTEND;TZID=Asia/Tokyo:20211020T200000
DTSTAMP:20260420T024446Z
CREATED:20211004T151653Z
DESCRIPTION:イベント詳細はこちら\nhttps://techplay.jp/event/83396
 9?utm_medium=referral&utm_source=ics&utm_campaign=ics\n\n\n台湾発SNS
 企業に聞く！スタートアップ、外資系企業とは？\n\n☆
  弊社の福利『ギフトボックス』体験が抽選で当たる 
 ♪- スタートアップ企業ってどんなことをしているの
 ？- 外資系企業に就職するコツは？- 長期インターンシ
 ップに参加するメリットは？\nなどなど、弊社の特徴
 と交えて、弊社メンバー＆CEOが上記のトピックについ
 て紹介したいと思います！\n内容\n- 外資系企業、スタ
 ートアップ企業について（15分）- Dtto 会社説明（30分
 ）- Dtto 長期インターンシップ体験談（20分）- 座談会
 （10分）\n登壇者（一部のみ紹介）\nhttps://s3.techplay.jp/tp
 -images/event/4511/ongkgTiXb7f6CSuJCJ6MTVyj6fucBk2TsHT7AhN7.jpg\nAsuka\nD
 tto株式会社　Marketing Specialist\n台湾で2社のスタートア
 ップ企業、3社の外資系企業を経験。20代でマーケティ
 ングやPR、人事など幅広い職種、プロジェクトに関わ
 る。\n\n参加対象\n- 現役大学生- 第二新卒- SNS が好きな
 方- スタートアップや外資企業に興味のある方は大学
 生でなくても大歓迎！\n参加費\n無料お申し込みはこち
 らから　https://dtto.ly/meetup1020\n\nリクルーティング、勧
 誘など、採用目的でのイベント参加はお断りしており
 ます。\nキャンセル待ち・補欠・落選の方はご参加い
 ただくことが出来ませんのでご了承ください。\n欠席
 される場合は、お手数ですが速やかにキャンセル処理
 をお願い致します。\n無断キャンセルや欠席が続く場
 合、次回以降の参加をお断りさせていただく場合がご
 ざいます。\n
LOCATION:オンライン
URL:https://techplay.jp/event/833969?utm_medium=referral&utm_source=ics&utm
 _campaign=ics
END:VEVENT
END:VCALENDAR
