BEGIN:VCALENDAR
VERSION:2.0
PRODID:-//https://techplay.jp//JP
CALSCALE:GREGORIAN
METHOD:PUBLISH
X-WR-CALDESC:【Qlik ヘルスケア勉強会】NDBオープンデータ（
 探索編）＋病床機能報告（加工編）
X-WR-CALNAME:【Qlik ヘルスケア勉強会】NDBオープンデータ（
 探索編）＋病床機能報告（加工編）
X-WR-TIMEZONE:Asia/Tokyo
BEGIN:VTIMEZONE
TZID:Asia/Tokyo
BEGIN:STANDARD
DTSTART:19700101T000000
TZOFFSETFROM:+0900
TZOFFSETTO:+0900
TZNAME:JST
END:STANDARD
END:VTIMEZONE
BEGIN:VEVENT
UID:834144@techplay.jp
SUMMARY:【Qlik ヘルスケア勉強会】NDBオープンデータ（探
 索編）＋病床機能報告（加工編）
DTSTART;TZID=Asia/Tokyo:20211027T180000
DTEND;TZID=Asia/Tokyo:20211027T190000
DTSTAMP:20260421T152118Z
CREATED:20211006T063910Z
DESCRIPTION:イベント詳細はこちら\nhttps://techplay.jp/event/83414
 4?utm_medium=referral&utm_source=ics&utm_campaign=ics\n\n【Qlik ヘル
 スケア勉強会】NDBオープンデータ（探索編）＋病床機
 能報告（加工編）\n\n概要\n★今回から18時開始となっ
 ています。ご注意ください。第7回目のヘルスケア勉強
 会でも「探索編」「加工編」の2つのパートでお話しし
 ます。\n探索編では、NDBオープンデータの第1回から第6
 回の処方薬のデータを利用して、後発品の普及状況に
 ついて探索してみます。加工編では、前回まで探索編
 で取り上げていた病床機能報告のアプリを作るには、
 どのようにデータを扱えばよいかを解説します。DPCの
 手術別疾患別集計データの取り込みを体験された方は
 簡単に思われるかもしれません！ここまで足慣らし（
 ？）で、第8回にはDPCの様式1やEFファイルの活用の方向
 にいきたいなと考えています。DPCの生データを取り込
 めるアプリを作っていこうかなと思いますので、皆さ
 んと一緒に現場で役立てられるアプリができるとよい
 なと思ってます。\n\n参加者のかたも自由に質問や発言
 していただき、一緒に勉強していきましょう。事前にQ
 lik Japan Healthcare Communityにテーマに沿った質問をにあげ
 ていただくと、セミナーの中でご説明させていただく
 場合もあります。\n＊Zoomのミーティング形式で実施し
 ます。参加者同士はアカウント名を見ることができま
 す。ニックネームでのご参加でもかまいません。\nア
 ジェンダ\n本セミナーの趣旨Qlik Senseの概要[探索編]（
 厚労省 NDBオープンデータ）処方薬6年分を利用した後
 発品の普及状況の探索[加工編]（厚労省 病床機能報告
 ）病床機能報告データの前処理（以外に簡単？！）Q&A
 次回取り上げるテーマ\nファシリテーター\n\n村田　太
 郎\nクリックテック・ジャパン株式会社営業本部 Japan S
 ales Team Lead\nQlikに入社して5年、公共・ヘルスケア分野
 を中心に営業活動を実施。Communityサイトに、Qlik Healthca
 re Japanグループを立ち上げ、業界に役立つ情報を発信
 しています。自分でQlikアプリも作成してしまうクール
 な知性派。Awesome City Clubをこよなく愛するもんじゃの
 街の住人。\n参加対象\n医療関係者でデータ活用にご興
 味がある方、またQlik をご利用いただいている方、ど
 なたでもご参加いただけます。お気軽にご参加くださ
 い。事前に下記よりQlik Sense 入門ハンズオンWebセミナ
 ーをご利用いただいてご体験頂くと、さらに当セミナ
 ーの内容をご活用いただけます。Qlik Sense Business 入門 
 ハンズオン Web セミナー\n事前準備\nZoom（Web会議ツール
 ）を使用します。あらかじめご利用のPCやタブレット
 、スマートフォンにインストールをお願いします。当
 セミナーのURLはお申込みいただいた方に、セミナー開
 催日前日までにお知らせいたします。お申し込み後は
 当ページからもご参加いただけます。\n参加費\n無料
LOCATION:オンライン
URL:https://techplay.jp/event/834144?utm_medium=referral&utm_source=ics&utm
 _campaign=ics
END:VEVENT
END:VCALENDAR
