BEGIN:VCALENDAR
VERSION:2.0
PRODID:-//https://techplay.jp//JP
CALSCALE:GREGORIAN
METHOD:PUBLISH
X-WR-CALDESC:明日からできるWEB集客の改善方法～SEO編～【 
 初心者向け】
X-WR-CALNAME:明日からできるWEB集客の改善方法～SEO編～【 
 初心者向け】
X-WR-TIMEZONE:Asia/Tokyo
BEGIN:VTIMEZONE
TZID:Asia/Tokyo
BEGIN:STANDARD
DTSTART:19700101T000000
TZOFFSETFROM:+0900
TZOFFSETTO:+0900
TZNAME:JST
END:STANDARD
END:VTIMEZONE
BEGIN:VEVENT
UID:834264@techplay.jp
SUMMARY:明日からできるWEB集客の改善方法～SEO編～【 初心
 者向け】
DTSTART;TZID=Asia/Tokyo:20211019T170000
DTEND;TZID=Asia/Tokyo:20211019T180000
DTSTAMP:20260424T032347Z
CREATED:20211007T033203Z
DESCRIPTION:イベント詳細はこちら\nhttps://techplay.jp/event/83426
 4?utm_medium=referral&utm_source=ics&utm_campaign=ics\n\n明日からで
 きるWEB集客の改善方法～SEO編～【 初心者向け】\n今回
 のセミナーでは有料相談でよくいただく以下の課題に
 ついてお伝えします。\n・ホームページを放置してお
 り全く集客できていない・今すぐSEO対策で自分のサイ
 トを上位表示させたいが基本がわからない・短期間で
 結果をだせるSEO業者が見つからない\nという課題につ
 いて、このセミナーで解決できると思います。\n実際
 に参加いただくことで、\n・あなたがホームページで
 集客できていない３つの原因・明日からできるWEB集客
 の改善方法・集客に成功した事例\nの３つが学べます
 。\nさらに今ならセミナーに参加していただいた方限
 定で、弊社のSEO対策無料相談の特典付きです。\n無料
 相談ではホームページを活用できていない原因を専門
 家の視点から特定し、改善策のご提案をします。\n※
 無料相談の注意事項・1業種1社限定となります。・参
 加申し込み時にホームページURL、お名前、連絡先を入
 力いただいた方限定となりますので、ご了承ください
 。\n※営業などは致しませんのでご安心ください。\nタ
 イムスケジュール\n\n\n\n時間\n内容\n\n\n\n\n17 ：00～\n開
 始\n\n\n\n１．会社・講師紹介\n\n\n\n２．ホームページで
 集客できていない３つの原因\n\n\n\n３．明日からでき
 るWEB集客の改善策\n\n\n\n４．質疑応答\n\n\n\n※ 当日予
 告なく時間配分・内容が変更になる可能性がございま
 す。\n講師紹介\n原 志穂\n株式会社スフィアネットWEBデ
 ィレクターGoogleアナリティクス個人認定資格者\n前職
 の金融窓口時代に、雑務に追われて疲弊した経験があ
 り、そんな業務を改善するシステムを開発したいとIT
 業界へ転職。\n入社後、システム導入をして業務を効
 率化しても、お客様を集客できず販売不振で追い込ま
 れていく経営者様を見て、システムだけでは経営改善
 できないことを痛感。\nさらに、倒産する企業の70%は
 販売不振が理由と知り、以降ホームページを強化して
 販売不振を防ぐWEBマーケティング事業部のwebディレク
 ターとして、現在半導体、電化製品メーカー、写真館
 などのホームページ集客の担当。\nGoogle アナリティク
 ス個人認定資格者\n参加対象\n\nホームページから集客
 できず悩んでいるWEB担当者様\nホームページで集客す
 る方法がわからない営業企画担当者様\nホームページ
 集客の実績のある業者選びが難航している会社経営者
 様\n\n参加費\n無料\n注意事項\n\n\nWEBのみの開催となり
 ますので、ご了承ください。エントリーいただいた方
 に、前日までにWEBセミナー開催のURLをお送りします。
 ※WEBツール：Zoom\n競合、同業社様（求人広告代理店、
 ウェブ広告代理店等）のご参加はお断りいたします。\
 nお申し込み後にやむを得ずご欠席される場合は、お手
 数ですが前日までに（hara@sphere-net.co.jp　担当:原）宛に
 ご連絡ください。\n
LOCATION:オンライン
URL:https://techplay.jp/event/834264?utm_medium=referral&utm_source=ics&utm
 _campaign=ics
END:VEVENT
END:VCALENDAR
