BEGIN:VCALENDAR
VERSION:2.0
PRODID:-//https://techplay.jp//JP
CALSCALE:GREGORIAN
METHOD:PUBLISH
X-WR-CALDESC:エンジニアのためのデザイン思考　基礎編　 
 ～デザイン思考の実践スキルを１ DAY ＆ オンラインで
 学ぶ　
X-WR-CALNAME:エンジニアのためのデザイン思考　基礎編　 
 ～デザイン思考の実践スキルを１ DAY ＆ オンラインで
 学ぶ　
X-WR-TIMEZONE:Asia/Tokyo
BEGIN:VTIMEZONE
TZID:Asia/Tokyo
BEGIN:STANDARD
DTSTART:19700101T000000
TZOFFSETFROM:+0900
TZOFFSETTO:+0900
TZNAME:JST
END:STANDARD
END:VTIMEZONE
BEGIN:VEVENT
UID:834321@techplay.jp
SUMMARY:エンジニアのためのデザイン思考　基礎編　 ～デ
 ザイン思考の実践スキルを１ DAY ＆ オンラインで学ぶ
 　
DTSTART;TZID=Asia/Tokyo:20211030T100000
DTEND;TZID=Asia/Tokyo:20211030T170000
DTSTAMP:20260423T042144Z
CREATED:20211007T101436Z
DESCRIPTION:イベント詳細はこちら\nhttps://techplay.jp/event/83432
 1?utm_medium=referral&utm_source=ics&utm_campaign=ics\n\nエンジニア
 のためのデザイン思考　基礎編　\n～デザイン思考の
 実践スキルを１ DAY ＆ オンラインで学ぶ　\n背景\n従来
 は依頼主からの要求事項に従って設計やシステムを作
 れば事が足りていました。しかし、VUCA（※）とも呼ば
 れる先行き不透明で将来の予測が困難な時代にあって
 は、要件定義はますます困難になり何が課題かすらわ
 からなくなりつつあります。そのような時代において
 は曖昧な思いや考え方を束ねて、依頼主と開発者が一
 体となってあるべき姿を描いていくことが求められま
 す。（※VUCA：Volatility、Uncertainty、Complexity、Ambiguityの
 頭文字を並べた造語）\nそこで有効なメソッドとされ
 ているのが「デザイン思考」です。\nデザイン思考と
 はデザイナーの思考法を体系化したものです。\n\n人間
 中心の考え方で使う人（ユーザー）に寄り添い\nユー
 ザーの行動の観察・共感から価値観を推測し\n潜在的
 な課題やニーズを抽出し\n創出されたアイデアをプロ
 トタイピング（価値の検証）を行い\nフィードバック
 を元にブラッシュアップする\n\nというプロセスであり
 、昨今ではシステム開発における要件定義やアジャイ
 ル開発に有効なアプローチとして導入が進んでいます
 。\nとはいえ、これらをそのまま日常業務に取り入れ
 ていくのは難しいのも事実です。「デザイン思考」が
 正攻法なのではなく、エッセンスを捉え、エンジニア
 ならではの思考法やワークフローに上手く融合させて
 いくことが求められるからです。\n「DXDキャンプ」で
 は、デザイン思考をエンジニアの視点から“翻訳”し
 、明日の業務から取り入れていただける内容で構成さ
 れています。\nこのワークショップで習得できる内容\n
 「デザイン思考」は理論を学ぶだけでなく、実践を通
 して「使い方を体感する」ことが重要です。このワー
 クショップは、理論を学ぶ「レクチャー」編と、実践
 する「ワークショップ」編の2部構成。1日でスピーデ
 ィにデザイン思考の基礎が身につきます。\n本プログ
 ラムでは、エンジニアの方向けにプログラムを一から
 構築。デザイン思考に初めて取り組む方はもちろん、
 以前学んだ経験があるが腹落ちしなかった、という方
 にもお薦めです。\n①レクチャー編：デザインに関す
 る基本的な理解\n「デザイン」の意味とその実務、デ
 ザインが時代の要請に対応し機能や価値が進化してい
 った過程と、今後求められる広義のデザインの世界観
 を理解します。また、エンジニアとデザイナーの機能
 の違いや役割分担を理解し課題解決を推進した事例に
 ついてもご紹介いたします。\n②実践編：デザイン思
 考の基本的な考え方とプロセスの実践\n実践編ではデ
 ザイン思考の基本的な考え方を理解し、実践技法とし
 て、インサイト把握、アイデア創出、プロトタイピン
 グ（検証・改善）の3つのワークプロセスを習得します
 。\n\n講師\n\n\n兵頭 武信 氏トリニティ株式会社　デザ
 インプロデューサー\n講師略歴\nフランスのフォーキャ
 スティング会社 カルラン・インターナショナル日本法
 人にて、デザイントレンド情報のエバンジェリスト、
 デザインコンサルタントとして従事。その後2014年より
 大手広告代理店系IT・ICT関連のコンサルティング調査
 会社にて、海外 リサーチおよびコンサルタントとして
 従事。2016年より現職にて、プロデューサ－として、デ
 ザイントレンドの経験、 ITコンサルティングの経験を
 活かし、ライフスタイルトレンド情報の調査・分析を
 はじめ、 製造業向けのデザインコンサルティング業務
 を手掛ける。\n\n\n参加対象\n\n顧客価値創造、業務課題
 発見・変革のスキルを身につけて活躍の場を広げたい
 エンジニアの方\nエンジニアとの協業が多く、“共通
 言語“でプロジェクトを進めていきたいデザイナーの
 方\n\n※本ワークショップは基礎編となります。デザイ
 ン思考に初めて取り組む方はもちろん、以前学んだ経
 験があるが腹落ちしなかった、という方にもお薦めで
 す。また、タイトルには「エンジニア」とありますが
 、ご自身の専門領域に「デザイン思考」を取り入れた
 いとお考えの方は、ぜひご参加ください。\n開催概要\n
 ワークショップ名　エンジニアのためのデザイン思考 
 基礎編開催日時　2021/10/30 (土) 10:00 - 17:00参加費用　¥60
 \,500定員　8名※最少催行人数4名に満たない場合は、中
 止となる場合があります。\n\n過去の実践のご紹介\nデ
 ザイナー（プロダクト、UX、ウェブ等）、システムエ
 ンジニア、マーケッター、ストラテジストなど、様々
 な職種の専門職の方々にご参加いただいたワークショ
 ッププログラムを実践しました。\n過去の参加者の業
 種　※業種は問いません自動車メーカー、家電メーカ
 ー、建築、空間デザイン、住宅機器メーカ−、医療人
 材関係など\n過去の参加者の所属企業ソニー株式会社
 、日産自動車株式会社、株式会社資生堂、コクヨ株式
 会社、株式会社デンソー、株式会社タニタ、TOTO株式会
 社、株式会社ニコン、FWD富士生命、株式会社日立ドキ
 ュメントソリューションズ、株式会社内田洋行、パナ
 ソニックシステムデザイン株式会社、　ほか\n過去の
 ご参加者のご感想\n\n\nプロジェクトベースで顧客課題
 を深堀りする際に活用できると感じました。（教育・
 オフィス関連事業）\n分っているつもり（勝手な思い
 込みだった）のデザイン思考を改めて全貌を知ること
 ができた。（自動車メーカー）\nデザインの発想やま
 とめ方などは、様々な場に活用できるということがわ
 かったような気がする。思考を意識するだけでも変化
 して行くのではないかと思う。（建築）\n行動観察に
 て確認すべきポイントが理解できた。（自動車メーカ
 ー）\n異なる会社の人一緒にオブザベーションができ
 、視点の違いが面白かった（オフィス家具メーカー）\
 n\n\nお問合せ先\nDXDキャンプ　受付担当　小澤　（トリ
 ニティ株式会社）yuka@trinitydesign.jp\nDXDキャンプ　公式
 サイトhttps://dxdcamp.com/\nTwitterhttps://twitter.com/DXD69592171\nFB
 Dxdキャンプ 高度デザイン人材になるための実践プログ
 ラム\n==================================\n運営：トリニティ株
 式会社　https://trinitydesign.jp/
LOCATION:オンライン
URL:https://techplay.jp/event/834321?utm_medium=referral&utm_source=ics&utm
 _campaign=ics
END:VEVENT
END:VCALENDAR
