BEGIN:VCALENDAR
VERSION:2.0
PRODID:-//https://techplay.jp//JP
CALSCALE:GREGORIAN
METHOD:PUBLISH
X-WR-CALDESC:東京キャリアリベンジャーズ〜​ デジタル土
 方からの脱出攻略〜
X-WR-CALNAME:東京キャリアリベンジャーズ〜​ デジタル土
 方からの脱出攻略〜
X-WR-TIMEZONE:Asia/Tokyo
BEGIN:VTIMEZONE
TZID:Asia/Tokyo
BEGIN:STANDARD
DTSTART:19700101T000000
TZOFFSETFROM:+0900
TZOFFSETTO:+0900
TZNAME:JST
END:STANDARD
END:VTIMEZONE
BEGIN:VEVENT
UID:834740@techplay.jp
SUMMARY:東京キャリアリベンジャーズ〜​ デジタル土方か
 らの脱出攻略〜
DTSTART;TZID=Asia/Tokyo:20211019T190000
DTEND;TZID=Asia/Tokyo:20211019T200000
DTSTAMP:20260421T014205Z
CREATED:20211012T053407Z
DESCRIPTION:イベント詳細はこちら\nhttps://techplay.jp/event/83474
 0?utm_medium=referral&utm_source=ics&utm_campaign=ics\n\n東京キャリ
 アリベンジャーズ〜 デジタル土方からの脱出攻略〜\n
 概要\nブルベースでは「人」との向き合いにフォーカ
 スしているHRディベロップメントという事業部がござ
 います。今回登壇させて頂く2名は上記事業部に所属し
 ており、元々インフラエンジニアとして現場に出向し
 、その後キャリアアドバイザーへ転向しました。  現
 場で感じた経験を軸に通算数千名を超えるエンジニア
 と向き合い、キャリア形成を導いた実績がございます
 。流行の技術や業界、エンジニアの市場価値が上がる
 ポジションなど弊社で活躍しているエンジニアの実例
 を交えながら様々な視点でお伝えさせて頂きます！\n
 ▼トーク内容IT市場説明コロナ禍におけるエンジニア
 キャリアパス弊社取り組みのご紹介社員実例のご紹介e
 tc..\nタイムスケジュール\n19:00 ～ 19:05 スタート  19:05 
 ～ 19:15 自己紹介  19:15 ～ 19:40 エンジニアのキャリア
 形成に関するプレゼンテーション  19:40 ～ 20:00 Ｑ&A 
 クロストーク  20:00 終了予定※ 当日予告なく時間配
 分・内容が変更になる可能性がございます。\n登壇者\n
 \n久保田　祐介\nHRディベロップメント事業部　事業部
 長  2005年～2009年：SIerにてインフラエンジニアとして
 PJ参画、ベンダ管理、PMO業務を経験  2009年～2015年：
 同企業にて人材営業、企画、教育、キャリアガイダン
 ス、調達・購買を担当  2015年～2017年：新卒・中途採
 用領域の主任として従事  現在は、ブルベースにて人
 事採用、キャリアアドバイザー、広告領域を管掌  \n\
 n\n前川　篤\nHRディベロップメント事業部　マネジャー
 2012年～2015年：人材系の会社にてインフラエンジニア
 を経験2015年～2019年：ITベンチャー企業の営業、キャリ
 アアドバイザー、人事採用領域を経験現在は、ブルベ
 ースにて人事採用、キャリアアドバイザー、広告領域
 などを担当登壇者略歴\n参加対象\n◎SESで客先常駐して
 いるが、将来に不安を感じている方◎エンジニアのキ
 ャリアを漠然と考えている方◎地方でエンジニアとし
 て活躍されたい方◎エンジニアだけでなく、人事採用
 教育などの領域にチャレンジしたい方◎リーダー業務
 に興味がある方\n参加費\n無料\nハッシュタグ\n#techplayjp
  #meetup\n注意事項\n\nリクルーティング、勧誘など、採
 用目的でのイベント参加はお断りしております。\nキ
 ャンセル待ち・補欠・落選の方はご参加いただくこと
 が出来ませんのでご了承ください。\n欠席される場合
 は、お手数ですが速やかにキャンセル処理をお願い致
 します。\n無断キャンセルや欠席が続く場合、次回以
 降の参加をお断りさせていただく場合がございます。\
 n
LOCATION:オンライン
URL:https://techplay.jp/event/834740?utm_medium=referral&utm_source=ics&utm
 _campaign=ics
END:VEVENT
END:VCALENDAR
