BEGIN:VCALENDAR
VERSION:2.0
PRODID:-//https://techplay.jp//JP
CALSCALE:GREGORIAN
METHOD:PUBLISH
X-WR-CALDESC:【初心者歓迎/大人気増枠中/mac限定】 たった1
 時間iPhoneアプリ制作体験会！
X-WR-CALNAME:【初心者歓迎/大人気増枠中/mac限定】 たった1
 時間iPhoneアプリ制作体験会！
X-WR-TIMEZONE:Asia/Tokyo
BEGIN:VTIMEZONE
TZID:Asia/Tokyo
BEGIN:STANDARD
DTSTART:19700101T000000
TZOFFSETFROM:+0900
TZOFFSETTO:+0900
TZNAME:JST
END:STANDARD
END:VTIMEZONE
BEGIN:VEVENT
UID:835424@techplay.jp
SUMMARY:【初心者歓迎/大人気増枠中/mac限定】 たった1時間
 iPhoneアプリ制作体験会！
DTSTART;TZID=Asia/Tokyo:20211023T180000
DTEND;TZID=Asia/Tokyo:20211023T190000
DTSTAMP:20260421T014936Z
CREATED:20211018T111809Z
DESCRIPTION:イベント詳細はこちら\nhttps://techplay.jp/event/83542
 4?utm_medium=referral&utm_source=ics&utm_campaign=ics\n\nこのイベン
 トでは、どんな初心者でもたった1時間で簡易的なiPhone
 アプリが作れます。\nこれからもプログラミングを学
 び続けるきっかけ作りをするのが本イベントのGoalです
 ！※こちらのイベントはMacPC 限定となっております\nGA
 FAの躍進から分かるように、「IT」の需要は増えつづけ
 います。\n個人でも「仕事を自動化する」ことを目的
 にプログラミングは人気、必須のスキルとなってきて
 います。\nそんな【社会人が学生のうちに学んでおけ
 ばよかったことランキング】の上位に君臨し続けるプ
 ログラミング。\n後悔しないためにも今のうちに学び
 ませんか？\n【詳細】---開催---時間：18:00~19:00\n場所：
 オンライン\n▼ZoomURLはこちら。5分前にご参加ください
 。\nhttps://us05web.zoom.us/j/85872458014?pwd=WDVnYUFNWXQ1TS9tQWd6RTRYeT
 hvZz09ミーティングID: 858 7245 8014パスコード: G6aA7N\n▼事
 前準備が二つあります！\n・臨時連絡や質問対応のた
 め、以下のURLからGeekSalonの公式アカウントに必ず登録
 お願いします！https://lin.ee/hbdIkPp\n・以下のURLから、Xcod
 e をダウンロードしておいてください少しお時間がか
 かるのでなるべくお早めにインストールお願いします
 ！https://apps.apple.com/jp/app/xcode/id497799835?mt=12\n定員：10名(
 先着)\nコンテンツ内容\nアイスブレイク：お互いに自
 己紹介\nプログラミング準備：必要なファイルのダウ
 ンロード\nプログラミング体験：プログラミング体験
 として実際にiPhoneアプリの制作\nGeekSalonの紹介：学生
 向けプログラミングスクールのGeekSalonの簡単な紹介で
 す！\n参加者の声\n「実際に自分の手で作業したり、短
 時間でオリジナリティのあるアプリが作成できました
 。」\n「メンターさんから親切に教えてもらえました
 。自分で作業したものが反映されるのが達成感を感じ
 ました。」\nプログラミング経験を学生の内から持っ
 ておくだけで、一気にキャリアの幅が広がります。\n
 これまでは理系のエンジニアなど、一部の人にのみ「I
 Tスキル」が求められていましたが、ITがインフラにな
 ることで、これからの就活では「ITスキル」がないと
 そもそもの土台に立てないこともあるかもしれません
 。\n広告代理店トップである電通では、選考段階で「
 オリジナルアプリ」のプログラミング経験を問うたこ
 とがあります。\nそんなオリジナルプロダクトを今の
 うちに作ることができれば、あなたの可能性はさらに
 広がります！是非一緒に頑張りましょう！\nスタート
 ダッシュ決めて、周りより先へ行くチャンスです！\n
 ✅将来プログラミングができるようになりたい\n✅プ
 ログラミングに少し興味があるけど、やったことがな
 い！\n✅以前プログラミングに挑戦したけど、挫折し
 た！\nGeekSalonは「3ヶ月で未経験からオリジナルプロダ
 クトをリリースする」プログラミングコミュニティで
 す。en-courageの姉妹団体として全国各地に拠点を持ち、
 これまでに2\,000人以上の卒業生を送りだしています。\
 nGeekSalonでは受け身のプログラミング学習ではなく、主
 体的にオリジナルプロダクトの企画、制作、発表をし
 ていただきます。その結果、あなただけの成功体験を
 得ていただき、人生を明るくするきっかけになる経験
 を届けることを理念として掲げています。\nコロナ禍
 においても若い人たちが色々なことにチャレンジする
 ことを応援しています\n▼GeekSalonの公式LINEの登録はQR
 コードから可能です。\n
LOCATION:オンライン
URL:https://techplay.jp/event/835424?utm_medium=referral&utm_source=ics&utm
 _campaign=ics
END:VEVENT
END:VCALENDAR
