BEGIN:VCALENDAR
VERSION:2.0
PRODID:-//https://techplay.jp//JP
CALSCALE:GREGORIAN
METHOD:PUBLISH
X-WR-CALDESC:DeNA TechCon 2021 Winter
X-WR-CALNAME:DeNA TechCon 2021 Winter
X-WR-TIMEZONE:Asia/Tokyo
BEGIN:VTIMEZONE
TZID:Asia/Tokyo
BEGIN:STANDARD
DTSTART:19700101T000000
TZOFFSETFROM:+0900
TZOFFSETTO:+0900
TZNAME:JST
END:STANDARD
END:VTIMEZONE
BEGIN:VEVENT
UID:835602@techplay.jp
SUMMARY:DeNA TechCon 2021 Winter
DTSTART;TZID=Asia/Tokyo:20211226T120000
DTEND;TZID=Asia/Tokyo:20211226T181000
DTSTAMP:20260420T172049Z
CREATED:20211019T142951Z
DESCRIPTION:イベント詳細はこちら\nhttps://techplay.jp/event/83560
 2?utm_medium=referral&utm_source=ics&utm_campaign=ics\n\n\n「エンジ
 ニアになる」強い想いを持つ学生が多いのではないで
 しょうか。では「エンジニアとして働くこと」は具体
 的にイメージできますか？入社してからどんなことが
 待ち受けているのかどんなキャリアパスがあるのかい
 つどのくらいの裁量が得られるのかもし挫折をしたら
 ……そこで「DeNA TechCon 2021 Winter」では学生に向け、DeNA
 を軸にしてエンジニアとして企業で働くということを
 先輩たちが紹介します。スペシャリストとして活躍し
 たり、キャリアチェンジをしたり。挫折から這い上が
 った先輩のナマナマしい話も聞くことができる機会で
 す。このイベントに参加することで「エンジニアとし
 て働く」イメージの解像度が上がり自身のキャリアを
 形成する上での判断材料になれば嬉しいかぎりです。2
 021年12月26日12:00創業者の南場智子によるOpening Keynoteか
 ら始まるDeNA TechCon 2021 Winter 、ぜひご参加ください！\n\
 n■イベント概要\n「DeNA TechCon 2021 Winter」は完全オンラ
 インで開催します。\n 配信URL：https://youtu.be/iENbk3QTdq0  \
 n DeNA TechCon 2021 Winter：https://techcon2021.dena.dev/winter \n 日
 時：　2021年12月26日(日)　12:00 - 18:10 \n\n\n\n時間\nタイト
 ル\n\n\n\n\n12:00 - 12:20\nOpening Keynote -経営者からみたエン
 ジニアキャリア-\n\n\n12:30 - 12:50\nPdM/事業責任者が考え
 るエンジニアとしてやって良かった事３選\n\n\n13:00 - 13
 :50\n技術スペシャリストなエンジニアの仕事やキャリ
 アとは？\n\n\n14:00 - 14:20\nスタートアップで事業を成長
 させるために、これまで経験してきたこと\n\n\n14:30 - 14
 :50\nDeNA の MLops エンジニアは何をしてるのか\n\n\n15:00 - 
 15:20\n基盤チームとしての挑戦と社内コミュニティで得
 た学び\n\n\n15:30 - 15:50\nアーキテクトを目指す若手エン
 ジニアのこれまで\n\n\n16:00 - 16:20\nエンジニアが入社後
 のギャップを克服しProjectをリードするまで\n\n\n16:30 - 1
 6:50\nフロントエンドから技術領域を広げてできるよう
 になったこと \n\n\n17:00 - 17:20\n入社1\,2年目に聴く研修
 と配属後のリアルとは？\n\n\n17:30 - 18:10\nLightning Talks\n\n
 \n\nこんなエンジニア学生にオススメ\n\nエンジニアと
 して自己研磨し続けたい方\n大学でプログラミングを
 学んだが、エンジニアのキャリアについて知りたい方\
 n個人開発をしているが、自分の開発経験を武器にどん
 な会社で活躍できるのかを知りたい方\nスタートアッ
 プで働いているが、メガベンチャーとの違いを知りた
 い方\n入社する企業を決めているが、改めてエンジニ
 アとしての視野を広げたい方\n\n■ DeNA TechCon 2021 キャ
 ンペーン内容\nDeNA TechCon 2021 Winter 開催に伴いまして、
 フォロー＆リツイートキャンペーンと視聴＆アンケー
 ト回答キャンペーンを実施します。\n 1. フォロー＆リ
 ツイートキャンペーン \n11/19(金)〜12/26(日) までに DeNA
 公式Twitterアカウント「@DeNAxTech 」をフォローし、対象
 ツイートに「#DeNATechCon2021Winter」をつけて、リツイート
 した方の中から抽選で100名様に、ご希望の技術書（最
 大4\,000円）をプレゼントいたします。\nご興味ある方
 はお気軽にご参加ください！\nフォロー＆リツイート
 キャンペーン\nhttps://twitter.com/DeNAxTech/status/1461625643788304
 385\n\n\n 2. 視聴&アンケート回答キャンペーン \nDeNA TechCo
 n 2021 Winter 当日に公開される各登壇を視聴し、2022年1月
 3日 23:59までにアンケート回答した方の中から抽選で、
 Amazonギフト券(3\,000円分)を100名様にプレゼントいたし
 ます。\n詳しくはWebサイトでご確認ください！\nそれで
 は、2021年12月26日(日) 12:00 からの DeNA TechCon 2021 Winter を
 お楽しみに！！\n■行動規範\nDeNA TechCon 2021 に参加する
 すべての人は こちら の行動規範を守ることを求めら
 れます。\n■注意事項\n\nご応募時に入力いただいた個
 人情報は、株式会社ディー・エヌ・エー（以下、当社
 といいます）が取得し、お問い合わせ対応のために利
 用いたします。なお、ご提供いただいた個人情報及び
 その他情報は、プライバシーポリシー に従い取り扱わ
 れるものとします。\n天災、不慮の事故等のやむを得
 ない事情や主催者側の都合により、当日の内容が変更
 または中止になる場合がございます。\n
LOCATION:オンライン オンライン
URL:https://techplay.jp/event/835602?utm_medium=referral&utm_source=ics&utm
 _campaign=ics
END:VEVENT
END:VCALENDAR
