BEGIN:VCALENDAR
VERSION:2.0
PRODID:-//https://techplay.jp//JP
CALSCALE:GREGORIAN
METHOD:PUBLISH
X-WR-CALDESC:投資家が視るアジアのヘルステック動向 - 市
 場動向解説・投資戦略・オープンイノベーション等 -
X-WR-CALNAME:投資家が視るアジアのヘルステック動向 - 市
 場動向解説・投資戦略・オープンイノベーション等 -
X-WR-TIMEZONE:Asia/Tokyo
BEGIN:VTIMEZONE
TZID:Asia/Tokyo
BEGIN:STANDARD
DTSTART:19700101T000000
TZOFFSETFROM:+0900
TZOFFSETTO:+0900
TZNAME:JST
END:STANDARD
END:VTIMEZONE
BEGIN:VEVENT
UID:835780@techplay.jp
SUMMARY:投資家が視るアジアのヘルステック動向 - 市場動
 向解説・投資戦略・オープンイノベーション等 -
DTSTART;TZID=Asia/Tokyo:20211110T173000
DTEND;TZID=Asia/Tokyo:20211110T184500
DTSTAMP:20260425T040402Z
CREATED:20211021T105556Z
DESCRIPTION:イベント詳細はこちら\nhttps://techplay.jp/event/83578
 0?utm_medium=referral&utm_source=ics&utm_campaign=ics\n\n投資家が視
 るアジアのヘルステック動向 - 市場動向解説・投資戦
 略・オープンイノベーション等 -\n概要\n「Asia HealthTech 
 Trend Seminar」のシリーズイベント第4弾を開催いたしま
 す！\n【イベント概要】\n「Asia HealthTech Trend Seminar（ア
 ジア・ヘルステックトレンドセミナー）」は、アジア
 でヘルステック事業に携わる起業家・企業家・投資家
 が現地からの知見・情報をお伝えするセミナーシリー
 ズです。\n第4弾イベントでは「投資家が視るアジアの
 ヘルステック動向」をテーマに、東南アジア・インド
 のスタートアップへの投資・協業を推進しているVCと
 大企業の方々にご登壇いただき、そのお取り組みや市
 場観についてお話いただきます。アジアのヘルステッ
 ク動向を投資家目線で知ることができる盛り沢山の内
 容になっています。\n【今回のウェビナーにオススメ
 の方】\n医療ヘルスケア分野に関する次のような方\n・
 アジアのヘルステック動向に関心がある方・アジアで
 の事業展開を考えており調査を進めている方・すでに
 アジアに事業展開しており、事業開発・パートナーと
 の共創に課題をお持ちの方・スタートアップ投資をご
 担当の方（VC・CVC・金融機関等）・新規事業開発やオ
 ープンイノベーションをご担当の方\n【開催概要】\n日
 　時：2021年11月10日（水）17:30〜18:45※日本時間場　所
 ：Zoom（ウェビナー）参加費：無料定　員：先着200名\n
 ご参加方法：仮申込み後に表示される本申込みフォー
 ムからお申込みをお願いいたします。\n※ 仮申込みの
 みでは当イベントにご参加いただけませんので、ご注
 意ください。※ 視聴用Zoom のリンクは、本申込みいた
 だいた方にのみ追ってお送りします。※ 前回ウェビナ
 ー（10月6日開催）にご参加いただいた方で、アンケー
 トにて「次回参加希望」を選択いただいた場合はお申
 込みは不要です。視聴用Zoom のリンクをメールにて送
 付させていただきます。\nタイムスケジュール（日本
 時間）\n\n\n\n時間\n内容\n\n\n\n\n17:25〜\n入室開始\n\n\n17:3
 0〜17:35\nオープニング\n\n\n17:35〜18:10\n①プレゼンテー
 ション「投資家が視る南アジア・東南アジアのヘルス
 テック市場動向」（英語）HealthXCapital / Seemant 様（Managi
 ng Partner）「グローバルオープンイノベーション Homage
 社との共創事例」 インフォコム株式会社 岡田様（ア
 ジアヘルスケア推進グループ 課長）「JMDCの投資戦略
 と市場分析の視点」 株式会社JMDCキャピタル 氏原様（
 取締役 MD）\n\n\n18:10〜18:42\n②パネルディスカッション
 （日本語）・Q&A：参加者からのご質問にどんどんお答
 えします！\n\n\n18:42〜18:45\nクロージング\n\n\n\n登壇者\n
 \nHealthXCapitalManaging PartnerSeemant Jauhari 様\nインド商科大
 学院を卒業後、Ernst & Young にて経営コンサルティング
 、Tata Consultancy Services にてITコンサルティング、Nokia Sol
 utions Networks にて戦略・事業開発など幅広く従事。その
 後、インド最大手の病院グループ Apollo Hospitals にてイ
 ノベーションズ＆リサーチ CEO やグループ企業複数社
 の取締役としてグループの投資・イノベーションを主
 導。2017年にHealthXCapital を設立し Managing Partner に就任。
 アジア新興国のヘルスケア関連スタートアップに多数
 投資している。\n\n\n\nACA Investments Pte LtdPrincipal足立 元 
 様\n神戸大学卒業、シンガポール国立大学MBA。 丸紅株
 式会社で事業投資や投資先管理、August One Capitalで東南
 アジアのベンチャー投資業務に従事した後、 東南アジ
 アでグロース投資を行うACAに参画。 ヘルスケアやテク
 ノロジー企業を中心に新規投資及び投資先支援を行う
 。HealthXCapitalアドバイザーを兼任。\n\n\nインフォコム
 株式会社 アジアヘルスケア推進グループ 課長岡田 望 
 様\nニュージーランド カンタベリー大学卒業後、イン
 フォコムに入社。 システム開発部門、経営企画、アメ
 リカ子会社での事業開発・ 投資管理の職務を経て、現
 在は東南アジアでの新規ヘルスケアIT事業開発・推進
 を担う。\n\n\n株式会社JMDCキャピタル 取締役 MD氏原 工
 太郎 様\n早稲田大学法学部卒業。三菱UFJ銀行、 PEファ
 ンドである丸の内キャピタル、アユタヤ銀行（タイ） 
 を経てJMDCに参画。社長室にて上場準備に携わり、上場
 後、 グループの投資機能を担うJMDCキャピタル取締役
 に就任。 投資責任者として国内外のM＆A、出資案件を
 多数経験。\n\n\nモデレーター\n株式会社メプラジャパ
 ン 代表取締役佐藤 創\n大学在学中に教育系NPO法人を設
 立し理事長就任。コンサルティングベンチャー取締役
 、医療法人の経営企画室勤務を経て、株式会社メプラ
 ジャパンを創業。2012年にカンボジアに移住し、日系病
 院設立などを支援。2017年より、東南アジアの国々を飛
 び回りながら各国の医療機関・スタートアップ・投資
 家との協業を推進。これまで代表として 3社創業、数
 社の役員・顧問を歴任。\n\n直近の開催実績\n第3回：202
 1年10月6日「アジア新興国のオンライン診療動向」（開
 催報告はこちら）第2回：2021年9月8日「医療AI スタート
 アップが切り拓くアジアの医療」（開催報告はこちら
 ）第1回：2021年8月4日「医療スタートアップCEO 300人と
 話して見えたアジアの医療の現在・未来」（開催報告
 はこちら）\n※ 過去イベントの開催実績一覧はこちら\
 n主催\n株式会社メプラジャパンhttps://www.mepla.co.jp/
LOCATION:オンライン
URL:https://techplay.jp/event/835780?utm_medium=referral&utm_source=ics&utm
 _campaign=ics
END:VEVENT
END:VCALENDAR
