BEGIN:VCALENDAR
VERSION:2.0
PRODID:-//https://techplay.jp//JP
CALSCALE:GREGORIAN
METHOD:PUBLISH
X-WR-CALDESC:【第5回】金融事業×人工知能コミュニティ　
 ～AI人材育成とデータ基盤～
X-WR-CALNAME:【第5回】金融事業×人工知能コミュニティ　
 ～AI人材育成とデータ基盤～
X-WR-TIMEZONE:Asia/Tokyo
BEGIN:VTIMEZONE
TZID:Asia/Tokyo
BEGIN:STANDARD
DTSTART:19700101T000000
TZOFFSETFROM:+0900
TZOFFSETTO:+0900
TZNAME:JST
END:STANDARD
END:VTIMEZONE
BEGIN:VEVENT
UID:836245@techplay.jp
SUMMARY:【第5回】金融事業×人工知能コミュニティ　～AI
 人材育成とデータ基盤～
DTSTART;TZID=Asia/Tokyo:20211119T180000
DTEND;TZID=Asia/Tokyo:20211119T190000
DTSTAMP:20260420T190000Z
CREATED:20211025T120745Z
DESCRIPTION:イベント詳細はこちら\nhttps://techplay.jp/event/83624
 5?utm_medium=referral&utm_source=ics&utm_campaign=ics\n\n【第5回】金
 融事業×人工知能　コミュニティ　　～AI人材育成とデ
 ータ基盤～\nAI人材育成・研修の各社の取組みをパネル
 ディスカッション。ここでしか聞けない、現場の最新
 施策を披露します。参加者からのチャットでのQAも受
 け付けます！気軽にご参加ください！\nタイムスケジ
 ュール\n＊ウェビナー（WebEX）開催です。前日までに開
 催URLがメールで送付されます。\n\n\n\n\n\n\n\n\n\n時間\n内
 容\n\n\n17:45〜\n参加開始\n\n\n18:00〜18:10\nオープニング／
 コミュニティの概要SBIホールディングス　社長室ビッ
 グデータ担当　佐藤担当次長（共同幹事）\n\n\n18:10〜18
 :40\n金融3社パネルディスカッション～AI人材、データ
 サイエンティスト教育の在り方～　SBIホールディング
 ス　社長室　ビッグデータ担当　佐藤　担当次長　三
 井住友ファイナンス＆リース　データマネジメント部
 　南　哲嗣　アナリティクスリーダー　　三菱UFJ信託
 銀行　経営企画部　デジタル企画室　岡田　上級調査
 役\n\n\n18:40～19:00\nデータサイエンティストが成果を出
 せる分析基盤を目指して～Databrics on AWS導入3年たって
 の成果と課題～ Japan Digital Design 株式会社   平山 Vice 
 President of Data Science\n\n\n19:00～19:10\nアンケートのお願い
 ／クロージング\n\n\n\n\n\n\n\n\n\n\n\n\n\n\n\n\n\n\n\n理念\n・
 金融事業会社の"壁"を超えたノウハウ共有・金融業界
 のデータサイエンスの発展\n大切にしていること\n・事
 業会社同士だから話せる、ぶっちゃけの"失敗談" "成功
 談"　※Sier、コンサル会社等の参加一切なし・気軽に
 質問できる参加型\n設立の背景\n日本の金融業界では、
 全社的な人工知能（AI）活用が進んでいる事業会社は
 多くなく、その課題の一つとして、金融業界特有の”
 壁”があり、業界内のノウハウ共有が進まない点があ
 げられる。　本コミュニティでは、本邦初となる「金
 融事業会社×人工知能」の集まりであり、データサイ
 エンスの組織論や研究成果を共有することで、金融業
 界全体、各事業会社、参加者各々のレベル向上を企図
 する。\n※ 当日予告なく時間配分・内容が変更になる
 可能性がございます。\n幹事代表\n\n三菱UFJ信託銀行　
 経営企画部　デジタル企画室　上級調査役　岡田　拓
 郎\nFacebook FB金融デジタル関連情報コミュニティ\n共同
 幹事\n\n三井住友ファイナンス&リース　データマネジ
 メント部　南　哲嗣\n共同幹事\nSBIホールディングス　
 社長室ビッグデータ担当　担当次長　佐藤\nSBIホール
 ディングス　社長室ビッグデータ担当　鍋倉\n\n参加対
 象\n・データサイエンス、人工知能に関する業務に従
 事している方・金融事業会社（銀行、信託銀行、証券
 、リース、カードなど）・非営利の社団法人、官庁、
 大学等の組織に所属し、人工知能関連の業務に従事し
 ている方\n注意事項\n※ ベンダー、コンサル会社等の
 営業に繋がる可能性のある団体に所属されている方の
 参加はお断りしています。※ 主催者が許可した取材、
 メディアが入る場合があります。
LOCATION:オンライン
URL:https://techplay.jp/event/836245?utm_medium=referral&utm_source=ics&utm
 _campaign=ics
END:VEVENT
END:VCALENDAR
