BEGIN:VCALENDAR
VERSION:2.0
PRODID:-//https://techplay.jp//JP
CALSCALE:GREGORIAN
METHOD:PUBLISH
X-WR-CALDESC:【無料ウェビナー】初心者向けSNS活用セミナ
 ー 〜コストをかけずに商品プロモーション店舗集客す
 る方法〜
X-WR-CALNAME:【無料ウェビナー】初心者向けSNS活用セミナ
 ー 〜コストをかけずに商品プロモーション店舗集客す
 る方法〜
X-WR-TIMEZONE:Asia/Tokyo
BEGIN:VTIMEZONE
TZID:Asia/Tokyo
BEGIN:STANDARD
DTSTART:19700101T000000
TZOFFSETFROM:+0900
TZOFFSETTO:+0900
TZNAME:JST
END:STANDARD
END:VTIMEZONE
BEGIN:VEVENT
UID:836333@techplay.jp
SUMMARY:【無料ウェビナー】初心者向けSNS活用セミナー 〜
 コストをかけずに商品プロモーション店舗集客する方
 法〜
DTSTART;TZID=Asia/Tokyo:20211119T140000
DTEND;TZID=Asia/Tokyo:20211119T153000
DTSTAMP:20260420T205728Z
CREATED:20211026T034444Z
DESCRIPTION:イベント詳細はこちら\nhttps://techplay.jp/event/83633
 3?utm_medium=referral&utm_source=ics&utm_campaign=ics\n\n【初心者向
 け】ＳＮＳ活用セミナー\n～コストをかけずに商品プ
 ロモーション店舗集客する方法～\n\n\n皆さんは日本の
 ＳＮＳ普及率をご存知ですか？\nＳＮＳの普及は目覚
 ましく企業の３社に１社はＳＮＳを利用しています。I
 nstagramやtwitterなどのＳＮＳを上手 に活用することでお
 金をかけず店舗集客、売上ＵＰに貢献することが可能
 です。また新型コロナウイルスの影響から、顧客との
 非接触が求められている今こそＳＮＳを利用した関係
 性の構築がポイントになります。\n今回のセミナーで
 は、ＳＮＳ初心者の方でも気軽に始められるように各
 ＳＮＳの特性や運用する上での簡単なテクニックをご
 紹介します。ＳＮＳ運用をされている方も、これから
 始めたいと考えている方もお気軽にご参加ください。
  \n\n ■ セミナー内容\n・企業のSNS活用の現状・なぜ
 今SNSを活用すべきなのか？・各SNSの特性と比較・SNS運
 用テクニック\n■ こんな方におすすめです\n以下に該
 当する方々の応募をお待ちしております。\n- Twitter、In
 stagram、Facebook運用を強化されたい方　- Twitter、Instagram
 、Facebook運用を始めてみたい方　- SNSマーケティングの
 情報収集がしたい方　- 最新のSNS機能を知りたい方\n■
  詳細\n日　程：2021年11月19日（金）時　間：14:00〜15:30
 料　金：無料会　場：Zoom（専用URLを別途ご連絡します
 ）\n■ 登壇者紹介\n\n講師：田中千晶株式会社BES代表取
 締役2009年、大学在学中に会社を設立し、1年半で大手
 企業、中小企業50社と取引をする。Webプロモーション
 支援を得意とし、特にSNS活用支援で多くの実績をもつ
 。2012年から全国各地でセミナーを精力的に実施。シリ
 コンバレーのFacebook本社やTwitter本社へ毎年出向いて直
 接SNSの最先端情報を仕入れてきている。角川出版社、
 マイナビ社、技術評論社、翔泳社、インプレス社でマ
 ーケティング支援の書籍を6冊出版。連載も7社で行う
 。自身のラジオ番組、パーソナリティとしても活動し
 、SNSの最新情報を届けている。\n \n\n- 株式会社BES【SNS
  SCHOOL】のご紹介 -\n企業様ごとにカリキュラムをカス
 タマイズし、運用・コンサル・研修 を一気通貫で行う
 プログラムです。\n今までのSNS運用代行で個別にかか
 っていたコストを大幅に削減し、企業にとって一生モ
 ノの財産になる、人材のスキルアップを実現します。
 受講者数総勢10\,000人以上! 200社以上の研修実績があり
 、すでに数十社の企業に成果を実感頂いています。\n\n
 さらに！以下の条件を満たすとSNS SCHOOLを実質無料で受
 講することができます！　- 採用5年以内・35歳未満の
 正規労働者が5名以上いらっしゃる企業様　　→人材開
 発支援助成金が利用できます！　- 常時使用する従業
 員の数5人以下の商業・サービス業の企業様　- 常時使
 用する従業員の数20人以下の宿泊業・娯楽業・製造業
 ・その他の企業様　　→小規模事業者持続化補助金が
 利用できます！\nSNS SCHOOLについて、詳しくはセミナー
 内でご説明いたします。\n \n【注意事項】\n・WEBのみ
 の開催となりますので、ご了承ください。\n・エント
 リーいただいた方に、前日までにWEBセミナー開催のURL
 をお送りします。※WEBツール：Zoom \n・競合、同業社様
 （求人広告代理店、ウェブ広告代理店等）のご参加は
 お断りいたします。\n・お申し込み後にやむを得ずご
 欠席される場合は、\nお手数ですが前日までに（info@bes
 -japan.jp　担当:須沢）宛にご連絡ください。\n
LOCATION:オンライン
URL:https://techplay.jp/event/836333?utm_medium=referral&utm_source=ics&utm
 _campaign=ics
END:VEVENT
END:VCALENDAR
