BEGIN:VCALENDAR
VERSION:2.0
PRODID:-//https://techplay.jp//JP
CALSCALE:GREGORIAN
METHOD:PUBLISH
X-WR-CALDESC:Tableau北陸ユーザー会　～データヌードルジャ
 パン in HOKURIKU
X-WR-CALNAME:Tableau北陸ユーザー会　～データヌードルジャ
 パン in HOKURIKU
X-WR-TIMEZONE:Asia/Tokyo
BEGIN:VTIMEZONE
TZID:Asia/Tokyo
BEGIN:STANDARD
DTSTART:19700101T000000
TZOFFSETFROM:+0900
TZOFFSETTO:+0900
TZNAME:JST
END:STANDARD
END:VTIMEZONE
BEGIN:VEVENT
UID:836388@techplay.jp
SUMMARY:Tableau北陸ユーザー会　～データヌードルジャパン
  in HOKURIKU
DTSTART;TZID=Asia/Tokyo:20211119T140000
DTEND;TZID=Asia/Tokyo:20211119T153000
DTSTAMP:20260425T005856Z
CREATED:20211026T072727Z
DESCRIPTION:イベント詳細はこちら\nhttps://techplay.jp/event/83638
 8?utm_medium=referral&utm_source=ics&utm_campaign=ics\n\n第1回Tableau
 北陸ユーザー会を開催します！\n概要\nJTUG（Japan Tableau 
 User Group）の分科会である地域Tableau User Groupが、全国で
 連動して行う参加型イベント「データヌードル・ジャ
 パンツアー」のエリアイベントです！身近な存在であ
 る”麺”に関するデータを使用したTableauのデモを通し
 て、データ分析方法をご覧頂くことができます。記念
 すべきTableau北陸ユーザー会第1回目ということもあり
 、「Tableauの特徴、活用事例」「ユーザ会とは？」につ
 いても紹介いたします。Tableauユーザーの方、Tableauに
 興味がある方、是非ご参加をお待ちしております！\n
 タイムスケジュール\n\n\n\n時間\n内容\n\n\n\n\n13:50〜\n受
 付開始\n\n\n14:00〜14:30\nTableauユーザー会とは？Tableautの
 概要説明Tableauの活用事例\n\n\n14:30〜15:10\n”麺”に関す
 るデータ分析デモ※Tableauの使用経験がない方もご参加
 いただけます。\n\n\n15:10〜15:30\n参加者同士でデモの感
 想交流アンケート回答\n\n\n\n※ 当日予告なく時間配分
 ・内容が変更になる可能性がございます。\n\n参加対象
 \n\n北陸地域のTableauユーザーの方\nTableauに興味がある
 方　※Tableauの使用経験の有無は問いません。\n\n参加
 費\n無料\n注意事項\n\nリクルーティング、勧誘など、
 採用目的でのイベント参加はお断りしております。\n
 キャンセル待ち・補欠・落選の方はご参加いただくこ
 とが出来ませんのでご了承ください。\n欠席される場
 合は、お手数ですが速やかにキャンセル処理をお願い
 致します。\n無断キャンセルや欠席が続く場合、次回
 以降の参加をお断りさせていただく場合がございます
 。\n
LOCATION:オンライン(ZOOM開催です)
URL:https://techplay.jp/event/836388?utm_medium=referral&utm_source=ics&utm
 _campaign=ics
END:VEVENT
END:VCALENDAR
