BEGIN:VCALENDAR
VERSION:2.0
PRODID:-//https://techplay.jp//JP
CALSCALE:GREGORIAN
METHOD:PUBLISH
X-WR-CALDESC:MTS#4「“かとじゅん”の明日から現場で使える
 モデリング座談会」
X-WR-CALNAME:MTS#4「“かとじゅん”の明日から現場で使える
 モデリング座談会」
X-WR-TIMEZONE:Asia/Tokyo
BEGIN:VTIMEZONE
TZID:Asia/Tokyo
BEGIN:STANDARD
DTSTART:19700101T000000
TZOFFSETFROM:+0900
TZOFFSETTO:+0900
TZNAME:JST
END:STANDARD
END:VTIMEZONE
BEGIN:VEVENT
UID:836408@techplay.jp
SUMMARY:MTS#4「“かとじゅん”の明日から現場で使えるモ
 デリング座談会」
DTSTART;TZID=Asia/Tokyo:20211125T193000
DTEND;TZID=Asia/Tokyo:20211125T204500
DTSTAMP:20260420T125132Z
CREATED:20211026T085247Z
DESCRIPTION:イベント詳細はこちら\nhttps://techplay.jp/event/83640
 8?utm_medium=referral&utm_source=ics&utm_campaign=ics\n\nイベント概
 要\n様々な会社のCTO・PM・エンジニアの方々をお招きし
 、パネルディスカッションやLTを通して知見や技術を
 学ぶMIDAS TECH STUDY。\n今回は「かとじゅん」こと加藤 潤
 一氏をお招きし、今村氏、梶原氏、豊島氏の現役CTOと
 ともに、主に設計やモデリングについての皆さんの実
 際の悩みにお答えしていきます。\n開催概要\n\n開催日
 ：2021年11月25日(木)\n時間：19:30 - 20:45\n協賛：株式会社
 ミダスキャピタル\n参加費：無料\n会場：YouTube Live配信
 \n\n配信URL\nイベント配信直前にメッセージにてお伝え
 させていただきます。\nタイムテーブル\nタイムテーブ
 ルは変更する場合がございます。\n\n\n\n時間\nタイトル
 \n内容\n\n\n\n\n19:30 - 19:35\nオープニング\n\n\n\n19:35 - 20:05\
 n質問箱Q&A座談会\nかとじゅん氏の質問箱に届いた質問
 の中から事前に厳選したものに回答していきます。\n\n
 \n20:05 - 20:35\nリアルタイムQ&A座談会\n当日にいただいた
 質問をその場で回答していきます。\n\n\n20:35 -\nエンデ
 ィング\n\n\n\n\n登壇者\nパネリスト\nChatwork株式会社テッ
 クリード加藤潤一 氏\nChatworkのテックリード。10歳で初
 めてプログラミングに触れる。SIとしてさまざまな現
 場での業務を経験した後、2011年より某D社、2013年より
 大手ソーシャルゲーム企業で、それぞれScalaやドメイ
 ン駆動設計を採用したシステム開発に従事。2014年7月
 よりChatworkに参画。現在はChatwork次期アーキテクチャの
 プランニングや設計、開発に携わる。\n株式会社BuySell 
 TechnologiesCTO今村 雅幸 氏\n2006年ヤフー株式会社に入社
 。Yahoo! FASHIONやX BRAND等の新規事業開発に従事。2009年に
 株式会社VASILYを創業し、取締役CTOに就任。200万人が利
 用するファッションアプリ「IQON」のプロダクト開発や
 エンジニアリング組織をリード。2017年にVASILYをスター
 トトゥデイ（現ZOZO）に売却。会社統合とともに2018年4
 月、ZOZOテクノロジーズの執行役員に就任。CTOとしてZOZ
 Oのプロダクト開発やエンジニア採用・教育・評価等の
 エンジニアリング組織マネジメント、情報システム、
 セキュリティリスクマネジメント等、幅広くDXを推進
 。2021年4月 株式会社BuySell Technologies取締役CTOに就任。\n
 株式会社GENDACTO梶原 大輔 氏\n2006年ヤフー株式会社入社
 。2007年グリー株式会社入社。2014年同社執行役員に就
 任し、開発本部長、事業本部長を歴任。2018 年 株式会
 社エブリー入社。CTOに就任。2021年10月株式会社GENDA入
 社。CTOに就任。株式会社GENDA SEGA Entertainment において、
 執行役員CTO兼IT戦略本部本部長を兼任｡\nSheepMedical株式
 会社CTO豊島 正規 氏\n高専、大学にて情報工学を学び、
 その後大手電子部品メーカーの情報通信子会社に新卒
 入社。 パッケージソフトウェアの開発に従事。退職後
 、Fringe81株式会社に入社。 アドテク関連のプロダクト
 やピアボーナスサービス「Unipos」の立ち上げ・グロー
 スに従事。 テックリードやマネージャーなどのロール
 を歴任し、技術戦略、採用・育成、エンジニア組織体
 制構築に力を注いだ。 2021年4月よりSheepMedical株式会社
 にCTOとして参画。\nアンチハラスメントポリシー\nハラ
 スメントとは、性差、性同一性と表現、性的指向、障
 害、外見や身体的特徴、人権、宗教、公共な場での性
 的な画像や類する表現、 脅迫、ストーカ、望まない撮
 影や録音、不適切な接触、およびそれらに関連した不
 快な言動が含まれます。全ての利用者が快適に使って
 いただけるように、本イベントではこれらのハラスメ
 ント行為を許容しません。\n注意事項\nイベント中に録
 画や撮影をし、記録や情報発信のために活用させてい
 ただく場合がございます。技術交流が目的の勉強会で
 すので、知識の共有および、参加者同士の交流を目的
 としない参加はお断りしています。参加目的が不適切
 だと判断される場合には、運営側で参加をキャンセル
 させていただく場合がございます。
LOCATION:オンライン
URL:https://techplay.jp/event/836408?utm_medium=referral&utm_source=ics&utm
 _campaign=ics
END:VEVENT
END:VCALENDAR
