BEGIN:VCALENDAR
VERSION:2.0
PRODID:-//https://techplay.jp//JP
CALSCALE:GREGORIAN
METHOD:PUBLISH
X-WR-CALDESC:11月11日(木)17時〜開催【App Annie×Curations共同ウ
 ェビナー】悩む時間はもう終わり！ビジネスモデル変
 革実践
X-WR-CALNAME:11月11日(木)17時〜開催【App Annie×Curations共同ウ
 ェビナー】悩む時間はもう終わり！ビジネスモデル変
 革実践
X-WR-TIMEZONE:Asia/Tokyo
BEGIN:VTIMEZONE
TZID:Asia/Tokyo
BEGIN:STANDARD
DTSTART:19700101T000000
TZOFFSETFROM:+0900
TZOFFSETTO:+0900
TZNAME:JST
END:STANDARD
END:VTIMEZONE
BEGIN:VEVENT
UID:837092@techplay.jp
SUMMARY:11月11日(木)17時〜開催【App Annie×Curations共同ウェビ
 ナー】悩む時間はもう終わり！ビジネスモデル変革実
 践
DTSTART;TZID=Asia/Tokyo:20211111T170000
DTEND;TZID=Asia/Tokyo:20211111T180000
DTSTAMP:20260425T134558Z
CREATED:20211101T100739Z
DESCRIPTION:イベント詳細はこちら\nhttps://techplay.jp/event/83709
 2?utm_medium=referral&utm_source=ics&utm_campaign=ics\n\n世界で進む
 、マクロでミクロな死角のない事業推進とは\n全ての
 成熟企業にとって、未来における価値を生み出すため
 のビジネスモデル変革・新規事業創出は重要な課題で
 す。しかし、具体的に何に取り組むかという意思決定
 までに時間がかかっていたり、実際に取り組んでも成
 功事例を作り出すことに苦労している日本企業が多い
 状況です。\nこのウェビナーでは、モバイルマーケッ
 トインテリジェンスプロバイダー世界最大手のApp Annie
 と、事業創出で50社以上の成熟企業を支援してきたCurat
 ionsが、グローバルで進む新規事業の先進事例や実績を
 挙げつつ、日本企業の取り組み現場の実態と、推進の
 ためのヒントをご提供します。\n【このような方にお
 すすめ】・経営者・新規事業責任者・経営企画室長・D
 X推進責任者・事業担当執行役員・プロジェクトマネー
 ジャー\n【スピーカー】\nキュレーションズ株式会社　
  CXO　野村 亮介顧客起点のカスタマーサクセス、カス
 タマーエクスペリエンスのスペシャリストとしてプロ
 ジェクトに関与。上場企業子会社社長の経験があり、
 経営目線も加わりプロジェクトの軸を形成する。立教
 大学卒業後、NTTグループ、KDDIグループ、グリーなどを
 経て、株式会社ザッパラス執行役員に就任。同子会社
 （株）ワナップス 代表取締役に就任し、インターネッ
 ト放送局の立ち上げなどを行う。\nApp Annie Japan 既存ビ
 ジネス責任者 矢野 恵介2017年2月にApp Annie Japan株式会社
 に入社。既存顧客担当の営業職として様々な業界を担
 当。2021年7月より、既存顧客全体を統括する現職に就
 任。国内で200社を超えるクライアントの、モバイルに
 関わる課題の解決に日々従事している。App Annie入社以
 前は、九州大学卒業後にミシュランにてエンジニア職
 を経た後、海外のスタートアップ企業の日本法人を立
 ち上げ、そのまま日本支社の代表として日本市場の開
 拓を行っていた。\n【開催概要】\n開催日： 2021年11月11
 日 (木) 17:00〜18:00参加料：無料視聴方法：Zoomでのオン
 ライン配信\n■App Annieについて\nApp Annie（アップアニー
 ）は、全世界の⽣活者理解、またモバイル戦略の⾼度
 化に役⽴つモバイル市場データと分析プラットフォー
 ムを提供しています。当社のデータサイエンス能力は
 他に類を見ないものであり、人工知能によるモデルか
 ら推定値やインサイトを導き出す唯一のデータプロバ
 イダーです。2010年、業界で初のモバイル市場データプ
 ラットフォームを提供する企業として設立、「モバイ
 ルの力をすべての企業に」をミッションとし、あらゆ
 る業界の経営戦略、マーケティング、新規事業開発な
 どにおいて、1\,200社を超える著名企業が活⽤していま
 す。米・サンフランシスコに本社を置き、日本を含む
 世界12都市で事業を展開しています。\n■ Curationsにつ
 いて\nCurationsは、”ビジネストランスフォーメーショ
 ン”を通じて，ビジネスモデル変革の一歩目となる事
 業を生み出すプロフェッショナル集団です。”既存事
 業を活かした新しい収益の創出”を可能にする独自メ
 ソッドと、人材や連携企業の”キュレーション※”に
 よる最適なチーム編成でプロジェクトを成功に導きま
 す。（※ キュレーションとは、”ある視点” で情報
 を伝達したり、収集・研究等を行う人や機能のこと）\
 nまずは、徹底的に顧客に向き合い、顧客の課題に向き
 合い、顧客のジョブを抽出することから始めます。時
 代とともに変化する顧客行動の理解は企業のイノベー
 ション活動には欠かせません。顧客起点/課題起点から
 のイノベーション（新結合）を起こし、新事業を開発
 する方法を、多数の実践を通じて汎用的メソッドとし
 てまとめて参りました。クライアント企業のシーズと
 新たな顧客行動のニーズの双方に徹底的に伴走し、そ
 こから導き出される「イノベーションの種」を「事業
 企画～事業開発～売上創出」までコミットし、成長フ
 ェーズまで導きます。\nビジネスを加速させるための
 ノウハウ資料の提供やセミナーの無料開催もしており
 ますので、是非ご覧ください。\n
LOCATION:オンライン(ZOOM Webinar)
URL:https://techplay.jp/event/837092?utm_medium=referral&utm_source=ics&utm
 _campaign=ics
END:VEVENT
END:VCALENDAR
