BEGIN:VCALENDAR
VERSION:2.0
PRODID:-//https://techplay.jp//JP
CALSCALE:GREGORIAN
METHOD:PUBLISH
X-WR-CALDESC:Qlik Replicateを基礎から学ぶ勉強会#11 - Google BigQu
 ery/Cloud Storage・DB2 for LUWエンドポイントと利用編（無料
 Webセミナー）
X-WR-CALNAME:Qlik Replicateを基礎から学ぶ勉強会#11 - Google BigQu
 ery/Cloud Storage・DB2 for LUWエンドポイントと利用編（無料
 Webセミナー）
X-WR-TIMEZONE:Asia/Tokyo
BEGIN:VTIMEZONE
TZID:Asia/Tokyo
BEGIN:STANDARD
DTSTART:19700101T000000
TZOFFSETFROM:+0900
TZOFFSETTO:+0900
TZNAME:JST
END:STANDARD
END:VTIMEZONE
BEGIN:VEVENT
UID:837193@techplay.jp
SUMMARY:Qlik Replicateを基礎から学ぶ勉強会#11 - Google BigQuery/C
 loud Storage・DB2 for LUWエンドポイントと利用編（無料Web
 セミナー）
DTSTART;TZID=Asia/Tokyo:20211111T140000
DTEND;TZID=Asia/Tokyo:20211111T150000
DTSTAMP:20260419T231258Z
CREATED:20211102T052139Z
DESCRIPTION:イベント詳細はこちら\nhttps://techplay.jp/event/83719
 3?utm_medium=referral&utm_source=ics&utm_campaign=ics\n\nQlik Replicate
 を基礎から学ぶ勉強会#11 - Google BigQuery/Cloud Storage・DB2 f
 or LUWエンドポイントと利用編（無料Webセミナー）\n概
 要\nQlik Replicateを基礎から学ぶ勉強会の第11回目では、G
 oogle Cloud BigQuery、Google Cloud Storage、およびIBM DB2 for LUWエ
 ンドポイントの設定・利用方法について解説します。\
 nQlik Replicateは多種多様なデータベース、データウェア
 ハウス、ビッグデータプラットフォーム間ででデータ
 レプリケーションやストリーミング処理を簡単な操作
 で行うための製品です。エージェントレスの技術によ
 りデータソースへの負荷や影響を最小限にしながら、
 高速に異種システム間でデータ転送を行うことができ
 ます。\nこのウェブセミナーシリーズでは、体系的か
 つ全体的なQlik Replicate製品に対するスキル習得を目的
 とし、複数回に分けて様々なトピックについて扱って
 いきます。\n\nまず、Qlik Replicateの基礎的な操作から始
 め、タスク設定や実行オプションの詳細、様々なエン
 ドポイントの設定方法（Microsoft SQL、Oracle、DB2、Snowflake
 、Snowflake、Azure Synapse、Hadoop、SAP、Kafkaなど）、ファイ
 ルチャネルやログストリームといったより高度な内容
 を各セッションで扱っていく予定となっています。定
 期的に開催されるこの勉強会に継続的にご参加頂くこ
 とで、網羅的にQlik Replicateの知識を習得頂ける形の内
 容をご提供していく予定としています。\nタイムスケ
 ジュール\n\n\n\n時間\n内容\n\n\n\n\n14:00〜15:00\nGoogle Cloud B
 igQueryのターゲットエンドポイントとしての利用Google Cl
 oud Storageのターゲットエンドポイントとしての利用DB2 f
 or LUWのソースエンドポイントとしての利用\n\n\n\n※ 当
 日予告なく時間配分・内容が変更になる可能性がござ
 います。\n登壇者\n\n濱野 正樹\nクリックテック・ジャ
 パン株式会社ソリューション技術部 部長\n2014年2月ク
 リックテック・ジャパン入社。Qlik製品の大規模エンタ
 ープライズ提案やプロジェクトを支援するとともに、
 各種カンファレンスやコミュニティサイトなどを通じ
 て技術情報を発信している。日本IBM株式会社でハード
 ウェア製品やデータ統合製品の技術を担当。プログレ
 ス・テクノロジーズ株式会社でのテクノロジー・セン
 ター長としての技術組織のマネジメントや、IMS Japan株
 式会社（現IQVIAソリューションズジャパン株式会社）
 での大手製薬企業向けグローバルBI/DWHシステム構築の
 プロジェクトマネージャーなどを歴任。筑波大学MBA（I
 nternational Business）修了。\n\n\n高橋 智宏\nクリックテッ
 ク・ジャパン株式会社テクニカルエキスパート(&シニ
 アOEMソリューションアーキテクト)\n2015年4月クリック
 テック・ジャパン入社。建築・測量CADの開発や、複合
 機の組込みシステム開発などに従事した後、Borland/CodeG
 ear/Embarcadero TechnologiesのEvangelist(&Consultant&Trainer etc.)を経
 て、QlikTechのTechnical Expert(&Senior OEM SA)を担当。23年以上
 も続く「Java読書会BOF( http://www.javareading.com/bof/ )」の世
 話人でもある。\nFacebook: https://www.facebook.com/tomohiro.takaha
 shi.359/\nLinkedIn: https://www.linkedin.com/in/tomohiro-takahashi-39608b
 10/\nTwitter:  https://twitter.com/ttdummy\n\n\n参加対象\nデータ
 統合、データ移行、データ分析にご興味がある方、Qlik
 製品をお取り扱い頂いているパートナー様など、どな
 たでもご参加いただけます。お気軽にご参加ください
 。\n事前準備\nZoom（Web会議ツール）を使用します。あ
 らかじめご利用のPCやタブレット、スマートフォンに
 インストールをお願いします。当セミナーのURLはお申
 込みいただいた方に、セミナー開催日前日までにお知
 らせいたします。お申し込み後は当ページからもご参
 加いただけます。\n参加費\n無料
LOCATION:オンライン
URL:https://techplay.jp/event/837193?utm_medium=referral&utm_source=ics&utm
 _campaign=ics
END:VEVENT
END:VCALENDAR
