BEGIN:VCALENDAR
VERSION:2.0
PRODID:-//https://techplay.jp//JP
CALSCALE:GREGORIAN
METHOD:PUBLISH
X-WR-CALDESC:【受付中】オンラインMatterport Pro2(４K カメラ)
 製品説明会（無料）
X-WR-CALNAME:【受付中】オンラインMatterport Pro2(４K カメラ)
 製品説明会（無料）
X-WR-TIMEZONE:Asia/Tokyo
BEGIN:VTIMEZONE
TZID:Asia/Tokyo
BEGIN:STANDARD
DTSTART:19700101T000000
TZOFFSETFROM:+0900
TZOFFSETTO:+0900
TZNAME:JST
END:STANDARD
END:VTIMEZONE
BEGIN:VEVENT
UID:837328@techplay.jp
SUMMARY:【受付中】オンラインMatterport Pro2(４K カメラ)製品
 説明会（無料）
DTSTART;TZID=Asia/Tokyo:20211222T110000
DTEND;TZID=Asia/Tokyo:20211222T120000
DTSTAMP:20260421T142840Z
CREATED:20211103T110342Z
DESCRIPTION:イベント詳細はこちら\nhttps://techplay.jp/event/83732
 8?utm_medium=referral&utm_source=ics&utm_campaign=ics\n\nMatterport Pro2(
 4Kカメラ)がどのような商品なのか説明します。\n本説
 明会は、Zoomウェビナーのオンラインで行います。\nー
 ー概要ーー\n\n・Matterport Pro2とはどのような製品なのか
 \n・Matterport Pro2の特徴、活用方法、重要事項\n・Matterpor
 tの撮影～クラウド契約、その他サポートについて\n\n\n
 どのような方にお勧めか\nMatterport Pro2およびMapAnalyzeの
 導入をお考えの方は是非ご参加下さい。\nタイムスケ
 ジュール\n11:00-11:35  Matterport Pro2(4Kカメラ)および専用
 クラウドの製品説明11:35-11:40  質疑応答\n※ 当日予告
 なく時間配分・内容が変更になる可能性がございます
 。\n登壇者\n\n\n細谷 正広氏\nご参加をお待ちしており
 ます。\n\n参加対象・VR撮影機材のご購入をご検討の方
 ・インターネット上で展示場を作成されたい方・建設
 現場をVRで記録されたい方・不動産広告CGパース作成者
 ・Matterport製品をご購入をご検討中の方\n\n参照動画\nMat
 terport特別講習11月25日（木）13：00-14：00MPMapAnalyze（行
 動解析）について   講師：関　良平ArchiTwinについて
 （MatterportSDK開発事例）   講師：クリストファーズ・
 クリス氏“Scan to BIM（Revit連携）”　Matterportアドオン
 サービス 講師：関　良平“アンドロイド”のアプリ
 を使ってみて 講師：中山　智博　（株式会社exAgent）
 “ドールハウストリム（ β版）“ 講師：中山　智博
 　（株式会社exAgent）\nMatterport特別講習　 ”INSTA360/THETA
  とPro2の違いについて“10月27日（水）13：00－14：00\n〜
 第４回 　建築現場で革新をおこす【Matterportの紹介】
 ～　場所：Youtube Live日時：6月17日（木）13:00-15:00\nMatter
 port 製品説明会　【オンライン講習】タイトル：Matterpo
 rt 製品説明会月日：5月26日　11:00-11:30形式：オンライ
 ン講習\nタイトル：Matterport 製品説明会（短縮版）月日
 ：2021.5.26　11:00-12:00形式：オンライン講習\n【Matterport
 オンラインイベント】 Keep in touch Matterport【ライブ配信
 】2021年8月25日 13:00〜15:00https://youtu.be/3T1-bExw_jY\n（8/25　
 のオンラインイベントの内容）\nタイムテーブル1 Pro2
 販売&サポートについて\n2 撮影の仕方 〜徹底解説〜 （
 株式会社exAgent　中山智博氏）a.様々なエラーへの対処
 方法b.BLK360とPro2カメラの使い分けc. スマホでマイアル
 バム\n3 事例紹介など最新情報　　～Matterport Japan より
 ～　Matterport | マーターポート日本オフィス　　蕭　敬
 和\n4 ArchiTwinBasic & Pro　　　〜デジタルツインの世界〜
 スペース内にオブジェクト/画像/動画挿入バーチャル
 展示会の事例\n5 点群からBIM変換Matterport → PointCabへの
 連携\n6 行動解析MapAnalyze\n\nウェブサイト\n有限会社リ
 ビングCG Matterport 代理店\n製品特徴\nデータダウンロー
 ド(サンプル・解説書・利用規約など)サンプルデータ
 およびチラシ・解説書・利用規約をダウンロードでき
 ます。1 .サンプルデータ　（objファイル、xyzファイル
 、平面図、天伏図）2.チラシ（PDF）3.解説書（PDF）4.利
 用規約（PDF）\nMatterportトレーニング\nMatterportよくある
 ご質問集\nMatterport 行動解析Matterport Map Analyzeは、Matterpo
 rt Cloudと連携し、スペース内の利用者行動（導線・滞
 在時間など）をトラッキングし、分析・表示するツー
 ルです。このユーザ行動分析アプリケーションでVRで
 の展示をより活用し効果的な結果への追求が可能です
 。\nArchiTwin 解説動画https://youtu.be/eo9KKJp2sCU\n\n参加費\n無
 料\nハッシュタグ\n#techplayjp#Matterport#VR\n注意事項\n\nリ
 クルーティング、勧誘など、採用目的でのイベント参
 加はお断りしております。\nキャンセル待ち・補欠・
 落選の方はご参加いただくことが出来ませんのでご了
 承ください。\n欠席される場合は、お手数ですが速や
 かにキャンセル処理をお願い致します。\n無断キャン
 セルや欠席が続く場合、次回以降の参加をお断りさせ
 ていただく場合がございます。\n
LOCATION:オンライン
URL:https://techplay.jp/event/837328?utm_medium=referral&utm_source=ics&utm
 _campaign=ics
END:VEVENT
END:VCALENDAR
