BEGIN:VCALENDAR
VERSION:2.0
PRODID:-//https://techplay.jp//JP
CALSCALE:GREGORIAN
METHOD:PUBLISH
X-WR-CALDESC:データサイエンティスト OnLine交流会!!!
X-WR-CALNAME:データサイエンティスト OnLine交流会!!!
X-WR-TIMEZONE:Asia/Tokyo
BEGIN:VTIMEZONE
TZID:Asia/Tokyo
BEGIN:STANDARD
DTSTART:19700101T000000
TZOFFSETFROM:+0900
TZOFFSETTO:+0900
TZNAME:JST
END:STANDARD
END:VTIMEZONE
BEGIN:VEVENT
UID:837453@techplay.jp
SUMMARY:データサイエンティスト OnLine交流会!!!
DTSTART;TZID=Asia/Tokyo:20211119T193000
DTEND;TZID=Asia/Tokyo:20211119T210000
DTSTAMP:20260425T211134Z
CREATED:20211104T114552Z
DESCRIPTION:イベント詳細はこちら\nhttps://techplay.jp/event/83745
 3?utm_medium=referral&utm_source=ics&utm_campaign=ics\n\nAI / データ
 サイエンティスト OnLine交流会!!!\n概要\nAIやデータサイ
 エンスのことについてもっと知りたい！データサイエ
 ンティストの仕事ってどんなことをやるのだろう。未
 経験からデータサイエンティストへのキャリアチェン
 ジも視野に入れたい！という方を対象に「データサイ
 エンティストOnLine交流会!!!」を開催いたします。\n今
 回は、未経験からデータサイエンティストへとキャリ
 アチェンジに成功したメンバーと、新卒でデータサイ
 エンティストとして入社をし、現在は社内向けにデー
 タサイエンスの講師も担っているテクノプロ・デザイ
 ン社の現役データサイエンティストの計2名が登壇！\n
 また、来年の4月にデータサイエンティスト職を希望し
 て入社予定の内定者1名がみなさんを代表して参加をし
 、「テクノプロ・デザイン社でのデータサイエンティ
 ストのキャリア」をはじめとした気になることを質問
 していきます！\nベンダーやメーカーとは異なる「ア
 ウトソーシング企業ならでは」のデータサイエンティ
 ストの仕事ぶりやキャリアの築き方、入社後に受けら
 れる研修などの事例を（話せる範囲で）よりリアルに
 お話したいと思います！\nもちろん、みなさんからの
 ご質問にもお答えできる範囲でお答えしますので、お
 気軽にご参加ください。\n《こんな方へオススメ》・
 最近、データサイエンティストという話をよく聞くけ
 れど、どういう仕事か知りたい・データサイエンティ
 ストになるためにはどうすればよいのだろう・どうい
 う人がデータサイエンティストに向いているのか教え
 てほしい・データサイエンティストになるために、何
 をすればよいのかわからない・未経験からデータサイ
 エンティストへのキャリアチェンジはどうすればよい
 のだろう\nタイムスケジュール\n\n\n\n時間\n内容\n\n\n\n\n
 19時時30～19時45分\nオープニング（本イベントの説明・
 ご登壇者の紹介・弊社会社説明）\n\n\n19時19時45分～20
 時45分\nMEETUP・テクノプロ・デザイン社への入社の経緯
 ・データサイエンティストとしての仕事例・データサ
 イエンティストになるために必要なこと…etc状況によ
 り、時間前に終了もしくは時間を延長してお送りする
 場合がございます。\n\n\n20時20時45分～21時\nアンケート
 ご回答\n\n\n\n※ 当日予告なく時間配分・内容が変更に
 なる可能性がございます。\n登壇者\n\n林 啓吾\n1990年島
 根県生まれ。岡山大学大学院自然科学研究科修士課程
 修了後、メーカー系IT企業に入社し、システムエンジ
 ニアとしてITインフラの設計構築・運用保守業務に携
 わる。\n2018年11月にテクノプロ・デザイン社に転職し
 、協業先のALBERTにて通信業界の位置情報を扱った統計
 人口提供サービスの設計、開発、運用保守業務に従事
 。\n今後は自身の強みである位置情報に関する経験を
 軸としつつ、他業界を含む様々なデータ分析案件に携
 わっていきたい。\n\n\n\n宇都 貴裕\n1995年宮崎県生まれ
 。九州の大学卒業後、新卒として2018年にテクノス テ
 クノプロ・デザイン社に入社。\n協業先のALBERTにて小
 売業、通信業、金融業、製薬業など幅広いドメインで
 案件に従事。\n最近は社内外問わず、データサイエン
 ティスト育成事業をメインに業務を行う。\n週末はバ
 イクやスノボなどアウトドア系の趣味を通して満喫中
 。\n\n参加対象\n・新卒でデータサイエンティストのキ
 ャリアに興味がある方（23卒～25卒、文理問わず）・現
 在、就業しておりデータサイエンティストへのキャリ
 アチェンジに興味関心がある方（20代第二新卒）※リ
 クルーティングや勧誘、その他業者による採用目的で
 のイベント参加はお断りしております。\n参加費\n無料
 \n定員\n50名応募多数の場合、抽選とさせていただきま
 す。誠に申し訳ありませんが、抽選の結果は当選され
 た方のみに前日までにご連絡させていただきます。\n
 オンラインセミナーご参加までの流れ\n１）申込みボ
 タンより申込２）前日までにメールにてZOOMのアドレス
 をお送り致します。（@technopro.comからメール送信致し
 ます）３）当日メールに記載のアドレスをクリックし
 参加\n＜当日午前中になってもメールが届かない場合
 はお手数ですが下記までご連絡ください＞mail：web_mkt-d
 esign@technopro.comTEL:070-8694-0651（山口）/070-7540-8483（千葉
 ）\nお申込み期限\n2021年9月18日（木）\nよくある質問\n
 ・途中入場・退室をしても大丈夫ですか？　→途中入
 場・退室OKです。・カメラやマイクはONにしますか？　
 →カメラ、マイクはOFFにしてください。\nこのイベン
 トに参加をするメリットは何？＞データサイエンティ
 ストの仕事が分かる＞テクノプロが分かる＞データサ
 イエンティストのキャリアが分かる＞気軽に参加でき
 る＞コミュニケーションが取れる\nハッシュタグ\n#techp
 layjp\n注意事項\n\nこちらのイベントが、広報を目的と
 して撮影をさせていただく場合がございます。そちら
 をご了承いただける方のみご参加ください。\n講演内
 容やタイムスケジュールは変更となる可能性がござい
 ます。\n当日のイベント内容は、後日任意の媒体にて
 公開させて頂くことがあります。\nイベントは、止む
 を得ず中止させて頂く場合がございます。その際は、
 こちらからご連絡をさせていただきますのでご確認を
 お願いいたします。\n
LOCATION:オンライン
URL:https://techplay.jp/event/837453?utm_medium=referral&utm_source=ics&utm
 _campaign=ics
END:VEVENT
END:VCALENDAR
