BEGIN:VCALENDAR
VERSION:2.0
PRODID:-//https://techplay.jp//JP
CALSCALE:GREGORIAN
METHOD:PUBLISH
X-WR-CALDESC:WAP NLP Tech Talk#4 Sudachi ユーザーLT大会
X-WR-CALNAME:WAP NLP Tech Talk#4 Sudachi ユーザーLT大会
X-WR-TIMEZONE:Asia/Tokyo
BEGIN:VTIMEZONE
TZID:Asia/Tokyo
BEGIN:STANDARD
DTSTART:19700101T000000
TZOFFSETFROM:+0900
TZOFFSETTO:+0900
TZNAME:JST
END:STANDARD
END:VTIMEZONE
BEGIN:VEVENT
UID:837815@techplay.jp
SUMMARY:WAP NLP Tech Talk#4 Sudachi ユーザーLT大会
DTSTART;TZID=Asia/Tokyo:20211126T190000
DTEND;TZID=Asia/Tokyo:20211126T204000
DTSTAMP:20260421T183852Z
CREATED:20211108T061735Z
DESCRIPTION:イベント詳細はこちら\nhttps://techplay.jp/event/83781
 5?utm_medium=referral&utm_source=ics&utm_campaign=ics\n\nWAP NLP Tech Tal
 k\n株式会社ワークスアプリケーションズ・エンタープ
 ライズ 徳島人工知能NLP研究所が主催する自然言語処理
 に関する勉強会です。 第4回目は『Sudachi ユーザーLT大
 会』を開催します！\nSudachiユーザーの学生や研究者、
 エンジニアのみなさまを幅広くゲストに迎えLightning Tal
 k 形式にておこないます。\nSudachi をこんなふうに業務
 でつかっている、Sudachi でこんなことをしてみた、Sudac
 hi のこんなところがつらいなど、実際の活用方法や苦
 労したこと得られたメリットなどを、ユーザーのみな
 さんにざっくばらんにお話ししていただきます。\n今
 回もオンライン配信で実施します。自然言語処理の研
 究をされている方、ワークス徳島人工知能NLP研究所の
 活動に興味がある方、ぜひお気軽にご参加ください！\
 nまた、徳島人工知能NLP研究所を含めたワークスアプリ
 ケーションズ・エンタープライズのエンジニア向けの
 情報はこちらのTwitterアカウントからも今後発信してい
 きます。\nタイムテーブル\n\n\n\n時間\n内容\n登壇者\n\n\
 n\n\n19:00～19:05\n挨拶\n\n\n\n19:05～19:20\nSudachi×Elasticsearch
 への移行と医療検索システム精度改善\nエムスリー株
 式会社 po3rin\n\n\n19:20～19:35\nプラント知識の意味検索〜
 Sudachiを添えて\n横河電機株式会社 新美 誠\n\n\n19:35～19:
 50\nSudachi同義語辞書による分散表現の評価用データセ
 ット‘yamaMomo’の作成\n愛媛大学 野口 夏希\n\n\n19:50～20
 :05\nオープンソースとしてのSudachi\n株式会社Legalscape @so
 rami\n\n\n20:05～20:25\n質疑応答\n\n\n\n20:25～20:40\nSudachi 近
 況報告\nワークス徳島人工知能NLP研究所　髙岡一馬\n\n\
 n20:40\n終了\n\n\n\n\n発表資料\nSudachi×Elasticsearchへの移行
 と医療検索システム精度改善 / エムスリー株式会社 po3
 rin\nhttps://speakerdeck.com/po3rin/sudachixelasticsearchhefalseyi-xing-t
 oyi-liao-jian-suo-sisutemujing-du-gai-shan\nプラント知識の意味
 検索〜Sudachiを添えて / 横河電機株式会社 新美 誠\nhttps
 ://speakerdeck.com/mniimi/nlp-tech-talk-4-plant-knowledge-meaning-search-
 with-sudachi\nSudachi同義語辞書による分散表現の評価用デ
 ータセット‘yamaMomo’の作成 / 愛媛大学 野口 夏希\nhttp
 s://docs.google.com/presentation/d/10Rg0wzhm9F0kjTAMumvouPP-vZNdS1AJ5sFhq
 jaubcc/edit#slide=id.p\nオープンソースとしてのSudachi / @soram
 i\nhttps://speakerdeck.com/sorami/wap-nlp-tech-talk-number-4\nSudachi近
 況報告 / ワークス徳島人工知能NLP研究所　髙岡一馬\nht
 tps://speakerdeck.com/waptech/sudachijin-kuang-bao-gao-at-wap-nlp-tech-ta
 lk-number-4\n配信方法\nzoomでの配信を予定しています。登
 録者へは開催前日までに視聴用URLをご連絡いたします
 。\nワークス徳島人工知能NLP研究所について\n2017年2月
 に開設した自然言語処理に特化した研究開発機関です
 。\n人工知能、特に自然言語処理を活用した業務効率
 化・生産性向上を実現し、新しい働き方を提案するた
 めの研究、サービス開発を実施しています。成果の一
 部は商用利用可能なライセンスのOSSとして公開してい
 ます。\nhttps://www.worksap.co.jp/about/csr/nlp/activity/\nその他
 、注意事項\n\nご不明点・お困りごとなどございました
 ら、当イベントページの「イベントへのお問い合わせ
 」からご連絡ください\n
LOCATION:オンライン オンライン
URL:https://techplay.jp/event/837815?utm_medium=referral&utm_source=ics&utm
 _campaign=ics
END:VEVENT
END:VCALENDAR
