BEGIN:VCALENDAR
VERSION:2.0
PRODID:-//https://techplay.jp//JP
CALSCALE:GREGORIAN
METHOD:PUBLISH
X-WR-CALDESC:【Qlik ヘルスケア勉強会】DIYでDPCデータを活用
 ~様式1、EFファイルで作るセルフメイドダッシュボード
X-WR-CALNAME:【Qlik ヘルスケア勉強会】DIYでDPCデータを活用
 ~様式1、EFファイルで作るセルフメイドダッシュボード
X-WR-TIMEZONE:Asia/Tokyo
BEGIN:VTIMEZONE
TZID:Asia/Tokyo
BEGIN:STANDARD
DTSTART:19700101T000000
TZOFFSETFROM:+0900
TZOFFSETTO:+0900
TZNAME:JST
END:STANDARD
END:VTIMEZONE
BEGIN:VEVENT
UID:837914@techplay.jp
SUMMARY:【Qlik ヘルスケア勉強会】DIYでDPCデータを活用~様
 式1、EFファイルで作るセルフメイドダッシュボード
DTSTART;TZID=Asia/Tokyo:20211124T180000
DTEND;TZID=Asia/Tokyo:20211124T190000
DTSTAMP:20260420T154600Z
CREATED:20211109T023106Z
DESCRIPTION:イベント詳細はこちら\nhttps://techplay.jp/event/83791
 4?utm_medium=referral&utm_source=ics&utm_campaign=ics\n\n【Qlik ヘル
 スケア勉強会】DIYでDPCデータを活用~様式1、EFファイル
 で作るセルフメイドダッシュボード\n概要\n★18時開始
 となっています。ご注意ください。第8回目のヘルスケ
 ア勉強会からはDPCデータの様式1やEFファイルの分析に
 入っていきたいと思います。とは言いましても、私た
 ちは専門家ではありませんので、よちよち歩きです。
 まず、どのようなデータかの確認、各ファイルを分析
 しやすい形式にするにはどうしたらよいか、どのよう
 なことを分析すべきかなど、参考図書などを見ながら
 少しずつやっていきます。\n自院のデータを利用して
 みたいという方にはQlik Sense Desktopをお貸出ししますの
 でご連絡ください。一度アプリを作っておくと、毎月
 生成されるデータの取り込みはボタンを一回押すだけ
 になるので、分析に集中できますね。分析したら、あ
 の診療科部長に相談しよう、地域連携室にも相談しよ
 う、やりたいことが膨らみますね！という世界にいき
 たいと思っています。\n出来合いの分析では物足りな
 い、あんなこと、こんなこといろいろとアイデアを出
 し合って試してみましょう！事前にQlik Japan Healthcare Com
 munityにテーマに沿った質問をにあげていただくと、セ
 ミナーの中でご説明させていただく場合もあります。\
 nアジェンダ\n\nQlik Senseの概要\nDPCデータとは？\n様式1\,
  EFファイルなどのデータ構造\n分析のための前準備、
 どうしていこう？\n[加工編]（厚労省 病床機能報告）
 病床機能報告データの前処理（以外に簡単？！）の続
 き\nQ&A\n次回取り上げるテーマ\n\nファシリテーター\n\n
 村田　太郎\nクリックテック・ジャパン株式会社営業
 本部 Japan Sales Team Lead\nQlikに入社して5年、公共・ヘル
 スケア分野を中心に営業活動を実施。Communityサイトに
 、Qlik Healthcare Japanグループを立ち上げ、業界に役立つ
 情報を発信しています。自分でQlikアプリも作成してし
 まうクールな知性派。Awesome City Clubをこよなく愛する
 もんじゃの街の住人。\n参加対象\n医療関係者でデータ
 活用にご興味がある方、またQlik をご利用いただいて
 いる方、どなたでもご参加いただけます。お気軽にご
 参加ください。事前に下記よりQlik Sense 入門ハンズオ
 ンWebセミナーをご利用いただいてご体験頂くと、さら
 に当セミナーの内容をご活用いただけます。Qlik Sense Bu
 siness 入門 ハンズオン Web セミナー\n事前準備\nZoom（Web
 会議ツール）を使用します。あらかじめご利用のPCや
 タブレット、スマートフォンにインストールをお願い
 します。当セミナーのURLはお申込みいただいた方に、
 セミナー開催日前日までにお知らせいたします。お申
 し込み後は当ページからもご参加いただけます。\n参
 加費\n無料
LOCATION:オンライン
URL:https://techplay.jp/event/837914?utm_medium=referral&utm_source=ics&utm
 _campaign=ics
END:VEVENT
END:VCALENDAR
