BEGIN:VCALENDAR
VERSION:2.0
PRODID:-//https://techplay.jp//JP
CALSCALE:GREGORIAN
METHOD:PUBLISH
X-WR-CALDESC:「事前に把握したい！オープンイノベーショ
 ンの成功事例と失敗事例」 | Innovator's Academy vol.13
X-WR-CALNAME:「事前に把握したい！オープンイノベーショ
 ンの成功事例と失敗事例」 | Innovator's Academy vol.13
X-WR-TIMEZONE:Asia/Tokyo
BEGIN:VTIMEZONE
TZID:Asia/Tokyo
BEGIN:STANDARD
DTSTART:19700101T000000
TZOFFSETFROM:+0900
TZOFFSETTO:+0900
TZNAME:JST
END:STANDARD
END:VTIMEZONE
BEGIN:VEVENT
UID:837975@techplay.jp
SUMMARY:「事前に把握したい！オープンイノベーションの
 成功事例と失敗事例」 | Innovator's Academy vol.13
DTSTART;TZID=Asia/Tokyo:20211124T110000
DTEND;TZID=Asia/Tokyo:20211124T120000
DTSTAMP:20260419T220938Z
CREATED:20211109T084544Z
DESCRIPTION:イベント詳細はこちら\nhttps://techplay.jp/event/83797
 5?utm_medium=referral&utm_source=ics&utm_campaign=ics\n\n「事前に把
 握したい！オープンイノベーションの成功事例と失敗
 事例」 | Innovator's Academy vol.13\n＜Innovator`s Academyとは＞\n
 イノベーションが首都圏のみならず全国規模で取り組
 まれ、スタートアップから事業会社、自治体に至るま
 で幅広く挑戦が繰り広げられるように。イノベーショ
 ンの成功例や失敗例、気をつけるべきポイントなど、
 経験豊富なゲストから様々なノウハウを持ち帰っても
 らう場。それが「Innovator's Academy」です。ユーザーのニ
 ーズが多様化している現代において、企業にも急速な
 変革が求められています。その中で注目されている「
 オープンイノベーション」。\nスタートアップ企業は
 もちろん、大企業や中小企業の多くでも注目・関心度
 は高いものの、実際にどう推進していけばいいのか分
 からないといった声が多いのが実情です。そこで本日
 はオープンイノベーションの成功・失敗とは？どのよ
 うにオープンイノベーションを推進していけばいいの
 か？というのを数々の事例から得た教訓を元に3社でデ
 ィスカッションし学べる時間にしていきます。\nぜひ
 今回のお話をご参考にしていただき、今後の新規事業
 ・オープンイノベーションを推進されていく際にお役
 立てください。\n登壇企業\n【Creww株式会社】Creww株式
 会社は「大挑戦時代をつくる。」をビジョンに掲げ 、
 スタートアップ、起業家、事業会社、個人を問わず、
 挑戦したいすべての人のトータルサポート企業として
 、国内最大級のオープンイノベーションプラットフォ
 ームを運営をしています。2012年の創業以来、企業とス
 タートアップによる新規事業創出を目的としたオープ
 ンイノベーションプログラムを250回以上実施し、これ
 まで約710件の協業を実現しています。現在、Crewwが運
 営するオープンイノベーションプラットフォームには
 約5600のスタートアップが登録しています。\n【株式会
 社ゼロワンブースター】「日本を事業創造できる国に
 して世界を変える」という企業理念のもと、大手企業
 とベンチャー企業が足りない部分を相互に補完し合い
 、イノベーションを共創し、事業の成長を加速するオ
 ープンイノベーションプログラム「コーポレートアク
 セラレーター」や社内起業家を発見・育成するプログ
 ラム「イントラプレナーアクセラレーター」を展開し
 ています。また、起業家や社内の事業開発担当者を育
 成するアクティブラーニングプログラム「01Dojo」の運
 営やベンチャー投資、大企業の人材のベンチャー留学
 など、事業領域を拡大中。また、2020年2月から、個人
 のアイディアを形にするワーキングコミュニティ「有
 楽町『SAAI』Wonder Working Community」の運営を行っています
 。\n【500 Global】500 Globalは、急成長中のテクノロジー企
 業の創業者に早期に投資するベンチャーキャピタルお
 よびエコシステムビルダー。500 Globalのチームメンバー
 は15カ国以上で活動しており、これまでに6\,000人以上
 の創業者を支援し、77カ国で2\,500社以上の企業を支援
 しています。ポートフォリオには、評価額10億ドル以
 上の企業が33社、評価額1億ドル以上の企業が120社含ま
 れています。政府・自治体のスタートアップエコシス
 テム形成の取り組みや事業会社のイノベーション活動
 の支援も行います。\nこんな方におすすめ\n・イノベー
 ション推進担当者・新規事業担当者・オープンイノベ
 ーションに興味があるスタートアップ\n開催概要\n開催
 日：2021年11月24日（水）11:00~12:00参加費：無料開催形式
 ：オンライン主催：Creww株式会社　株式会社ゼロワン
 ブースター　500 Global\n※本応募フォームで取得した回
 答内容および個人情報は、Creww株式会社および登壇者
 がお取扱いいたします。※当社のプライバシーポリシ
 ーに同意の上、お申し込みください。\n※本セミナー
 はオンラインWeb会議システム「Zoom」を利用して開催し
 ております。お申し込み後に、Zoomリンクおよび視聴方
 法をメールにてお送りいたします。\nトークセッショ
 ン\n・オープニング　- イベント概要　- 企業紹介・今
 注目されているオープンイノベーションとは？・オー
 プンイノベーションでの成功・失敗とは？・オープン
 イノベーションを推進する上での重要事項とは？\n登
 壇者\n\n江本 祐太朗 氏\nゼロワンブースター 営業チー
 ム　マネージャー\n電機メーカーグループにて、企業
 向けにデジタル技術をベースとした新規事業プロジェ
 クトの設計及び推進、また業務と並行しながら自ら新
 規事業立上げ活動を行う。2020年より01Boosterに参画。事
 業会社とスタートアップとのオープンイノベーション
 を行う、アクセラレーションプログラム運営、事業会
 社内の社内新規事業制度運営及びインキュベーション
 に従事。\n\n\n大出 歩美 氏\n500 Global 日本担当ディレク
 ター\n500 Globalの日本における大手企業のイノベーショ
 ン活動とスタートアップのエコシステム形成に関する
 取り組みに従事。これまで、クラウドサービスに特化
 したスタートアップではCEOの右腕として、教育系スタ
 ートアップでは最初の社員および創業メンバーとして
 、計10年近く創業社長と共に会社経営に携わった経験
 を持つ。\n\n\n木村 太一\nCreww株式会社 Open Innovation Dept. 
 CS Team Manager\n商社、総合系コンサルティングファーム
 を経験した後、Crewwの挑戦者を応援するvisionに共感し
 、2020年よりジョイン。Crewwでは、カスタマーサクセス
 チームに所属し、新事業創出を狙う事業会社のサポー
 トを実施。スタートアップと向き合うためのマインド
 セットや、新事業を創出するためのポイントを伝授し
 、共創プログラムの成功確度の向上に貢献している。\
 n\n\n注意事項\n\nリクルーティング、勧誘など、採用目
 的でのイベント参加はお断りしております。\nキャン
 セル待ち・補欠・落選の方はご参加いただくことが出
 来ませんのでご了承ください。\n欠席される場合は、
 お手数ですが速やかにキャンセル処理をお願い致しま
 す。\n無断キャンセルや欠席が続く場合、次回以降の
 参加をお断りさせていただく場合がございます。\n
LOCATION:オンライン
URL:https://techplay.jp/event/837975?utm_medium=referral&utm_source=ics&utm
 _campaign=ics
END:VEVENT
END:VCALENDAR
