BEGIN:VCALENDAR
VERSION:2.0
PRODID:-//https://techplay.jp//JP
CALSCALE:GREGORIAN
METHOD:PUBLISH
X-WR-CALDESC:コンテンツマーケティングのKW選定と記事案
 の作り方【効率化の必須ツールも紹介】
X-WR-CALNAME:コンテンツマーケティングのKW選定と記事案
 の作り方【効率化の必須ツールも紹介】
X-WR-TIMEZONE:Asia/Tokyo
BEGIN:VTIMEZONE
TZID:Asia/Tokyo
BEGIN:STANDARD
DTSTART:19700101T000000
TZOFFSETFROM:+0900
TZOFFSETTO:+0900
TZNAME:JST
END:STANDARD
END:VTIMEZONE
BEGIN:VEVENT
UID:838305@techplay.jp
SUMMARY:コンテンツマーケティングのKW選定と記事案の
 作り方【効率化の必須ツールも紹介】
DTSTART;TZID=Asia/Tokyo:20211202T120000
DTEND;TZID=Asia/Tokyo:20211202T130000
DTSTAMP:20260420T185915Z
CREATED:20211111T160250Z
DESCRIPTION:イベント詳細はこちら\nhttps://techplay.jp/event/83830
 5?utm_medium=referral&utm_source=ics&utm_campaign=ics\n\n時間　12:10 
 – 13:00 (12:00開場)場所　オンライン（ZOOM利用）費用　
 無料定員　先着30名様\nコロナ禍でインターネットのア
 クセスや消費が増え、「巣ごもり需要」という言葉も
 よく耳にするようになりました。ネット検索が増加す
 るなか、コンテンツマーケティングでWebからの集客ア
 ップを考えている企業が増えてきています。それでも
 何から始めたらいいのか、やり方も正しいのかわから
 ないまま、立ち止まってしまっている中小企業のWeb担
 当者やマーケティング担当者も多いのではないでしょ
 うか。本セミナーでは、コンテンツマーケティングの
 軸となる「キーワードの探し方と選び方」「記事案の
 作り方」について解説します。必須ツールの紹介も交
 えながら、これから初めて取り組む方にもわかりやす
 いようにスライドを使って解説しますので、Web集客に
 お困りの方はぜひご参加ください。\n＜こんな課題・
 悩みを持った方におすすめ＞・コンテンツマーケティ
 ングに取り組みたいけど、キーワードの正しい探し方
 や選び方がわからない方・を使った記事の設計手順に
 ついて理解を深めたい方・どんなツールを使って、キ
 ーワード選定や記事の作成をするのが効率的なのか知
 りたい方\n＜本セミナーを受講して得られるメリット
 ＞・コンテンツマーケティングのキーワードの探し方
 と選び方が学べる・ユーザーに刺さる記事案が作れる
 ようになる・効率化の必須ツールについて知れる
LOCATION:オンライン
URL:https://techplay.jp/event/838305?utm_medium=referral&utm_source=ics&utm
 _campaign=ics
END:VEVENT
END:VCALENDAR
