BEGIN:VCALENDAR
VERSION:2.0
PRODID:-//https://techplay.jp//JP
CALSCALE:GREGORIAN
METHOD:PUBLISH
X-WR-CALDESC:≪オンライン≫12/22（水）GVAスタートアップ・
 ビジネス交流会【オープンイノベーションの実現】
X-WR-CALNAME:≪オンライン≫12/22（水）GVAスタートアップ・
 ビジネス交流会【オープンイノベーションの実現】
X-WR-TIMEZONE:Asia/Tokyo
BEGIN:VTIMEZONE
TZID:Asia/Tokyo
BEGIN:STANDARD
DTSTART:19700101T000000
TZOFFSETFROM:+0900
TZOFFSETTO:+0900
TZNAME:JST
END:STANDARD
END:VTIMEZONE
BEGIN:VEVENT
UID:838586@techplay.jp
SUMMARY:≪オンライン≫12/22（水）GVAスタートアップ・ビ
 ジネス交流会【オープンイノベーションの実現】
DTSTART;TZID=Asia/Tokyo:20211222T190000
DTEND;TZID=Asia/Tokyo:20211222T210000
DTSTAMP:20260420T024739Z
CREATED:20211115T022836Z
DESCRIPTION:イベント詳細はこちら\nhttps://techplay.jp/event/83858
 6?utm_medium=referral&utm_source=ics&utm_campaign=ics\n\n一般社団法
 人グローバル･ベンチャー協会(略称ＧＶＡ)ならびに
 ＩＴサービス企業の株式会社うえじま企画は、「ＩＴ
 を活用して社会に貢献する」という経営理念のもと共
 催で、ベンチャー企業の創業と成長を支援するため、
 「スタートアップ・ビジネス交流会」を開催致してお
 ります。\n「スタートアップ・ビジネス交流会」では
 、会社設立、販路開拓、資金調達、成功ノウハウの提
 供など、オープンイノベーションで、情報共有や連携
 を深め、参加者の起業支援や参加企業の成長支援を致
 しております。また、グローバルで活躍するベンチャ
 ー企業との協業を支援しております。\n是非、「スタ
 ートアップ・ビジネス交流会」にお気軽にご参加くだ
 さい。\n背景\n平成２９年２月経済産業省「イノベーシ
 ョン・ベンチャー政策について」でべンチャー企業に
 関して下記の課題と政策が報告されています。\n(1)世
 界のトップ企業について、⽶国では約1/3が1980年以降に
 設⽴されている⼀⽅、⽇本では約1/6に留まっており、
 グローバルで通⽤するベンチャー企業の創出・育成も
 課題。\n(2)国内市場がある程度の規模があるため、⼩
 さくまとまるビジネスモデルが多い。また、グローバ
 ルな市場や拠点とのつながりが⼩さく、グローバルな
 視野を持った⼈材が少ない。\n(3)我が国社会において
 は、起業が職業の選択肢となっておらず、新しいこと
 に挑戦する起業家精神が低調。また、⼤企業を含め、
 新たな事業を⽣み出すノウハウを持つ⼈材の層が薄い
 。\n(4)シリコンバレーと日本の起業家・企業をつなぐ
 ことで、世界市場で打ち勝つベンチャー企業等の創出
 及びグローバルに通⽤しロールモデルとなるイノベー
 ターの基礎集団の形成及びグローバルで活躍するベン
 チャーの創出を促進する。\n(5)今後の⽇本経済を⽀え
 、グローバルにインパクトを⽣み出す起業家やベンチ
 ャー企業、イノベーション企業が⾃律的・連続的に⽣
 み出す社会を構築し、より便利でより豊かな国⺠⽣活
 を実現するため、様々な政策を統合的に実施する。\n
 過去のイベント風景\n\n\n*コロナ前に現地で開催した際
 の写真です\nタイムスケジュール\n１９：００～　スタ
 ートアップ･ピッチ\n≪企業プレゼン≫\n\n\nデルフィ
 ーコンサルティング株式会社「すごい会議」で経営改
 善をするマネジメント層へのコーチングについて\n\n株
 式会社ガッツソウルカンパニー自社で17年テレワーク
 を行ってきたノウハウが詰まったテレワークツール「
 テレワンプラス」について\n\nMoon Creative Lab Inc.自由に
 ワークプレイスを探せるアプリ「Suup」 について・グ
 ローバル・ベンチャー協会理事長挨拶・GVA協会のご案
 内２０：００～　オンライン飲み会・参加スタートア
 ップ企業との名刺交換、親睦会２１：００　　終了\n\n
 ＊どちらかのイベントのみの参加、オンライン飲み会
 からの参加など途中参加・退場もOK＊ 当日予告なく時
 間配分・内容が変更になる可能性がございます。＊各
 自お飲み物・おつまみ等、事前のご用意をお忘れなく
 ！\n参加対象\n・IT企業ならびにベンチャー経営者の方
 、またはこれから起業を目指す方・自社の業績を向上
 を目指している経営者・管理職の方・オープンイノベ
 ーションで事業を展開したい経営者・管理職の方・Ｉ
 Ｔ部門の責任者の方で、ＩＴ開発保守費用の低減化を
 実現したい方・地方での人材採用促進や事業展開をし
 たい経営企画ならびに人事部門の方・資金調達につい
 てご興味をお持ちの方・IT企業ならびにベンチャーや
 起業に興味のある学生や個人事業主の方・上場企業や
 ＶＣの新規事業担当者で、ベンチャー企業への投資お
 よび業務提携を検討中の方・大学教授および大学関係
 者で起業を予定している方\n主催者\n一般社団法人グロ
 ーバル･ベンチャー協会株式会社うえじま企画　ITビ
 ジネス大学代表者　略歴\n■相互協力団体一般社団法
 人情報処理学会(ＩＰＳ)モバイルコンピューティグ推
 進コンソーシアム(MCPC)一般社団法人日本ＰＭＩ支部伊
 豆に創癒の隠れ郷 水生の庄　公式HP　楽天トラベル　
 じゃらん伊豆の漁師バル おためし屋\n注意事項\n※イ
 ベント当日の様子は後日なんらかの媒体に掲載させて
 いただく場合がございます。※ 無断キャンセル・欠席
 が続く場合、次回以降の参加をお断りさせていただく
 場合がございます。何卒ご理解とご協力をお願い致し
 ます。\nハッシュタグ\n#一般社団法人グローバルベン
 チャー協会 #うえじま企画 #ＩＴプロフェッショナル倶
 楽部 #水生の庄 #伊豆 #稲取 #スタートアップ #ITビジネ
 ス大学 #ITエンジニア #ITコンサルタント #先端IT人材 #AI
  #IoT #ブロックチェーン #クラウド #VR #AR #量子コンピュ
 ーター #ローカル５Ｇ #セキュリティ #Fintech #デジタル
 マーケティング #GVA #UEJIMA #IPS #MCPC #ビジネス交流会 #人
 脈づくり #グローバル #交流会 #業績向上 #資金調達 #ベ
 ンチャー企業 #中小中堅企業 #経営者 #管理職 #起業 #起
 業家 #スタートアップ #ワンステップアップ #スタート
 アップビジネス交流会 #東京 #起業家育成 #活躍支援 #
 人事 #採用 #人材育成 #組織力 #組織力向上 #オンライン
LOCATION:
URL:https://techplay.jp/event/838586?utm_medium=referral&utm_source=ics&utm
 _campaign=ics
END:VEVENT
END:VCALENDAR
