BEGIN:VCALENDAR
VERSION:2.0
PRODID:-//https://techplay.jp//JP
CALSCALE:GREGORIAN
METHOD:PUBLISH
X-WR-CALDESC:11月24日(水)18時〜開催【Yappli×Curations共同ウェ
 ビナー】アプリ活用がビジネスモデル変革をリードす
 る 成熟企業のDX、はじめの一歩とは？
X-WR-CALNAME:11月24日(水)18時〜開催【Yappli×Curations共同ウェ
 ビナー】アプリ活用がビジネスモデル変革をリードす
 る 成熟企業のDX、はじめの一歩とは？
X-WR-TIMEZONE:Asia/Tokyo
BEGIN:VTIMEZONE
TZID:Asia/Tokyo
BEGIN:STANDARD
DTSTART:19700101T000000
TZOFFSETFROM:+0900
TZOFFSETTO:+0900
TZNAME:JST
END:STANDARD
END:VTIMEZONE
BEGIN:VEVENT
UID:838740@techplay.jp
SUMMARY:11月24日(水)18時〜開催【Yappli×Curations共同ウェビナ
 ー】アプリ活用がビジネスモデル変革をリードする 成
 熟企業のDX、はじめの一歩とは？
DTSTART;TZID=Asia/Tokyo:20211124T180000
DTEND;TZID=Asia/Tokyo:20211124T190000
DTSTAMP:20260425T155237Z
CREATED:20211116T025729Z
DESCRIPTION:イベント詳細はこちら\nhttps://techplay.jp/event/83874
 0?utm_medium=referral&utm_source=ics&utm_campaign=ics\n\nアプリ活用
 がビジネスモデル変革をリードする 成熟企業のDX、は
 じめの一歩とは？\nDXはコスト削減から、新たな収益創
 出のステージへと進化しています。この「攻めのDX」
 は、単なるデジタル活用ではなくビジネスモデル変革
 を伴うもので、多くの企業が実現に苦戦しています。
 本セミナーでは、攻めのDXの本質を明らかにしながら
 、アプリ（自社アプリ）を起点に第一歩を踏み出すた
 めのヒントと事例をご提供します。\n【このような方
 におすすめ】・経営者・新規事業責任者・経営企画室
 長・DX推進責任者・事業担当執行役員・プロジェクト
 マネージャー\n【スピーカー】\nキュレーションズ株式
 会社　 プリンシパル　荒井 宏之 Hiroyuki Pinky Arai新規事
 業の何でも屋。スタートアップ複数社にてWeb、O2O、IP
 ライツ、コンテンツ、食品、健康食品、化粧品、ファ
 ッションなどの事業立ち上げを経験した後、成熟事業
 を持つ大手企業に対して外部パートナーとして、新規
 事業領域の戦略策定、研修・セミナーの企画・運営、
 事業創造プログラムの企画・運営、ビジネスデザイン
 などを通じて、成熟事業のデジタルを活用したビジネ
 ス・トランスフォーメーションの実現に注力。\n株式
 会社ヤプリ マーケティング本部 マーケティングスペ
 シャリスト 島袋 孝一2004年商業ディベロッパー「株式
 会社パルコ」入社。店舗リーシング・販促宣伝、経営
 企画室を経て、2013年よりデジタルマーケティングに従
 事。2016年総合飲料メーカー「キリン株式会社」に入社
 。グループを横断するデジタルマーケティング部に所
 属。LINE公式アカウント、SNS運営に従事。2019年1月より
 「株式会社ヤプリ」にコミュニケーション本部 マーケ
 ティングスペシャリストとして参画。\n【開催概要】\n
 開催日： 2021年11月24日（水）18:00-19:00参加料：無料視
 聴方法：Zoomでのオンライン配信\n
LOCATION:オンライン(ZOOM Webinar)
URL:https://techplay.jp/event/838740?utm_medium=referral&utm_source=ics&utm
 _campaign=ics
END:VEVENT
END:VCALENDAR
